BEGIN:VCALENDAR
VERSION:2.0
PRODID:-//Virginia Peninsula Community College - ECPv6.15.17//NONSGML v1.0//EN
CALSCALE:GREGORIAN
METHOD:PUBLISH
X-ORIGINAL-URL:https://www.vpcc.edu
X-WR-CALDESC:Events for Virginia Peninsula Community College
REFRESH-INTERVAL;VALUE=DURATION:PT1H
X-Robots-Tag:noindex
X-PUBLISHED-TTL:PT1H
BEGIN:VTIMEZONE
TZID:America/New_York
BEGIN:DAYLIGHT
TZOFFSETFROM:-0500
TZOFFSETTO:-0400
TZNAME:EDT
DTSTART:20240310T070000
END:DAYLIGHT
BEGIN:STANDARD
TZOFFSETFROM:-0400
TZOFFSETTO:-0500
TZNAME:EST
DTSTART:20241103T060000
END:STANDARD
BEGIN:DAYLIGHT
TZOFFSETFROM:-0500
TZOFFSETTO:-0400
TZNAME:EDT
DTSTART:20250309T070000
END:DAYLIGHT
BEGIN:STANDARD
TZOFFSETFROM:-0400
TZOFFSETTO:-0500
TZNAME:EST
DTSTART:20251102T060000
END:STANDARD
BEGIN:DAYLIGHT
TZOFFSETFROM:-0500
TZOFFSETTO:-0400
TZNAME:EDT
DTSTART:20260308T070000
END:DAYLIGHT
BEGIN:STANDARD
TZOFFSETFROM:-0400
TZOFFSETTO:-0500
TZNAME:EST
DTSTART:20261101T060000
END:STANDARD
END:VTIMEZONE
BEGIN:VEVENT
DTSTART;TZID=America/New_York:20250616T180000
DTEND;TZID=America/New_York:20250616T210000
DTSTAMP:20260420T180620
CREATED:20250516T194527Z
LAST-MODIFIED:20250516T194527Z
UID:10000341-1750096800-1750107600@www.vpcc.edu
SUMMARY:Tech+ Certification Program
DESCRIPTION:Level Up Your Tech Skills This Summer!\nJoin the Tech+ Certification Program – a dynamic\, live online course designed to boost your career in just 6 weeks! \n\nDates: June 16 – July 23\, 2025\nLocation: Online (Live Sessions)\n\nSchedule:\n• Mondays & Wednesdays | 6:00 PM – 9:00 PM\n• Fridays | Quick Check-In | 5:00 PM – 5:30 PM \nPerfect for working professionals and aspiring tech leaders! Don’t miss this opportunity to grow your skills and network with industry experts. \nDETAILS: https://www.vpcc.edu/workforce-development/workforce-schedule/
URL:https://www.vpcc.edu/event/tech-certification-program/
LOCATION:Virginia Peninsula Communty College\, 99 Thomas Nelson Drive\, Hampton\, VA\, 23666\, United States
CATEGORIES:General,Workforce Development
ATTACH;FMTTYPE=image/jpeg:https://www.vpcc.edu/wp-content/uploads/2025/05/comp-tia.jpg
END:VEVENT
END:VCALENDAR