BEGIN:VCALENDAR
VERSION:2.0
PRODID:-//Virginia Peninsula Community College - ECPv6.15.17//NONSGML v1.0//EN
CALSCALE:GREGORIAN
METHOD:PUBLISH
X-WR-CALNAME:Virginia Peninsula Community College
X-ORIGINAL-URL:https://www.vpcc.edu
X-WR-CALDESC:Events for Virginia Peninsula Community College
REFRESH-INTERVAL;VALUE=DURATION:PT1H
X-Robots-Tag:noindex
X-PUBLISHED-TTL:PT1H
BEGIN:VTIMEZONE
TZID:America/New_York
BEGIN:DAYLIGHT
TZOFFSETFROM:-0500
TZOFFSETTO:-0400
TZNAME:EDT
DTSTART:20240310T070000
END:DAYLIGHT
BEGIN:STANDARD
TZOFFSETFROM:-0400
TZOFFSETTO:-0500
TZNAME:EST
DTSTART:20241103T060000
END:STANDARD
BEGIN:DAYLIGHT
TZOFFSETFROM:-0500
TZOFFSETTO:-0400
TZNAME:EDT
DTSTART:20250309T070000
END:DAYLIGHT
BEGIN:STANDARD
TZOFFSETFROM:-0400
TZOFFSETTO:-0500
TZNAME:EST
DTSTART:20251102T060000
END:STANDARD
BEGIN:DAYLIGHT
TZOFFSETFROM:-0500
TZOFFSETTO:-0400
TZNAME:EDT
DTSTART:20260308T070000
END:DAYLIGHT
BEGIN:STANDARD
TZOFFSETFROM:-0400
TZOFFSETTO:-0500
TZNAME:EST
DTSTART:20261101T060000
END:STANDARD
END:VTIMEZONE
BEGIN:VEVENT
DTSTART;TZID=America/New_York:20250902T110000
DTEND;TZID=America/New_York:20250902T140000
DTSTAMP:20260420T055404
CREATED:20250828T202432Z
LAST-MODIFIED:20250828T203018Z
UID:10000855-1756810800-1756821600@www.vpcc.edu
SUMMARY:Food Truck at Historic Triangle Campus
DESCRIPTION:On September 2 at lunch time\, the Get Cheesy Food Truck will be at the Historic Triangle Campus\, parked near the main entrance. For more information about what they have to serve\, visit their Facebook page.
URL:https://www.vpcc.edu/event/food-truck-at-historic-triangle-campus-8/
LOCATION:Historic Triangle Campus\, 4601 Opportunity Way\, Williamsburg\, VA\, 23188\, United States
CATEGORIES:General
ATTACH;FMTTYPE=image/jpeg:https://www.vpcc.edu/wp-content/uploads/2025/08/food-truck.jpg
END:VEVENT
BEGIN:VEVENT
DTSTART;TZID=America/New_York:20250908T110000
DTEND;TZID=America/New_York:20250908T140000
DTSTAMP:20260420T055404
CREATED:20250828T203159Z
LAST-MODIFIED:20250905T203414Z
UID:10000857-1757329200-1757340000@www.vpcc.edu
SUMMARY:Food Truck at Historic Triangle Campus
DESCRIPTION:On September 8 at lunch time\, the Mustard Seed Faith Food Truck will be at the Historic Triangle Campus\, parked near the main entrance.
URL:https://www.vpcc.edu/event/food-truck-at-historic-triangle-campus-9/
LOCATION:Historic Triangle Campus\, 4601 Opportunity Way\, Williamsburg\, VA\, 23188\, United States
CATEGORIES:General
ATTACH;FMTTYPE=image/jpeg:https://www.vpcc.edu/wp-content/uploads/2025/08/food-truck.jpg
END:VEVENT
BEGIN:VEVENT
DTSTART;TZID=America/New_York:20250909T110000
DTEND;TZID=America/New_York:20250909T140000
DTSTAMP:20260420T055404
CREATED:20250905T200103Z
LAST-MODIFIED:20250905T203345Z
UID:10000881-1757415600-1757426400@www.vpcc.edu
SUMMARY:Food Truck at the Historic Triangle Campus
DESCRIPTION:On September 9\, the Get Cheesy Food Truck will be serving at the Historic Triangle Campus in Williamsburg. For more information\, visit them on social media at https://www.facebook.com/GetCheesy/
URL:https://www.vpcc.edu/event/food-truck-at-the-historic-triangle-campus/
LOCATION:Historic Triangle Campus\, 4601 Opportunity Way\, Williamsburg\, VA\, 23188\, United States
CATEGORIES:General
ATTACH;FMTTYPE=image/jpeg:https://www.vpcc.edu/wp-content/uploads/2025/08/food-truck.jpg
END:VEVENT
BEGIN:VEVENT
DTSTART;TZID=America/New_York:20250909T130000
DTEND;TZID=America/New_York:20250909T140000
DTSTAMP:20260420T055404
CREATED:20250729T160325Z
LAST-MODIFIED:20250729T160341Z
UID:10000762-1757422800-1757426400@www.vpcc.edu
SUMMARY:Container Gardening at Historic Triangle Campus
DESCRIPTION:The VPCC Library in partnership with the James City County Williamsburg Master Gardener Association is offering an Introduction to Container Gardening class on Tuesday\, September 9 from 1 to 2 p.m. in the Historic Triangle Library Classroom\, Room 100M. The event is free and open to the public.
URL:https://www.vpcc.edu/event/container-gardening-at-historic-triangle-campus/
LOCATION:Historic Triangle Campus\, 4601 Opportunity Way\, Williamsburg\, VA\, 23188\, United States
CATEGORIES:Community,General
ATTACH;FMTTYPE=image/jpeg:https://www.vpcc.edu/wp-content/uploads/2025/07/gardening.jpg
END:VEVENT
BEGIN:VEVENT
DTSTART;TZID=America/New_York:20250910T110000
DTEND;TZID=America/New_York:20250910T140000
DTSTAMP:20260420T055404
CREATED:20250905T200222Z
LAST-MODIFIED:20250905T203635Z
UID:10000882-1757502000-1757512800@www.vpcc.edu
SUMMARY:Food Truck at the Historic Triangle Campus
DESCRIPTION:On September 10\, the Dominion Dogs Food Truck will be at the Historic Triangle Campus in Williamsburg. For more information\, visit their website at https://www.dominiondogs.com
URL:https://www.vpcc.edu/event/food-truck-at-the-historic-triangle-campus-2/
LOCATION:Historic Triangle Campus\, 4601 Opportunity Way\, Williamsburg\, VA\, 23188\, United States
CATEGORIES:General
ATTACH;FMTTYPE=image/jpeg:https://www.vpcc.edu/wp-content/uploads/2025/08/food-truck.jpg
END:VEVENT
BEGIN:VEVENT
DTSTART;TZID=America/New_York:20250911T110000
DTEND;TZID=America/New_York:20250911T140000
DTSTAMP:20260420T055404
CREATED:20250905T200511Z
LAST-MODIFIED:20250905T203704Z
UID:10000884-1757588400-1757599200@www.vpcc.edu
SUMMARY:Food Truck at the Historic Triangle Campus
DESCRIPTION:On September 11\, the Dominion Dogs Food Truck will return to the Historic Triangle Campus in Williamsburg. For more information\, visit their website at https://www.dominiondogs.com
URL:https://www.vpcc.edu/event/food-truck-at-the-historic-triangle-campus-3/
LOCATION:Historic Triangle Campus\, 4601 Opportunity Way\, Williamsburg\, VA\, 23188\, United States
CATEGORIES:General
ATTACH;FMTTYPE=image/jpeg:https://www.vpcc.edu/wp-content/uploads/2025/08/food-truck.jpg
END:VEVENT
BEGIN:VEVENT
DTSTART;TZID=America/New_York:20250917T110000
DTEND;TZID=America/New_York:20250917T140000
DTSTAMP:20260420T055404
CREATED:20250905T200756Z
LAST-MODIFIED:20250905T203733Z
UID:10000886-1758106800-1758117600@www.vpcc.edu
SUMMARY:Food Truck at the Historic Triangle Campus
DESCRIPTION:On September 17\, the Atomic Doggs Food Truck will be serving at the Hampton Campus. For more information\, visit them on social media at https://www.facebook.com/atomicdoggmobilecatering
URL:https://www.vpcc.edu/event/food-truck-at-the-historic-triangle-campus-4/
LOCATION:Historic Triangle Campus\, 4601 Opportunity Way\, Williamsburg\, VA\, 23188\, United States
CATEGORIES:General
ATTACH;FMTTYPE=image/jpeg:https://www.vpcc.edu/wp-content/uploads/2025/08/food-truck.jpg
END:VEVENT
BEGIN:VEVENT
DTSTART;TZID=America/New_York:20250918T110000
DTEND;TZID=America/New_York:20250918T140000
DTSTAMP:20260420T055404
CREATED:20250826T175115Z
LAST-MODIFIED:20250826T182215Z
UID:10000806-1758193200-1758204000@www.vpcc.edu
SUMMARY:Food Truck at Historic Triangle Campus
DESCRIPTION:On September 18\, Glo’s Eat and Go will be serving food at lunch time at the Historic Triangle Campus\, near the front parking lot.  For more information\, visit Glo’s Eat and Go on Facebook.
URL:https://www.vpcc.edu/event/food-truck-at-historic-triangle-campus-2/
LOCATION:Virginia Peninsula Communty College\, 99 Thomas Nelson Drive\, Hampton\, VA\, 23666\, United States
CATEGORIES:General
ATTACH;FMTTYPE=image/jpeg:https://www.vpcc.edu/wp-content/uploads/2025/08/food-truck.jpg
END:VEVENT
BEGIN:VEVENT
DTSTART;TZID=America/New_York:20250923T130000
DTEND;TZID=America/New_York:20250923T140000
DTSTAMP:20260420T055404
CREATED:20250709T160628Z
LAST-MODIFIED:20250920T220417Z
UID:10000371-1758632400-1758636000@www.vpcc.edu
SUMMARY:Fall 2025 Student Town Hall with President Brannon
DESCRIPTION:Fall 2025 – Historic Triangle Campus (HT): Tuesday\, September 23 at 1 p.m.\n\nIn person – HT Room 110\nVirtual watch party at Hampton campus- Kecoughtan Gallery\nZoom – https://vccs.zoom.us/j/88629953950
URL:https://www.vpcc.edu/event/fall-2025-student-town-hall-with-president-brannon/
LOCATION:Historic Triangle Campus\, 4601 Opportunity Way\, Williamsburg\, VA\, 23188\, United States
CATEGORIES:Community,General,Student Life
ATTACH;FMTTYPE=image/jpeg:https://www.vpcc.edu/wp-content/uploads/2025/07/dr-brannon.jpg
END:VEVENT
BEGIN:VEVENT
DTSTART;TZID=America/New_York:20250925T110000
DTEND;TZID=America/New_York:20250925T140000
DTSTAMP:20260420T055404
CREATED:20250826T175527Z
LAST-MODIFIED:20250826T182346Z
UID:10000810-1758798000-1758808800@www.vpcc.edu
SUMMARY:Food Truck at Historic Triangle Campus
DESCRIPTION:On September 25\, The Wandering Sausage will be serving food at lunch time at the Historic Triangle Campus\, near the front parking lot. For more information\, visit The Wandering Sausage on Facebook.
URL:https://www.vpcc.edu/event/food-truck-at-historic-triangle-campus-3/
LOCATION:Virginia Peninsula Communty College\, 99 Thomas Nelson Drive\, Hampton\, VA\, 23666\, United States
CATEGORIES:General
ATTACH;FMTTYPE=image/jpeg:https://www.vpcc.edu/wp-content/uploads/2025/08/food-truck.jpg
END:VEVENT
END:VCALENDAR