BEGIN:VCALENDAR
VERSION:2.0
PRODID:-//Virginia Peninsula Community College - ECPv6.15.17//NONSGML v1.0//EN
CALSCALE:GREGORIAN
METHOD:PUBLISH
X-ORIGINAL-URL:https://www.vpcc.edu
X-WR-CALDESC:Events for Virginia Peninsula Community College
REFRESH-INTERVAL;VALUE=DURATION:PT1H
X-Robots-Tag:noindex
X-PUBLISHED-TTL:PT1H
BEGIN:VTIMEZONE
TZID:UTC
BEGIN:STANDARD
TZOFFSETFROM:+0000
TZOFFSETTO:+0000
TZNAME:UTC
DTSTART:20230101T000000
END:STANDARD
END:VTIMEZONE
BEGIN:VEVENT
DTSTART;TZID=UTC:20241106T160000
DTEND;TZID=UTC:20241106T170000
DTSTAMP:20260419T205143
CREATED:20241101T193953Z
LAST-MODIFIED:20250302T182459Z
UID:10000028-1730908800-1730912400@www.vpcc.edu
SUMMARY:Tea with Dr. B
DESCRIPTION:President’s Leadership Series\nWednesday\, Nov. 6\, 2024\n4 p.m. \nHampton IV\, Room 4136\n521 Butler Farm Road\, Hampton\, VA 23666 \nLove\, Hurt and Healing\nJoin us for a panel discussion about the following: love and relationships\, what makes great\, long-lasting relationships\, how to recognize toxicity in relationships and how to help improve your relationships.\nLight refreshments will be served. \nPlease register here: https://forms.gle/DJ6Q1N82kPuMaDBZ9
URL:https://www.vpcc.edu/event/tea-with-dr-b/
CATEGORIES:Community,Faculty & Staff,General,Student Life
END:VEVENT
END:VCALENDAR