BEGIN:VCALENDAR
VERSION:2.0
PRODID:-//Virginia Peninsula Community College - ECPv6.15.17//NONSGML v1.0//EN
CALSCALE:GREGORIAN
METHOD:PUBLISH
X-WR-CALNAME:Virginia Peninsula Community College
X-ORIGINAL-URL:https://www.vpcc.edu
X-WR-CALDESC:Events for Virginia Peninsula Community College
REFRESH-INTERVAL;VALUE=DURATION:PT1H
X-Robots-Tag:noindex
X-PUBLISHED-TTL:PT1H
BEGIN:VTIMEZONE
TZID:America/New_York
BEGIN:DAYLIGHT
TZOFFSETFROM:-0500
TZOFFSETTO:-0400
TZNAME:EDT
DTSTART:20240310T070000
END:DAYLIGHT
BEGIN:STANDARD
TZOFFSETFROM:-0400
TZOFFSETTO:-0500
TZNAME:EST
DTSTART:20241103T060000
END:STANDARD
BEGIN:DAYLIGHT
TZOFFSETFROM:-0500
TZOFFSETTO:-0400
TZNAME:EDT
DTSTART:20250309T070000
END:DAYLIGHT
BEGIN:STANDARD
TZOFFSETFROM:-0400
TZOFFSETTO:-0500
TZNAME:EST
DTSTART:20251102T060000
END:STANDARD
BEGIN:DAYLIGHT
TZOFFSETFROM:-0500
TZOFFSETTO:-0400
TZNAME:EDT
DTSTART:20260308T070000
END:DAYLIGHT
BEGIN:STANDARD
TZOFFSETFROM:-0400
TZOFFSETTO:-0500
TZNAME:EST
DTSTART:20261101T060000
END:STANDARD
END:VTIMEZONE
BEGIN:VTIMEZONE
TZID:UTC
BEGIN:STANDARD
TZOFFSETFROM:+0000
TZOFFSETTO:+0000
TZNAME:UTC
DTSTART:20240101T000000
END:STANDARD
END:VTIMEZONE
BEGIN:VEVENT
DTSTART;TZID=America/New_York:20250402T050000
DTEND;TZID=America/New_York:20250402T190000
DTSTAMP:20260419T111331
CREATED:20250327T135659Z
LAST-MODIFIED:20250327T152032Z
UID:10000308-1743570000-1743620400@www.vpcc.edu
SUMMARY:Mandatory Info Session (Class ID 12961)
DESCRIPTION:SUMMER 2025 Info Sessions\n(Class ID 12961) \nHampton Campus: PWDC Room 1301\n600 Butler Farm Road\, Hampton\, VA 23666 \n\nVisit www.vpcc.edu/workforce-development/workforce-programs/\nCLICK REGISTER ONLINE\nCREATE WORKFORCE Account\nSEARCH ID of Info Session and ADD TO CART\n\nFor Additional Information:\nWFDinq@vpcc.edu • (757) 825-4070 • vpcc.edu/workforce
URL:https://www.vpcc.edu/event/mandatory-info-session-at-ht-class-id-12961/
LOCATION:Hampton Campus\, 99 Thomas Nelson Drive\, Hampton\, VA\, 23666\, United States
CATEGORIES:General,Workforce Development
ATTACH;FMTTYPE=image/jpeg:https://www.vpcc.edu/wp-content/uploads/2025/03/mand-info-session-event2.jpg
END:VEVENT
BEGIN:VEVENT
DTSTART;TZID=America/New_York:20250403T130000
DTEND;TZID=America/New_York:20250403T140000
DTSTAMP:20260419T111331
CREATED:20250326T213744Z
LAST-MODIFIED:20250327T152413Z
UID:10000180-1743685200-1743688800@www.vpcc.edu
SUMMARY:Becoming Financially Savvy with Rockell Bartoli
DESCRIPTION:Rockell Bartoli is the founder of The Scholar Budget\, a professional speaker\, author\, and scholarship coach. She will be on campus on Thursday\, April 3 at 1 p.m. on the Hampton Campus in Hampton IV\, Room 4136 to share her story and how her method can help you succeed! \nWin money while you learn about money management! \nSponsored by TRiO Student Support Services. \n  \n 
URL:https://www.vpcc.edu/event/becoming-financially-savy-with-rockell-bartoli/
LOCATION:Virginia Peninsula Communty College\, 99 Thomas Nelson Drive\, Hampton\, VA\, 23666\, United States
CATEGORIES:Community,General,Student Life
ATTACH;FMTTYPE=image/jpeg:https://www.vpcc.edu/wp-content/uploads/2025/03/rockell-bartoli.jpg
END:VEVENT
BEGIN:VEVENT
DTSTART;TZID=UTC:20250404T130000
DTEND;TZID=UTC:20250404T140000
DTSTAMP:20260419T111331
CREATED:20241101T192758Z
LAST-MODIFIED:20250302T182508Z
UID:10000024-1743771600-1743775200@www.vpcc.edu
SUMMARY:SGA Meeting
DESCRIPTION:SGA Meetings – Held on the first and third Fridays at 1:00 pm \nJoin the Student Government Association (SGA) meeting with the Student Senate and Executive Officers to discuss upcoming events and issues that impact Virginia Peninsula students on our campuses and within our communities. The SGA is the “Voice of the Students” so please take advantage of the opportunity to let us hear your voice! \nAll students are invited and welcome to attend! \nJoin Zoom Meeting:\nhttps://vccs.zoom.us/j/81697732476?pwd=QUJHYndxZjBvcWxFWm9CT1U0bzJJZz09\nMeeting ID: 816 9773 2476\nPasscode: 840867
URL:https://www.vpcc.edu/event/sga-meeting/2025-04-04/
CATEGORIES:General,Student Life
ATTACH;FMTTYPE=image/jpeg:https://www.vpcc.edu/wp-content/uploads/2024/11/sga-flyer.jpg
END:VEVENT
BEGIN:VEVENT
DTSTART;TZID=America/New_York:20250405T120000
DTEND;TZID=America/New_York:20250405T170000
DTSTAMP:20260419T111331
CREATED:20250320T200159Z
LAST-MODIFIED:20250327T152443Z
UID:10000162-1743854400-1743872400@www.vpcc.edu
SUMMARY:Prom Dress Giveaway at VPCC!
DESCRIPTION:We are excited to sponsor and host Cinderella’s Closet Prom Dress Giveaway on Saturday\, April 5\, at our Hampton Campus\, PWDC Conference Center\, 600 Butler Farm Road.\n\nWays to help:\n\nDONATE:  Email secretary@maidlynnscloset.org\nVOLUNTEER: Click on this LINK.\nSHARE: Send event flyer photo attached to a high school student attending a Peninsula school who wants to register for the Prom Dress Giveaway event.\nRESERVE A VPCC TABLE: Email Jonalyn Gore if you want to set up a table to share information about VPCC’s great programs and services with event guests.\n\nIf you have any questions\, please contact Jonalyn Gore at GoreJ@vpcc.edu.\n 
URL:https://www.vpcc.edu/event/prom-dress-giveaway-at-vpcc/
LOCATION:Peninsula Workforce Development Center\, 600 Butler Farm Road\, Suite A\, Hampton\, VA\, 23666\, United States
CATEGORIES:Community,General
ATTACH;FMTTYPE=image/jpeg:https://www.vpcc.edu/wp-content/uploads/2025/03/prom.jpg
END:VEVENT
BEGIN:VEVENT
DTSTART;TZID=America/New_York:20250409T100000
DTEND;TZID=America/New_York:20250409T140000
DTSTAMP:20260419T111331
CREATED:20250326T233840Z
LAST-MODIFIED:20250327T152639Z
UID:10000181-1744192800-1744207200@www.vpcc.edu
SUMMARY:Red Cross Blood Drive
DESCRIPTION:Wednesday\, April 9 \n10 a.m. – 2 p.m. \nHampton Campus\, Kecoughtan Gallery \nSave time and set your appointment here: \nhttps://www.redcrossblood.org/give.html/donation-time?zipSponsor=vpcc \nGive April 1 to 13 for a $15 Gift Card (email) plus the chance to win $5K prize. \nVisit rcblood.org/hope for details.
URL:https://www.vpcc.edu/event/red-cross-blood-drive/
LOCATION:Kecoughtan Hall\, Gallery\, 99 Thomas Nelson Drive\, Hampton\, VA\, 23666\, United States
CATEGORIES:General,Student Life
ATTACH;FMTTYPE=image/jpeg:https://www.vpcc.edu/wp-content/uploads/2025/03/blood-drive-event.jpg
END:VEVENT
BEGIN:VEVENT
DTSTART;TZID=America/New_York:20250411T110000
DTEND;TZID=America/New_York:20250411T130000
DTSTAMP:20260419T111331
CREATED:20250327T152815Z
LAST-MODIFIED:20250415T204251Z
UID:10000242-1744369200-1744376400@www.vpcc.edu
SUMMARY:Learn Tutoring
DESCRIPTION:Hampton Campus\, Kecoughtan Hall –  Room 228A \nSponsored by the Office of Student Life and Leadership and Tutoring Center
URL:https://www.vpcc.edu/event/lunch-learn-tutoring-3/
LOCATION:Kecoughtan Hall\, Gallery\, 99 Thomas Nelson Drive\, Hampton\, VA\, 23666\, United States
CATEGORIES:General,Student Life
ATTACH;FMTTYPE=image/jpeg:https://www.vpcc.edu/wp-content/uploads/2025/03/lunch-learn-event.jpg
END:VEVENT
BEGIN:VEVENT
DTSTART;TZID=UTC:20250411T130000
DTEND;TZID=UTC:20250411T140000
DTSTAMP:20260419T111331
CREATED:20241101T192758Z
LAST-MODIFIED:20250302T182508Z
UID:10000025-1744376400-1744380000@www.vpcc.edu
SUMMARY:SGA Meeting
DESCRIPTION:SGA Meetings – Held on the first and third Fridays at 1:00 pm \nJoin the Student Government Association (SGA) meeting with the Student Senate and Executive Officers to discuss upcoming events and issues that impact Virginia Peninsula students on our campuses and within our communities. The SGA is the “Voice of the Students” so please take advantage of the opportunity to let us hear your voice! \nAll students are invited and welcome to attend! \nJoin Zoom Meeting:\nhttps://vccs.zoom.us/j/81697732476?pwd=QUJHYndxZjBvcWxFWm9CT1U0bzJJZz09\nMeeting ID: 816 9773 2476\nPasscode: 840867
URL:https://www.vpcc.edu/event/sga-meeting/2025-04-11/
CATEGORIES:General,Student Life
ATTACH;FMTTYPE=image/jpeg:https://www.vpcc.edu/wp-content/uploads/2024/11/sga-flyer.jpg
END:VEVENT
BEGIN:VEVENT
DTSTART;TZID=America/New_York:20250416T110000
DTEND;TZID=America/New_York:20250416T150000
DTSTAMP:20260419T111331
CREATED:20250117T203648Z
LAST-MODIFIED:20250302T210707Z
UID:10000066-1744801200-1744815600@www.vpcc.edu
SUMMARY:Paws for Purple Hearts
DESCRIPTION:Service dogs will be present at the Military & Veteran Services Center (on Hampton Campus at Kecoughtan Hall\, Room 253) on Wednesday\, April 16\, from 11 a.m. to 3 p.m. While especially for students using military benefits\, this service is open to any student\, faculty or staff member who needs a little encouragement throughout their day. Contact the Military & Veteran Services team for details.
URL:https://www.vpcc.edu/event/paws-for-purple-hearts/
LOCATION:Hampton Campus\, 99 Thomas Nelson Drive\, Hampton\, VA\, 23666\, United States
CATEGORIES:General
ATTACH;FMTTYPE=image/jpeg:https://www.vpcc.edu/wp-content/uploads/2025/01/paws-purple-heart.jpg
END:VEVENT
BEGIN:VEVENT
DTSTART;TZID=UTC:20250418T130000
DTEND;TZID=UTC:20250418T140000
DTSTAMP:20260419T111331
CREATED:20241101T192758Z
LAST-MODIFIED:20250302T182508Z
UID:10000026-1744981200-1744984800@www.vpcc.edu
SUMMARY:SGA Meeting
DESCRIPTION:SGA Meetings – Held on the first and third Fridays at 1:00 pm \nJoin the Student Government Association (SGA) meeting with the Student Senate and Executive Officers to discuss upcoming events and issues that impact Virginia Peninsula students on our campuses and within our communities. The SGA is the “Voice of the Students” so please take advantage of the opportunity to let us hear your voice! \nAll students are invited and welcome to attend! \nJoin Zoom Meeting:\nhttps://vccs.zoom.us/j/81697732476?pwd=QUJHYndxZjBvcWxFWm9CT1U0bzJJZz09\nMeeting ID: 816 9773 2476\nPasscode: 840867
URL:https://www.vpcc.edu/event/sga-meeting/2025-04-18/
CATEGORIES:General,Student Life
ATTACH;FMTTYPE=image/jpeg:https://www.vpcc.edu/wp-content/uploads/2024/11/sga-flyer.jpg
END:VEVENT
BEGIN:VEVENT
DTSTART;TZID=America/New_York:20250423T100000
DTEND;TZID=America/New_York:20250423T130000
DTSTAMP:20260419T111331
CREATED:20250403T182049Z
LAST-MODIFIED:20250403T182049Z
UID:10000323-1745402400-1745413200@www.vpcc.edu
SUMMARY:University of Maryland Global Campus Transfer Officer visit
DESCRIPTION:A representative from the University of Maryland Global Campus will be on campus to talk to students about how they can transfer from VPCC to UMGC. The UMGC representative will be available to answer all sorts of questions about their programs\, and how our students can take advantage of transfer options.
URL:https://www.vpcc.edu/event/university-of-maryland-global-campus-transfer-officer-visit-2/
LOCATION:Virginia Peninsula Communty College\, 99 Thomas Nelson Drive\, Hampton\, VA\, 23666\, United States
CATEGORIES:Community,General,Student Life
ATTACH;FMTTYPE=image/jpeg:https://www.vpcc.edu/wp-content/uploads/2025/04/UMGC-event.jpg
END:VEVENT
BEGIN:VEVENT
DTSTART;TZID=America/New_York:20250423T170000
DTEND;TZID=America/New_York:20250423T190000
DTSTAMP:20260419T111331
CREATED:20250327T005128Z
LAST-MODIFIED:20250327T153552Z
UID:10000301-1745427600-1745434800@www.vpcc.edu
SUMMARY:Workforce Allied Health Info Session
DESCRIPTION:Interested in learning more about allied health certification training programs? Attend our upcoming information session held at our Peninsula Workforce Development Center building\, conference center 1301-1303.
URL:https://www.vpcc.edu/event/workforce-allied-health-info-session-2/
LOCATION:Peninsula Workforce Development Center\, 600 Butler Farm Road\, Suite A\, Hampton\, VA\, 23666\, United States
CATEGORIES:General,Student Life,Workforce Development
ATTACH;FMTTYPE=image/jpeg:https://www.vpcc.edu/wp-content/uploads/2025/03/mand-info-session-event2.jpg
END:VEVENT
BEGIN:VEVENT
DTSTART;TZID=UTC:20250425T130000
DTEND;TZID=UTC:20250425T140000
DTSTAMP:20260419T111331
CREATED:20241101T192758Z
LAST-MODIFIED:20250302T182508Z
UID:10000027-1745586000-1745589600@www.vpcc.edu
SUMMARY:SGA Meeting
DESCRIPTION:SGA Meetings – Held on the first and third Fridays at 1:00 pm \nJoin the Student Government Association (SGA) meeting with the Student Senate and Executive Officers to discuss upcoming events and issues that impact Virginia Peninsula students on our campuses and within our communities. The SGA is the “Voice of the Students” so please take advantage of the opportunity to let us hear your voice! \nAll students are invited and welcome to attend! \nJoin Zoom Meeting:\nhttps://vccs.zoom.us/j/81697732476?pwd=QUJHYndxZjBvcWxFWm9CT1U0bzJJZz09\nMeeting ID: 816 9773 2476\nPasscode: 840867
URL:https://www.vpcc.edu/event/sga-meeting/2025-04-25/
CATEGORIES:General,Student Life
ATTACH;FMTTYPE=image/jpeg:https://www.vpcc.edu/wp-content/uploads/2024/11/sga-flyer.jpg
END:VEVENT
BEGIN:VEVENT
DTSTART;TZID=America/New_York:20250426T090000
DTEND;TZID=America/New_York:20250426T120000
DTSTAMP:20260419T111331
CREATED:20250228T163118Z
LAST-MODIFIED:20250418T151948Z
UID:10000128-1745658000-1745668800@www.vpcc.edu
SUMMARY:OPEN HOUSE at the VPCC Hampton Campus
DESCRIPTION:DISCOVER WHAT VPCC HAS TO OFFER!\nAffordable tuition\, in-demand college transfer programs\, career programs\, athletics\, flexible class schedules\, and dedicated faculty \nREGISTER TO ATTEND:\nhttps://forms.office.com/r/3Y7TDBpkHx \nSaturday\, April 26\n9 a.m. – 12 p.m.\nat the Peninsula Workforce Development Center\n600 Butler Farm Road\, Hampton\, VA 23666 \nProspective students who are interested in our college credit programs are encouraged to complete the following steps before attending the Open House: \n\nComplete the VPCC Admissions Application\nActivate your myVPCC Account\n\nFOR MORE INFO: admissions@vpcc.edu
URL:https://www.vpcc.edu/event/open-house-at-the-vpcc-hampton-campus/
LOCATION:Peninsula Workforce Development Center\, 600 Butler Farm Road\, Suite A\, Hampton\, VA\, 23666\, United States
CATEGORIES:Admissions,General
ATTACH;FMTTYPE=image/jpeg:https://www.vpcc.edu/wp-content/uploads/2025/02/event-open-house.jpg
END:VEVENT
BEGIN:VEVENT
DTSTART;TZID=America/New_York:20250428T120000
DTEND;TZID=America/New_York:20250428T130000
DTSTAMP:20260419T111331
CREATED:20250417T182558Z
LAST-MODIFIED:20250418T153248Z
UID:10000329-1745841600-1745845200@www.vpcc.edu
SUMMARY:Denim Day! On April 28\, we wear denim
DESCRIPTION:APRIL IS SEXUAL ASSAULT AWARENESS MONTH \nJoin us to take a pledge of solidarity with survivors of sexual assault. \nWe will also share more information about the history of Denim Day. \nMonday\, April 28 12 – 1 p.m. Hampton Campus\, Kecoughtan Hall\, Gators Cafe \nRefreshments will be provided \nNote: Content Advisory \nSome information may elicit strong emotional reactions. \nPresented by Single Stop
URL:https://www.vpcc.edu/event/denim-day-on-april-28-we-wear-denim/
LOCATION:Gator’s Cafe\, 99 Thomas Nelson Drive\, Hampton\, VA\, 23666\, United States
CATEGORIES:Faculty & Staff,General,Student Life
ATTACH;FMTTYPE=image/jpeg:https://www.vpcc.edu/wp-content/uploads/2025/04/denim-day-event.jpg
END:VEVENT
BEGIN:VEVENT
DTSTART;TZID=America/New_York:20250429T130000
DTEND;TZID=America/New_York:20250429T170000
DTSTAMP:20260419T111331
CREATED:20250325T151514Z
LAST-MODIFIED:20250418T155248Z
UID:10000176-1745931600-1745946000@www.vpcc.edu
SUMMARY:GRAD EXPO 2025
DESCRIPTION:Congratulations Class of 2025! Mark your calendar today for GRAD EXPO! \nCandidates of graduation\, continue to check your Canvas account\, all Commencement 2025 information and event details will be added to your Canvas account. Information will include how to purchase your cap and gown\, event FAQ\, and more! \nFor more information on Commencement event\, visit our Commencement page. \nGRAD EXPO ACTIVITIES: \n\nGrad Cap Decorating\nPhoto Booth\nLight Refreshments\nHonor Cord & Stole Pickup (PTK\, SGA\, TRiO and Veteran)\nDegree Completion Status Check\nCheck-in with Academic Advising
URL:https://www.vpcc.edu/event/commencement-expo-2025/
LOCATION:Kecoughtan Hall\, Gallery\, 99 Thomas Nelson Drive\, Hampton\, VA\, 23666\, United States
CATEGORIES:Athletics,Commencement,General,Student Life,Workforce Development
ATTACH;FMTTYPE=image/jpeg:https://www.vpcc.edu/wp-content/uploads/2025/03/event-grad-expo.jpg
END:VEVENT
BEGIN:VEVENT
DTSTART;TZID=America/New_York:20250430T090000
DTEND;TZID=America/New_York:20250430T130000
DTSTAMP:20260419T111331
CREATED:20250325T153435Z
LAST-MODIFIED:20250418T155401Z
UID:10000177-1746003600-1746018000@www.vpcc.edu
SUMMARY:GRAD EXPO 2025
DESCRIPTION:Congratulations Class of 2025! Mark your calendar today for GRAD EXPO! \nCandidates of graduation\, continue to check your Canvas account\, all Commencement 2025 information and event details will be added to your Canvas account. Information will include how to purchase your cap and gown\, event FAQ\, and more! \nFor more information on Commencement event\, visit our Commencement page. \nGRAD EXPO ACTIVITIES: \n\nGrad Cap Decorating\nPhoto Booth\nLight Refreshments\nHonor Cord & Stole Pickup (PTK\, SGA\, TRiO and Veteran)\nDegree Completion Status Check\nCheck-in with Academic Advising\n\n 
URL:https://www.vpcc.edu/event/grad-expo-2025/
LOCATION:Kecoughtan Hall\, Gallery\, 99 Thomas Nelson Drive\, Hampton\, VA\, 23666\, United States
CATEGORIES:Athletics,Commencement,General,Student Life,Workforce Development
ATTACH;FMTTYPE=image/jpeg:https://www.vpcc.edu/wp-content/uploads/2025/03/event-grad-expo.jpg
END:VEVENT
END:VCALENDAR