BEGIN:VCALENDAR
VERSION:2.0
PRODID:-//Virginia Peninsula Community College - ECPv6.15.17//NONSGML v1.0//EN
CALSCALE:GREGORIAN
METHOD:PUBLISH
X-WR-CALNAME:Virginia Peninsula Community College
X-ORIGINAL-URL:https://www.vpcc.edu
X-WR-CALDESC:Events for Virginia Peninsula Community College
REFRESH-INTERVAL;VALUE=DURATION:PT1H
X-Robots-Tag:noindex
X-PUBLISHED-TTL:PT1H
BEGIN:VTIMEZONE
TZID:America/New_York
BEGIN:DAYLIGHT
TZOFFSETFROM:-0500
TZOFFSETTO:-0400
TZNAME:EDT
DTSTART:20240310T070000
END:DAYLIGHT
BEGIN:STANDARD
TZOFFSETFROM:-0400
TZOFFSETTO:-0500
TZNAME:EST
DTSTART:20241103T060000
END:STANDARD
BEGIN:DAYLIGHT
TZOFFSETFROM:-0500
TZOFFSETTO:-0400
TZNAME:EDT
DTSTART:20250309T070000
END:DAYLIGHT
BEGIN:STANDARD
TZOFFSETFROM:-0400
TZOFFSETTO:-0500
TZNAME:EST
DTSTART:20251102T060000
END:STANDARD
BEGIN:DAYLIGHT
TZOFFSETFROM:-0500
TZOFFSETTO:-0400
TZNAME:EDT
DTSTART:20260308T070000
END:DAYLIGHT
BEGIN:STANDARD
TZOFFSETFROM:-0400
TZOFFSETTO:-0500
TZNAME:EST
DTSTART:20261101T060000
END:STANDARD
END:VTIMEZONE
BEGIN:VEVENT
DTSTART;TZID=America/New_York:20251104T110000
DTEND;TZID=America/New_York:20251104T140000
DTSTAMP:20260422T191935
CREATED:20250826T183948Z
LAST-MODIFIED:20250826T183948Z
UID:10000824-1762254000-1762264800@www.vpcc.edu
SUMMARY:Food Truck at Hampton Campus
DESCRIPTION:On November 4\, J Hood’s Smokin Soul Food will be serving food at lunch time at the Hampton Campus near Hastings Hall. For more information\, visit J Hood’s Smokin Soul Food on Facebook.
URL:https://www.vpcc.edu/event/food-truck-at-hampton-campus-19/
LOCATION:Virginia Peninsula Communty College\, 99 Thomas Nelson Drive\, Hampton\, VA\, 23666\, United States
CATEGORIES:General
ATTACH;FMTTYPE=image/jpeg:https://www.vpcc.edu/wp-content/uploads/2025/08/food-truck.jpg
END:VEVENT
BEGIN:VEVENT
DTSTART;TZID=America/New_York:20251106T110000
DTEND;TZID=America/New_York:20251106T140000
DTSTAMP:20260422T191935
CREATED:20250826T184711Z
LAST-MODIFIED:20250826T184711Z
UID:10000825-1762426800-1762437600@www.vpcc.edu
SUMMARY:Food Truck at Hampton Campus
DESCRIPTION:On November 6\, Glo’s Eat and Go will be serving food at lunch time at the Hampton Campus near Hastings Hall. For more information\, visit Glo’s Eat and Go on Facebook.
URL:https://www.vpcc.edu/event/food-truck-at-hampton-campus-20/
LOCATION:Virginia Peninsula Communty College\, 99 Thomas Nelson Drive\, Hampton\, VA\, 23666\, United States
CATEGORIES:General
ATTACH;FMTTYPE=image/jpeg:https://www.vpcc.edu/wp-content/uploads/2025/08/food-truck.jpg
END:VEVENT
BEGIN:VEVENT
DTSTART;TZID=America/New_York:20251111T110000
DTEND;TZID=America/New_York:20251111T140000
DTSTAMP:20260422T191935
CREATED:20250826T184834Z
LAST-MODIFIED:20250826T184834Z
UID:10000826-1762858800-1762869600@www.vpcc.edu
SUMMARY:Food Truck at Hampton Campus
DESCRIPTION:On November 11\, J Hood’s Smokin Soul Food will be serving food at lunch time at the Hampton Campus near Hastings Hall. For more information\, visit J Hood’s Smokin Soul Food on Facebook.
URL:https://www.vpcc.edu/event/food-truck-at-hampton-campus-21/
LOCATION:Virginia Peninsula Communty College\, 99 Thomas Nelson Drive\, Hampton\, VA\, 23666\, United States
CATEGORIES:General
ATTACH;FMTTYPE=image/jpeg:https://www.vpcc.edu/wp-content/uploads/2025/08/food-truck.jpg
END:VEVENT
BEGIN:VEVENT
DTSTART;TZID=America/New_York:20251118T110000
DTEND;TZID=America/New_York:20251118T140000
DTSTAMP:20260422T191935
CREATED:20250826T185053Z
LAST-MODIFIED:20250826T185053Z
UID:10000828-1763463600-1763474400@www.vpcc.edu
SUMMARY:Food Truck at Hampton Campus
DESCRIPTION:On November 18\, J Hood’s Smokin Soul Food will be serving food at lunch time at the Hampton Campus near Hastings Hall. For more information\, visit J Hood’s Smokin Soul Food on Facebook.
URL:https://www.vpcc.edu/event/food-truck-at-hampton-campus-22/
LOCATION:Virginia Peninsula Communty College\, 99 Thomas Nelson Drive\, Hampton\, VA\, 23666\, United States
CATEGORIES:General
ATTACH;FMTTYPE=image/jpeg:https://www.vpcc.edu/wp-content/uploads/2025/08/food-truck.jpg
END:VEVENT
BEGIN:VEVENT
DTSTART;TZID=America/New_York:20251120T110000
DTEND;TZID=America/New_York:20251120T140000
DTSTAMP:20260422T191935
CREATED:20250826T185147Z
LAST-MODIFIED:20250826T185147Z
UID:10000829-1763636400-1763647200@www.vpcc.edu
SUMMARY:Food Truck at Hampton Campus
DESCRIPTION:On November 20\, Glo’s Eat and Go will be serving food at lunch time at the Hampton Campus near Hastings Hall. For more information\, visit Glo’s Eat and Go on Facebook.
URL:https://www.vpcc.edu/event/food-truck-at-hampton-campus-23/
LOCATION:Virginia Peninsula Communty College\, 99 Thomas Nelson Drive\, Hampton\, VA\, 23666\, United States
CATEGORIES:General
ATTACH;FMTTYPE=image/jpeg:https://www.vpcc.edu/wp-content/uploads/2025/08/food-truck.jpg
END:VEVENT
END:VCALENDAR