BEGIN:VCALENDAR
VERSION:2.0
PRODID:-//Virginia Peninsula Community College - ECPv6.15.17//NONSGML v1.0//EN
CALSCALE:GREGORIAN
METHOD:PUBLISH
X-WR-CALNAME:Virginia Peninsula Community College
X-ORIGINAL-URL:https://www.vpcc.edu
X-WR-CALDESC:Events for Virginia Peninsula Community College
REFRESH-INTERVAL;VALUE=DURATION:PT1H
X-Robots-Tag:noindex
X-PUBLISHED-TTL:PT1H
BEGIN:VTIMEZONE
TZID:America/New_York
BEGIN:DAYLIGHT
TZOFFSETFROM:-0500
TZOFFSETTO:-0400
TZNAME:EDT
DTSTART:20240310T070000
END:DAYLIGHT
BEGIN:STANDARD
TZOFFSETFROM:-0400
TZOFFSETTO:-0500
TZNAME:EST
DTSTART:20241103T060000
END:STANDARD
BEGIN:DAYLIGHT
TZOFFSETFROM:-0500
TZOFFSETTO:-0400
TZNAME:EDT
DTSTART:20250309T070000
END:DAYLIGHT
BEGIN:STANDARD
TZOFFSETFROM:-0400
TZOFFSETTO:-0500
TZNAME:EST
DTSTART:20251102T060000
END:STANDARD
BEGIN:DAYLIGHT
TZOFFSETFROM:-0500
TZOFFSETTO:-0400
TZNAME:EDT
DTSTART:20260308T070000
END:DAYLIGHT
BEGIN:STANDARD
TZOFFSETFROM:-0400
TZOFFSETTO:-0500
TZNAME:EST
DTSTART:20261101T060000
END:STANDARD
END:VTIMEZONE
BEGIN:VEVENT
DTSTART;TZID=America/New_York:20251002T110000
DTEND;TZID=America/New_York:20251002T140000
DTSTAMP:20260422T180257
CREATED:20250826T182100Z
LAST-MODIFIED:20250826T182129Z
UID:10000812-1759402800-1759413600@www.vpcc.edu
SUMMARY:Food Truck at Historic Triangle Campus
DESCRIPTION:On October 2\, Glo’s Eat and Go will be serving food at lunch time at the Historic Triangle Campus\, near the front parking lot.  For more information\, visit Glo’s Eat and Go on Facebook.
URL:https://www.vpcc.edu/event/food-truck-at-historic-triangle-campus-4/
LOCATION:Historic Triangle Campus\, 4601 Opportunity Way\, Williamsburg\, VA\, 23188\, United States
CATEGORIES:General
ATTACH;FMTTYPE=image/jpeg:https://www.vpcc.edu/wp-content/uploads/2025/08/food-truck.jpg
END:VEVENT
BEGIN:VEVENT
DTSTART;TZID=America/New_York:20251006T110000
DTEND;TZID=America/New_York:20251006T140000
DTSTAMP:20260422T180257
CREATED:20250826T182652Z
LAST-MODIFIED:20250826T185625Z
UID:10000813-1759748400-1759759200@www.vpcc.edu
SUMMARY:Food Truck at Hampton Campus
DESCRIPTION:On October 6\, DD214 Smokehouse will be serving food at lunch time at the Hampton Campus near Hastings Hall. For more information\, visit DD214 Smokehouse on Facebook.
URL:https://www.vpcc.edu/event/food-truck-at-hampton-campus-10/
LOCATION:Virginia Peninsula Communty College\, 99 Thomas Nelson Drive\, Hampton\, VA\, 23666\, United States
CATEGORIES:General
ATTACH;FMTTYPE=image/jpeg:https://www.vpcc.edu/wp-content/uploads/2025/08/food-truck.jpg
END:VEVENT
BEGIN:VEVENT
DTSTART;TZID=America/New_York:20251007T110000
DTEND;TZID=America/New_York:20251007T140000
DTSTAMP:20260422T180257
CREATED:20250826T182742Z
LAST-MODIFIED:20250826T182742Z
UID:10000814-1759834800-1759845600@www.vpcc.edu
SUMMARY:Food Truck at Hampton Campus
DESCRIPTION:On October 7\, J Hood’s Smokin Soul Food will be serving food at lunch time at the Hampton Campus near Hastings Hall. For more information\, visit J Hood’s Smokin Soul Food on Facebook.
URL:https://www.vpcc.edu/event/food-truck-at-hampton-campus-11/
LOCATION:Virginia Peninsula Communty College\, 99 Thomas Nelson Drive\, Hampton\, VA\, 23666\, United States
CATEGORIES:General
ATTACH;FMTTYPE=image/jpeg:https://www.vpcc.edu/wp-content/uploads/2025/08/food-truck.jpg
END:VEVENT
BEGIN:VEVENT
DTSTART;TZID=America/New_York:20251009T110000
DTEND;TZID=America/New_York:20251009T140000
DTSTAMP:20260422T180257
CREATED:20250826T182854Z
LAST-MODIFIED:20250826T182854Z
UID:10000815-1760007600-1760018400@www.vpcc.edu
SUMMARY:Food Truck at Historic Triangle Campus
DESCRIPTION:On October 9\, Glo’s Eat and Go will be serving food at lunch time at the Historic Triangle Campus\, near the front parking lot.  For more information\, visit Glo’s Eat and Go on Facebook.
URL:https://www.vpcc.edu/event/food-truck-at-historic-triangle-campus-5/
LOCATION:Historic Triangle Campus\, 4601 Opportunity Way\, Williamsburg\, VA\, 23188\, United States
CATEGORIES:General
ATTACH;FMTTYPE=image/jpeg:https://www.vpcc.edu/wp-content/uploads/2025/08/food-truck.jpg
END:VEVENT
BEGIN:VEVENT
DTSTART;TZID=America/New_York:20251009T110000
DTEND;TZID=America/New_York:20251009T140000
DTSTAMP:20260422T180257
CREATED:20250826T183012Z
LAST-MODIFIED:20250826T185505Z
UID:10000816-1760007600-1760018400@www.vpcc.edu
SUMMARY:Food Truck at Hampton Campus
DESCRIPTION:On October 9\, Spud Brothers will be serving food at lunch time at the Hampton Campus near Hastings Hall. For more information\, visit Spud Brothers on Facebook.
URL:https://www.vpcc.edu/event/food-truck-at-hampton-campus-12/
LOCATION:Virginia Peninsula Communty College\, 99 Thomas Nelson Drive\, Hampton\, VA\, 23666\, United States
CATEGORIES:General
ATTACH;FMTTYPE=image/jpeg:https://www.vpcc.edu/wp-content/uploads/2025/08/food-truck.jpg
END:VEVENT
BEGIN:VEVENT
DTSTART;TZID=America/New_York:20251013T110000
DTEND;TZID=America/New_York:20251013T140000
DTSTAMP:20260422T180257
CREATED:20250826T183102Z
LAST-MODIFIED:20251027T185036Z
UID:10000817-1760353200-1760364000@www.vpcc.edu
SUMMARY:Food Truck at Hampton Campus
DESCRIPTION:DD214 Smokehouse will be serving food at lunch time at the Hampton Campus near Hastings Hall. For more information\, visit DD214 Smokehouse on Facebook.
URL:https://www.vpcc.edu/event/food-truck-at-hampton-campus-13/
LOCATION:Virginia Peninsula Communty College\, 99 Thomas Nelson Drive\, Hampton\, VA\, 23666\, United States
CATEGORIES:General
ATTACH;FMTTYPE=image/jpeg:https://www.vpcc.edu/wp-content/uploads/2025/08/food-truck.jpg
END:VEVENT
BEGIN:VEVENT
DTSTART;TZID=America/New_York:20251014T110000
DTEND;TZID=America/New_York:20251014T140000
DTSTAMP:20260422T180257
CREATED:20250826T183401Z
LAST-MODIFIED:20251013T170841Z
UID:10000818-1760439600-1760450400@www.vpcc.edu
SUMMARY:Food Truck at Hampton Campus
DESCRIPTION:On October 14\, Atomic Doggs will be serving food at lunch time at the Hampton Campus near Hastings Hall. For more information\, visit Atomic Doggs on Facebook.
URL:https://www.vpcc.edu/event/food-truck-at-hampton-campus-14/
LOCATION:Virginia Peninsula Communty College\, 99 Thomas Nelson Drive\, Hampton\, VA\, 23666\, United States
CATEGORIES:General
ATTACH;FMTTYPE=image/jpeg:https://www.vpcc.edu/wp-content/uploads/2025/08/food-truck.jpg
END:VEVENT
BEGIN:VEVENT
DTSTART;TZID=America/New_York:20251014T110000
DTEND;TZID=America/New_York:20251014T140000
DTSTAMP:20260422T180257
CREATED:20250905T201305Z
LAST-MODIFIED:20250905T201305Z
UID:10000889-1760439600-1760450400@www.vpcc.edu
SUMMARY:Food Truck at the Hampton Campus
DESCRIPTION:On October 14\, the Atomic Doggs Food Truck will be serving at the Hampton Campus. For more information\, visit them on social media at https://www.facebook.com/atomicdoggmobilecatering
URL:https://www.vpcc.edu/event/food-truck-at-the-hampton-campus-5/
LOCATION:Virginia Peninsula Communty College\, 99 Thomas Nelson Drive\, Hampton\, VA\, 23666\, United States
CATEGORIES:General
ATTACH;FMTTYPE=image/jpeg:https://www.vpcc.edu/wp-content/uploads/2025/08/food-truck.jpg
END:VEVENT
BEGIN:VEVENT
DTSTART;TZID=America/New_York:20251020T110000
DTEND;TZID=America/New_York:20251020T140000
DTSTAMP:20260422T180257
CREATED:20250826T183536Z
LAST-MODIFIED:20250826T183536Z
UID:10000819-1760958000-1760968800@www.vpcc.edu
SUMMARY:Food Truck at Hampton Campus
DESCRIPTION:On October 20\, DD214 Smokehouse will be serving food at lunch time at the Hampton Campus near Hastings Hall. For more information\, visit DD214 Smokehouse on Facebook.
URL:https://www.vpcc.edu/event/food-truck-at-hampton-campus-15/
LOCATION:Virginia Peninsula Communty College\, 99 Thomas Nelson Drive\, Hampton\, VA\, 23666\, United States
CATEGORIES:General
ATTACH;FMTTYPE=image/jpeg:https://www.vpcc.edu/wp-content/uploads/2025/08/food-truck.jpg
END:VEVENT
BEGIN:VEVENT
DTSTART;TZID=America/New_York:20251020T110000
DTEND;TZID=America/New_York:20251020T140000
DTSTAMP:20260422T180257
CREATED:20250826T183852Z
LAST-MODIFIED:20250826T183852Z
UID:10000823-1760958000-1760968800@www.vpcc.edu
SUMMARY:Food Truck at Hampton Campus
DESCRIPTION:On October 20\, Glo’s Eat and Go will be serving food at lunch time at the Hampton Campus near Hastings Hall. For more information\, visit Glo’s Eat and Go on Facebook.
URL:https://www.vpcc.edu/event/food-truck-at-hampton-campus-18/
LOCATION:Virginia Peninsula Communty College\, 99 Thomas Nelson Drive\, Hampton\, VA\, 23666\, United States
CATEGORIES:General
ATTACH;FMTTYPE=image/jpeg:https://www.vpcc.edu/wp-content/uploads/2025/08/food-truck.jpg
END:VEVENT
BEGIN:VEVENT
DTSTART;TZID=America/New_York:20251023T110000
DTEND;TZID=America/New_York:20251023T140000
DTSTAMP:20260422T180257
CREATED:20250826T183722Z
LAST-MODIFIED:20250826T183722Z
UID:10000821-1761217200-1761228000@www.vpcc.edu
SUMMARY:Food Truck at Hampton Campus
DESCRIPTION:On October 23\, Spud Brothers will be serving food at lunch time at the Hampton Campus near Hastings Hall. For more information\, visit Spud Brothers on Facebook.
URL:https://www.vpcc.edu/event/food-truck-at-hampton-campus-16/
LOCATION:Virginia Peninsula Communty College\, 99 Thomas Nelson Drive\, Hampton\, VA\, 23666\, United States
CATEGORIES:General
ATTACH;FMTTYPE=image/jpeg:https://www.vpcc.edu/wp-content/uploads/2025/08/food-truck.jpg
END:VEVENT
BEGIN:VEVENT
DTSTART;TZID=America/New_York:20251027T110000
DTEND;TZID=America/New_York:20251027T140000
DTSTAMP:20260422T180257
CREATED:20250826T183806Z
LAST-MODIFIED:20250826T183806Z
UID:10000822-1761562800-1761573600@www.vpcc.edu
SUMMARY:Food Truck at Hampton Campus
DESCRIPTION:On October 27\, DD214 Smokehouse will be serving food at lunch time at the Hampton Campus near Hastings Hall. For more information\, visit DD214 Smokehouse on Facebook.
URL:https://www.vpcc.edu/event/food-truck-at-hampton-campus-17/
LOCATION:Virginia Peninsula Communty College\, 99 Thomas Nelson Drive\, Hampton\, VA\, 23666\, United States
CATEGORIES:General
ATTACH;FMTTYPE=image/jpeg:https://www.vpcc.edu/wp-content/uploads/2025/08/food-truck.jpg
END:VEVENT
END:VCALENDAR