BEGIN:VCALENDAR
VERSION:2.0
PRODID:-//Virginia Peninsula Community College - ECPv6.15.17//NONSGML v1.0//EN
CALSCALE:GREGORIAN
METHOD:PUBLISH
X-WR-CALNAME:Virginia Peninsula Community College
X-ORIGINAL-URL:https://www.vpcc.edu
X-WR-CALDESC:Events for Virginia Peninsula Community College
REFRESH-INTERVAL;VALUE=DURATION:PT1H
X-Robots-Tag:noindex
X-PUBLISHED-TTL:PT1H
BEGIN:VTIMEZONE
TZID:America/New_York
BEGIN:DAYLIGHT
TZOFFSETFROM:-0500
TZOFFSETTO:-0400
TZNAME:EDT
DTSTART:20240310T070000
END:DAYLIGHT
BEGIN:STANDARD
TZOFFSETFROM:-0400
TZOFFSETTO:-0500
TZNAME:EST
DTSTART:20241103T060000
END:STANDARD
BEGIN:DAYLIGHT
TZOFFSETFROM:-0500
TZOFFSETTO:-0400
TZNAME:EDT
DTSTART:20250309T070000
END:DAYLIGHT
BEGIN:STANDARD
TZOFFSETFROM:-0400
TZOFFSETTO:-0500
TZNAME:EST
DTSTART:20251102T060000
END:STANDARD
BEGIN:DAYLIGHT
TZOFFSETFROM:-0500
TZOFFSETTO:-0400
TZNAME:EDT
DTSTART:20260308T070000
END:DAYLIGHT
BEGIN:STANDARD
TZOFFSETFROM:-0400
TZOFFSETTO:-0500
TZNAME:EST
DTSTART:20261101T060000
END:STANDARD
END:VTIMEZONE
BEGIN:VEVENT
DTSTART;TZID=America/New_York:20251025T090000
DTEND;TZID=America/New_York:20251025T120000
DTSTAMP:20260420T150446
CREATED:20251020T020424Z
LAST-MODIFIED:20251020T204033Z
UID:10000951-1761382800-1761393600@www.vpcc.edu
SUMMARY:FAFSA Workshop
DESCRIPTION:Join us for a FAFSA Workshop on Saturday\, October 25\, 2025 from 9 a.m. to 12 p.m. at the VPCC Hampton Campus\, Peninsula Workforce Development Center in computer lab room 1111. (600 Butler Farm Road\, Hampton\, VA 23666) \nPLEASE BRING: \n\nFSA ID (If you don’t have one\, please visit Studentaid.gov before the workshop to set up your FAFSA account)\nSocial Security Card or number (if applicable)\nAlien registration number (if applicable)\nIndividual Taxpayer Identification Number (ITIN) — yours or your parents’\nList of colleges you’re considering attending
URL:https://www.vpcc.edu/event/fafsa-workshop-3/
LOCATION:Peninsula Workforce Development Center\, 600 Butler Farm Road\, Suite A\, Hampton\, VA\, 23666\, United States
CATEGORIES:Community,General,Student Life
ATTACH;FMTTYPE=image/jpeg:https://www.vpcc.edu/wp-content/uploads/2025/10/fasfa-workshop.jpg
END:VEVENT
END:VCALENDAR