BEGIN:VCALENDAR
VERSION:2.0
PRODID:-//Virginia Peninsula Community College - ECPv6.15.17//NONSGML v1.0//EN
CALSCALE:GREGORIAN
METHOD:PUBLISH
X-WR-CALNAME:Virginia Peninsula Community College
X-ORIGINAL-URL:https://www.vpcc.edu
X-WR-CALDESC:Events for Virginia Peninsula Community College
REFRESH-INTERVAL;VALUE=DURATION:PT1H
X-Robots-Tag:noindex
X-PUBLISHED-TTL:PT1H
BEGIN:VTIMEZONE
TZID:America/New_York
BEGIN:DAYLIGHT
TZOFFSETFROM:-0500
TZOFFSETTO:-0400
TZNAME:EDT
DTSTART:20250309T070000
END:DAYLIGHT
BEGIN:STANDARD
TZOFFSETFROM:-0400
TZOFFSETTO:-0500
TZNAME:EST
DTSTART:20251102T060000
END:STANDARD
BEGIN:DAYLIGHT
TZOFFSETFROM:-0500
TZOFFSETTO:-0400
TZNAME:EDT
DTSTART:20260308T070000
END:DAYLIGHT
BEGIN:STANDARD
TZOFFSETFROM:-0400
TZOFFSETTO:-0500
TZNAME:EST
DTSTART:20261101T060000
END:STANDARD
BEGIN:DAYLIGHT
TZOFFSETFROM:-0500
TZOFFSETTO:-0400
TZNAME:EDT
DTSTART:20270314T070000
END:DAYLIGHT
BEGIN:STANDARD
TZOFFSETFROM:-0400
TZOFFSETTO:-0500
TZNAME:EST
DTSTART:20271107T060000
END:STANDARD
END:VTIMEZONE
BEGIN:VEVENT
DTSTART;TZID=America/New_York:20260427T110000
DTEND;TZID=America/New_York:20260427T130000
DTSTAMP:20260423T195522
CREATED:20260423T174029Z
LAST-MODIFIED:20260423T174029Z
UID:10001562-1777287600-1777294800@www.vpcc.edu
SUMMARY:Food Truck: Lunch by Al / Fizz and Cream
DESCRIPTION:Monday\, April 27 — Lunch by Al and Fizz and Cream will be at the Hampton Campus.
URL:https://www.vpcc.edu/event/food-truck-lunch-by-al-fizz-and-cream/
LOCATION:Virginia Peninsula Communty College\, 99 Thomas Nelson Drive\, Hampton\, VA\, 23666\, United States
CATEGORIES:Hampton Campus
ATTACH;FMTTYPE=image/jpeg:https://www.vpcc.edu/wp-content/uploads/2026/04/food-v2-1.jpg
END:VEVENT
BEGIN:VEVENT
DTSTART;TZID=America/New_York:20260428T110000
DTEND;TZID=America/New_York:20260428T130000
DTSTAMP:20260423T195522
CREATED:20260423T174204Z
LAST-MODIFIED:20260423T174204Z
UID:10001563-1777374000-1777381200@www.vpcc.edu
SUMMARY:Food Truck: Space Tacos
DESCRIPTION:Tuesday\, April 28 — Space Tacos will be at the Hampton Campus
URL:https://www.vpcc.edu/event/food-truck-space-tacos-3/
LOCATION:Virginia Peninsula Communty College\, 99 Thomas Nelson Drive\, Hampton\, VA\, 23666\, United States
CATEGORIES:Hampton Campus
ATTACH;FMTTYPE=image/jpeg:https://www.vpcc.edu/wp-content/uploads/2026/04/food-v2-1.jpg
END:VEVENT
BEGIN:VEVENT
DTSTART;TZID=America/New_York:20260428T130000
DTEND;TZID=America/New_York:20260428T170000
DTSTAMP:20260423T195522
CREATED:20260320T145238Z
LAST-MODIFIED:20260323T192818Z
UID:10001486-1777381200-1777395600@www.vpcc.edu
SUMMARY:GRAD EXPO 2026
DESCRIPTION:Congratulations Class of 2026! Mark your calendar today for GRAD EXPO! \nCandidates of graduation\, continue to check your Canvas account\, all Commencement 2025 information and event details will be added to your Canvas account. Information will include how to purchase your cap and gown\, event FAQ\, and more! \nFor more information on Commencement event\, visit our Commencement page. \nGRAD EXPO ACTIVITIES: \n\nGrad Cap Decorating\nPhoto Booth\nLight Refreshments\nHonor Cord & Stole Pickup (PTK\, SGA\, TRiO and Veteran)\nDegree Completion Status Check\nCheck-in with Academic Advising
URL:https://www.vpcc.edu/event/grad-expo-2026/
LOCATION:Historic Triangle Campus\, 4601 Opportunity Way\, Williamsburg\, VA\, 23188\, United States
CATEGORIES:Athletics,Commencement,General,Student Life,Workforce Development
ATTACH;FMTTYPE=image/jpeg:https://www.vpcc.edu/wp-content/uploads/2025/03/event-grad-expo.jpg
END:VEVENT
BEGIN:VEVENT
DTSTART;TZID=America/New_York:20260428T180000
DTEND;TZID=America/New_York:20260428T200000
DTSTAMP:20260423T195522
CREATED:20260416T205936Z
LAST-MODIFIED:20260416T205936Z
UID:10001544-1777399200-1777406400@www.vpcc.edu
SUMMARY:Military and Veterans Services Stole/Graduation Banquet
DESCRIPTION:Military and Veterans Service will have a  stole/graduation banquet on the Hampton Campus at the Peninsula Workforce Development Center\, conference room 1301-1303.
URL:https://www.vpcc.edu/event/military-and-veterans-services-stole-graduation-banquet/
LOCATION:Peninsula Workforce Development Center\, 600 Butler Farm Road\, Suite A\, Hampton\, VA\, 23666\, United States
CATEGORIES:General
ATTACH;FMTTYPE=image/jpeg:https://www.vpcc.edu/wp-content/uploads/2025/09/military-vets-service.jpg
END:VEVENT
BEGIN:VEVENT
DTSTART;TZID=America/New_York:20260429T110000
DTEND;TZID=America/New_York:20260429T130000
DTSTAMP:20260423T195522
CREATED:20260423T171927Z
LAST-MODIFIED:20260423T171927Z
UID:10001552-1777460400-1777467600@www.vpcc.edu
SUMMARY:Food Truck: Fizz and Cream
DESCRIPTION:Tuesday\, April 28 — Fizz and Cream will be at the Historic Triangle Campus.
URL:https://www.vpcc.edu/event/food-truck-fizz-and-cream/
LOCATION:Historic Triangle Campus\, 4601 Opportunity Way\, Williamsburg\, VA\, 23188\, United States
CATEGORIES:General,Historic Triangle Campus
ATTACH;FMTTYPE=image/jpeg:https://www.vpcc.edu/wp-content/uploads/2025/08/food-truck.jpg
END:VEVENT
BEGIN:VEVENT
DTSTART;TZID=America/New_York:20260429T110000
DTEND;TZID=America/New_York:20260429T130000
DTSTAMP:20260423T195522
CREATED:20260423T172336Z
LAST-MODIFIED:20260423T172336Z
UID:10001553-1777460400-1777467600@www.vpcc.edu
SUMMARY:Food Truck: Lunch by Al
DESCRIPTION:Wednesday\, April 29 — Lunch by Al will be at the Historic Triangle Campus
URL:https://www.vpcc.edu/event/food-truck-lunch-by-al/
LOCATION:Historic Triangle Campus\, 4601 Opportunity Way\, Williamsburg\, VA\, 23188\, United States
CATEGORIES:General,Historic Triangle Campus
ATTACH;FMTTYPE=image/jpeg:https://www.vpcc.edu/wp-content/uploads/2025/08/food-truck.jpg
END:VEVENT
BEGIN:VEVENT
DTSTART;TZID=America/New_York:20260429T110000
DTEND;TZID=America/New_York:20260429T130000
DTSTAMP:20260423T195522
CREATED:20260423T174249Z
LAST-MODIFIED:20260423T174249Z
UID:10001564-1777460400-1777467600@www.vpcc.edu
SUMMARY:Food Truck: Flame and Pie / Fizz and Cream
DESCRIPTION:Wednesday\, April 29 — Flame and Pie and Fizz and Cream will be at the Hampton Campus
URL:https://www.vpcc.edu/event/food-truck-flame-and-pie-fizz-and-cream/
LOCATION:Virginia Peninsula Communty College\, 99 Thomas Nelson Drive\, Hampton\, VA\, 23666\, United States
CATEGORIES:Hampton Campus
ATTACH;FMTTYPE=image/jpeg:https://www.vpcc.edu/wp-content/uploads/2026/04/food-v2-1.jpg
END:VEVENT
BEGIN:VEVENT
DTSTART;TZID=America/New_York:20260429T170000
DTEND;TZID=America/New_York:20260429T180000
DTSTAMP:20260423T195522
CREATED:20260320T155630Z
LAST-MODIFIED:20260320T170954Z
UID:10001499-1777482000-1777485600@www.vpcc.edu
SUMMARY:Transition Workshop
DESCRIPTION:Transition Workshops \nFor graduating dual enrolled high school seniors \nPlease join us for an important info session to learn how to transition from dual enrolled high school student to college student status. \nWHY? \n\nTo be able to declare a program of study at VPCC\nTo be eligible for financial aid at VPCC\nTo be assigned an academic advisor at VPCC\nTo be able to self-register for future classes!\nTo learn about VPCC scholarships\, programs and resources!\n\nYou need only attend ONE zoom workshop: \nZoom link: Click Here to Join the Zoom \nQuestions? Email Camiel Sims\, VPCC Dual Enrollment Coordinator at simsc@vpcc.edu \nStudents\, parents/guardians and school personnel are all welcome to attend! \nVPCC Dual Enrollment
URL:https://www.vpcc.edu/event/transition-workshop-2/2026-04-29/
LOCATION:Zoom
CATEGORIES:General
ATTACH;FMTTYPE=image/jpeg:https://www.vpcc.edu/wp-content/uploads/2025/03/events-transition.jpg
END:VEVENT
BEGIN:VEVENT
DTSTART;TZID=America/New_York:20260429T170000
DTEND;TZID=America/New_York:20260429T193000
DTSTAMP:20260423T195522
CREATED:20260225T225017Z
LAST-MODIFIED:20260414T160632Z
UID:10001477-1777482000-1777491000@www.vpcc.edu
SUMMARY:Strictly Business
DESCRIPTION:Strictly Business is a free networking event brings together local newsmakers and community-focused consumers who share a passion for strengthening our area. Strictly Business is hosted in partnership with WYDaily.com\, The Tide 92.3 FM\, Cannon Country 107.9 FM and CultureFix. \nOn April 29\, 2026\, from 5 to 7:30 p.m.\, the public is invited to join in the fun at the Historic Triangle Campus of Virginia Peninsula Community College! Be prepared for food\, fun\, and friends. Learn more about this free event at the Strictly Business website. \n\n\n\nPLEASE NOTE: This event is for adults 21 years old and older. 
URL:https://www.vpcc.edu/event/strictly-business/
LOCATION:Historic Triangle Campus\, 4601 Opportunity Way\, Williamsburg\, VA\, 23188\, United States
CATEGORIES:Community,Historic Triangle Campus
ATTACH;FMTTYPE=image/jpeg:https://www.vpcc.edu/wp-content/uploads/2026/02/strictly-business.jpg
END:VEVENT
BEGIN:VEVENT
DTSTART;TZID=America/New_York:20260430T110000
DTEND;TZID=America/New_York:20260430T130000
DTSTAMP:20260423T195522
CREATED:20260423T172518Z
LAST-MODIFIED:20260423T172518Z
UID:10001554-1777546800-1777554000@www.vpcc.edu
SUMMARY:Food Truck: Space Tacos
DESCRIPTION:Thursday\, April 30 — Space Tacos will be at the Historic Triangle Campus
URL:https://www.vpcc.edu/event/food-truck-space-tacos/
LOCATION:Historic Triangle Campus\, 4601 Opportunity Way\, Williamsburg\, VA\, 23188\, United States
CATEGORIES:General,Historic Triangle Campus
ATTACH;FMTTYPE=image/jpeg:https://www.vpcc.edu/wp-content/uploads/2025/08/food-truck.jpg
END:VEVENT
BEGIN:VEVENT
DTSTART;TZID=America/New_York:20260430T110000
DTEND;TZID=America/New_York:20260430T130000
DTSTAMP:20260423T195522
CREATED:20260423T174348Z
LAST-MODIFIED:20260423T174348Z
UID:10001565-1777546800-1777554000@www.vpcc.edu
SUMMARY:Food Truck: Goodness Gravy
DESCRIPTION:Thursday\, April 30 — Goodness Gravy Food Truck will be at the Hampton Campus
URL:https://www.vpcc.edu/event/food-truck-goodness-gravy/
LOCATION:Virginia Peninsula Communty College\, 99 Thomas Nelson Drive\, Hampton\, VA\, 23666\, United States
CATEGORIES:Hampton Campus
ATTACH;FMTTYPE=image/jpeg:https://www.vpcc.edu/wp-content/uploads/2026/04/food-v2-1.jpg
END:VEVENT
BEGIN:VEVENT
DTSTART;TZID=America/New_York:20260430T130000
DTEND;TZID=America/New_York:20260430T170000
DTSTAMP:20260423T195522
CREATED:20260320T145654Z
LAST-MODIFIED:20260323T192610Z
UID:10001488-1777554000-1777568400@www.vpcc.edu
SUMMARY:GRAD EXPO 2026
DESCRIPTION:Congratulations Class of 2026! Mark your calendar today for GRAD EXPO! \nCandidates of graduation\, continue to check your Canvas account\, all Commencement 2026 information and event details will be added to your Canvas account. Information will include how to purchase your cap and gown\, event FAQ\, and more! \nFor more information on Commencement event\, visit our Commencement page. \nGRAD EXPO ACTIVITIES: \n\nGrad Cap Decorating\nPhoto Booth\nLight Refreshments\nHonor Cord & Stole Pickup (PTK\, SGA\, TRiO and Veteran)\nDegree Completion Status Check\nCheck-in with Academic Advising\n\n 
URL:https://www.vpcc.edu/event/grad-expo-2026-2/
LOCATION:Kecoughtan Hall\, Gallery\, 99 Thomas Nelson Drive\, Hampton\, VA\, 23666\, United States
CATEGORIES:Athletics,Commencement,General,Student Life,Workforce Development
ATTACH;FMTTYPE=image/jpeg:https://www.vpcc.edu/wp-content/uploads/2025/03/event-grad-expo.jpg
END:VEVENT
BEGIN:VEVENT
DTSTART;TZID=America/New_York:20260501T000000
DTEND;TZID=America/New_York:20260501T000000
DTSTAMP:20260423T195522
CREATED:20260416T180144Z
LAST-MODIFIED:20260416T180144Z
UID:10001522-1777593600-1777593600@www.vpcc.edu
SUMMARY:Summer Tuition Due
DESCRIPTION:Deadline for summer tuition payment. For more information\, visit our Academic Calendar page.
URL:https://www.vpcc.edu/event/summer-tuition-due-2/
LOCATION:NC
CATEGORIES:Admissions,General,Hampton Campus,Historic Triangle Campus
ATTACH;FMTTYPE=image/jpeg:https://www.vpcc.edu/wp-content/uploads/2026/04/academic-event-v2.jpg
END:VEVENT
BEGIN:VEVENT
DTSTART;TZID=America/New_York:20260501T120000
DTEND;TZID=America/New_York:20260501T130000
DTSTAMP:20260423T195522
CREATED:20260415T130440Z
LAST-MODIFIED:20260415T150454Z
UID:10001520-1777636800-1777640400@www.vpcc.edu
SUMMARY:Apprenticeship: What Employers Need to Know
DESCRIPTION:Want to build a stronger\, more skilled team? Join us to:• Learn how apprenticeship programs work• Discover funding and employer support• Explore how to train and retain skilled employees• Get step-by-step guidance to get started• Ask questions and get real answers \nWho should attend this information session?\nBusiness owners\, hiring managers\, and anyone struggling to find or keep skilled workers.\nThere’s no cost to attend! \nClick here to register! 
URL:https://www.vpcc.edu/event/apprenticeship-what-employers-need-to-know/
LOCATION:Zoom
CATEGORIES:General,Workforce Development
ATTACH;FMTTYPE=image/jpeg:https://www.vpcc.edu/wp-content/uploads/2026/04/apprenticeship-event.jpg
END:VEVENT
BEGIN:VEVENT
DTSTART;TZID=America/New_York:20260501T120000
DTEND;TZID=America/New_York:20260501T170000
DTSTAMP:20260423T195522
CREATED:20260121T143600Z
LAST-MODIFIED:20260417T152954Z
UID:10001434-1777636800-1777654800@www.vpcc.edu
SUMMARY:VPCC Baseball vs. The Apprentice School
DESCRIPTION:The Gators prepare for the postseason with a nonconference doubleheader against the Builders at War Memorial Stadium.
URL:https://www.vpcc.edu/event/vpcc-baseball-at-montgomery-college/
LOCATION:War Memorial Stadium\, 1889 W Pembroke Ave\, Hampton\, 23661\, United States
CATEGORIES:Athletics,General,Student Life
ATTACH;FMTTYPE=image/png:https://www.vpcc.edu/wp-content/uploads/2025/03/event-gators-baseball.png
END:VEVENT
BEGIN:VEVENT
DTSTART;TZID=America/New_York:20260504T110000
DTEND;TZID=America/New_York:20260504T130000
DTSTAMP:20260423T195522
CREATED:20260423T174448Z
LAST-MODIFIED:20260423T174448Z
UID:10001566-1777892400-1777899600@www.vpcc.edu
SUMMARY:Food Truck: Lunch by Al
DESCRIPTION:Monday\, May 4 — Lunch by Al will be at the Hampton Campus
URL:https://www.vpcc.edu/event/food-truck-lunch-by-al-3/
LOCATION:Virginia Peninsula Communty College\, 99 Thomas Nelson Drive\, Hampton\, VA\, 23666\, United States
CATEGORIES:Hampton Campus
ATTACH;FMTTYPE=image/jpeg:https://www.vpcc.edu/wp-content/uploads/2026/04/food-v2-1.jpg
END:VEVENT
BEGIN:VEVENT
DTSTART;TZID=America/New_York:20260505T000000
DTEND;TZID=America/New_York:20260507T235959
DTSTAMP:20260423T195522
CREATED:20260410T213045Z
LAST-MODIFIED:20260416T183426Z
UID:10001519-1777939200-1778198399@www.vpcc.edu
SUMMARY:AI Workshop
DESCRIPTION:AI is no longer a technology challenge — it’s a leadership challenge. The institutions that will thrive are not those with the most sophisticated tools\, but those where leadership and workforce move together with shared purpose and shared accountability. This conference explores what it means to align people and strategy in an AI-driven world — because smarter outcomes don’t come from better algorithms alone. They come from stronger organizations. \nFEATURED GUESTS \nMarlin McDaniel of the City Of Newport News; Peyton Cox of 757 Comply; Anastasia Simon of Google; Karen Jackson from Apogee Strategic Partners\, LLC; Dr. Nell Meshcheryakov of Dominion Energy; Gabe Biscan of Virginia Natural Gas; Dr. Christopher Jones from NASA Langley Research Center; and Andre Smith of Ameot\, LLC. \nDETAILS \n\nEvent Date / Time: Tuesday\, May 5 from 8:30 a.m. to 12:30 p.m. and Thursday\, May 7 from 9 a.m. to 1 p.m.\nEvent fee covers both days of lunch and learn sessions\nParticipants will receive a certificate of completion at the conclusion of the workshop
URL:https://www.vpcc.edu/event/ai-workshop/
LOCATION:Peninsula Workforce Development Center\, 600 Butler Farm Road\, Suite A\, Hampton\, VA\, 23666\, United States
CATEGORIES:General,Hampton Campus,PWDC,Workforce Development
ATTACH;FMTTYPE=image/jpeg:https://www.vpcc.edu/wp-content/uploads/2026/04/ai-workshop-icon.jpg
END:VEVENT
BEGIN:VEVENT
DTSTART;TZID=America/New_York:20260505T110000
DTEND;TZID=America/New_York:20260505T130000
DTSTAMP:20260423T195522
CREATED:20260423T172625Z
LAST-MODIFIED:20260423T172625Z
UID:10001555-1777978800-1777986000@www.vpcc.edu
SUMMARY:Food Truck: Cool Concessions
DESCRIPTION:Tuesday\, May 5 — Cool Concessions will be at the Historic Triangle Campus.
URL:https://www.vpcc.edu/event/food-truck-cool-concessions/
LOCATION:Historic Triangle Campus\, 4601 Opportunity Way\, Williamsburg\, VA\, 23188\, United States
CATEGORIES:General,Historic Triangle Campus
ATTACH;FMTTYPE=image/jpeg:https://www.vpcc.edu/wp-content/uploads/2025/08/food-truck.jpg
END:VEVENT
BEGIN:VEVENT
DTSTART;TZID=America/New_York:20260505T110000
DTEND;TZID=America/New_York:20260505T130000
DTSTAMP:20260423T195522
CREATED:20260423T174542Z
LAST-MODIFIED:20260423T174542Z
UID:10001567-1777978800-1777986000@www.vpcc.edu
SUMMARY:Food Truck: Space Tacos
DESCRIPTION:Tuesday\, May 5 — Space Tacos will be at the Hampton Campus
URL:https://www.vpcc.edu/event/food-truck-space-tacos-4/
LOCATION:Virginia Peninsula Communty College\, 99 Thomas Nelson Drive\, Hampton\, VA\, 23666\, United States
CATEGORIES:Hampton Campus
ATTACH;FMTTYPE=image/jpeg:https://www.vpcc.edu/wp-content/uploads/2026/04/food-v2-1.jpg
END:VEVENT
BEGIN:VEVENT
DTSTART;TZID=America/New_York:20260506T110000
DTEND;TZID=America/New_York:20260506T130000
DTSTAMP:20260423T195522
CREATED:20260423T172733Z
LAST-MODIFIED:20260423T172733Z
UID:10001556-1778065200-1778072400@www.vpcc.edu
SUMMARY:Food Truck: Lunch by Al
DESCRIPTION:Wednesday\, May 6 — Lunch by Al will be at the Historic Triangle Campus
URL:https://www.vpcc.edu/event/food-truck-lunch-by-al-2/
LOCATION:Historic Triangle Campus\, 4601 Opportunity Way\, Williamsburg\, VA\, 23188\, United States
CATEGORIES:General,Historic Triangle Campus
ATTACH;FMTTYPE=image/jpeg:https://www.vpcc.edu/wp-content/uploads/2025/08/food-truck.jpg
END:VEVENT
BEGIN:VEVENT
DTSTART;TZID=America/New_York:20260506T110000
DTEND;TZID=America/New_York:20260506T130000
DTSTAMP:20260423T195522
CREATED:20260423T174756Z
LAST-MODIFIED:20260423T174756Z
UID:10001568-1778065200-1778072400@www.vpcc.edu
SUMMARY:Food Truck: Flame and Pie
DESCRIPTION:Wednesday\, May 6 — Flame and Pie will be at the Hampton Campus
URL:https://www.vpcc.edu/event/food-truck-flame-and-pie-2/
LOCATION:Virginia Peninsula Communty College\, 99 Thomas Nelson Drive\, Hampton\, VA\, 23666\, United States
CATEGORIES:Hampton Campus
ATTACH;FMTTYPE=image/jpeg:https://www.vpcc.edu/wp-content/uploads/2026/04/food-v2-1.jpg
END:VEVENT
BEGIN:VEVENT
DTSTART;TZID=America/New_York:20260507T110000
DTEND;TZID=America/New_York:20260507T130000
DTSTAMP:20260423T195522
CREATED:20260423T172837Z
LAST-MODIFIED:20260423T172837Z
UID:10001557-1778151600-1778158800@www.vpcc.edu
SUMMARY:Food Truck: Space Tacos
DESCRIPTION:Thursday\, May 7 — Space Tacos will be at the Historic Triangle Campus
URL:https://www.vpcc.edu/event/food-truck-space-tacos-2/
LOCATION:Historic Triangle Campus\, 4601 Opportunity Way\, Williamsburg\, VA\, 23188\, United States
CATEGORIES:General,Historic Triangle Campus
ATTACH;FMTTYPE=image/jpeg:https://www.vpcc.edu/wp-content/uploads/2025/08/food-truck.jpg
END:VEVENT
BEGIN:VEVENT
DTSTART;TZID=America/New_York:20260507T110000
DTEND;TZID=America/New_York:20260507T130000
DTSTAMP:20260423T195522
CREATED:20260423T174846Z
LAST-MODIFIED:20260423T174846Z
UID:10001569-1778151600-1778158800@www.vpcc.edu
SUMMARY:Food Truck: SpudBrothers 757
DESCRIPTION:Thursday\, May 7 — SpudBrothers 757 will be at the Hampton Campus
URL:https://www.vpcc.edu/event/food-truck-spudbrothers-757/
LOCATION:Virginia Peninsula Communty College\, 99 Thomas Nelson Drive\, Hampton\, VA\, 23666\, United States
CATEGORIES:Hampton Campus
ATTACH;FMTTYPE=image/jpeg:https://www.vpcc.edu/wp-content/uploads/2026/04/food-v2-1.jpg
END:VEVENT
BEGIN:VEVENT
DTSTART;TZID=America/New_York:20260507T120000
DTEND;TZID=America/New_York:20260507T180000
DTSTAMP:20260423T195522
CREATED:20260121T143830Z
LAST-MODIFIED:20260317T141124Z
UID:10001435-1778155200-1778176800@www.vpcc.edu
SUMMARY:VPCC Baseball in Region 10 Tournament
DESCRIPTION:The Region 10 postseason tournament gets underway in Martinsville. Opponent and time to be announced.
URL:https://www.vpcc.edu/event/vpcc-baseball-in-region-10-tournament/
LOCATION:Martinsville
CATEGORIES:Athletics,General,Student Life
ATTACH;FMTTYPE=image/png:https://www.vpcc.edu/wp-content/uploads/2025/03/event-gators-baseball.png
END:VEVENT
BEGIN:VEVENT
DTSTART;TZID=America/New_York:20260511T110000
DTEND;TZID=America/New_York:20260511T130000
DTSTAMP:20260423T195522
CREATED:20260423T172944Z
LAST-MODIFIED:20260423T172944Z
UID:10001558-1778497200-1778504400@www.vpcc.edu
SUMMARY:Food Truck: Furnace Pizza and Fizz and Cream
DESCRIPTION:Monday\, May 11 — Furnace Pizza and Fizz and Cream will be at the Historic Triangle Campus
URL:https://www.vpcc.edu/event/food-truck-furnace-pizza-and-fizz-and-cream/
LOCATION:Historic Triangle Campus\, 4601 Opportunity Way\, Williamsburg\, VA\, 23188\, United States
CATEGORIES:General,Historic Triangle Campus
ATTACH;FMTTYPE=image/jpeg:https://www.vpcc.edu/wp-content/uploads/2025/08/food-truck.jpg
END:VEVENT
BEGIN:VEVENT
DTSTART;TZID=America/New_York:20260511T110000
DTEND;TZID=America/New_York:20260511T130000
DTSTAMP:20260423T195522
CREATED:20260423T174956Z
LAST-MODIFIED:20260423T174956Z
UID:10001570-1778497200-1778504400@www.vpcc.edu
SUMMARY:Food Truck: Lunch by Al
DESCRIPTION:Monday\, May 11 — Lunch by Al will be at the Hampton Campus
URL:https://www.vpcc.edu/event/food-truck-lunch-by-al-4/
LOCATION:Virginia Peninsula Communty College\, 99 Thomas Nelson Drive\, Hampton\, VA\, 23666\, United States
CATEGORIES:Hampton Campus
ATTACH;FMTTYPE=image/jpeg:https://www.vpcc.edu/wp-content/uploads/2026/04/food-v2-1.jpg
END:VEVENT
BEGIN:VEVENT
DTSTART;TZID=America/New_York:20260512T110000
DTEND;TZID=America/New_York:20260512T130000
DTSTAMP:20260423T195522
CREATED:20260423T173050Z
LAST-MODIFIED:20260423T173050Z
UID:10001559-1778583600-1778590800@www.vpcc.edu
SUMMARY:Food Truck: Cool Concessions
DESCRIPTION:Tuesday\, May 12 — Cool Concessions will be at the Historic Triangle Campus
URL:https://www.vpcc.edu/event/food-truck-cool-concessions-2/
LOCATION:Historic Triangle Campus\, 4601 Opportunity Way\, Williamsburg\, VA\, 23188\, United States
CATEGORIES:General,Historic Triangle Campus
ATTACH;FMTTYPE=image/jpeg:https://www.vpcc.edu/wp-content/uploads/2025/08/food-truck.jpg
END:VEVENT
BEGIN:VEVENT
DTSTART;TZID=America/New_York:20260512T110000
DTEND;TZID=America/New_York:20260512T130000
DTSTAMP:20260423T195522
CREATED:20260423T175045Z
LAST-MODIFIED:20260423T175045Z
UID:10001571-1778583600-1778590800@www.vpcc.edu
SUMMARY:Food Truck: Space Tacos
DESCRIPTION:Tuesday\, May 12 — Space Tacos and Fizz and Cream will be at the Hampton Campus
URL:https://www.vpcc.edu/event/food-truck-space-tacos-5/
LOCATION:Virginia Peninsula Communty College\, 99 Thomas Nelson Drive\, Hampton\, VA\, 23666\, United States
CATEGORIES:Hampton Campus
ATTACH;FMTTYPE=image/jpeg:https://www.vpcc.edu/wp-content/uploads/2026/04/food-v2-1.jpg
END:VEVENT
BEGIN:VEVENT
DTSTART;TZID=America/New_York:20260512T180000
DTEND;TZID=America/New_York:20260512T200000
DTSTAMP:20260423T195522
CREATED:20260309T203020Z
LAST-MODIFIED:20260309T203020Z
UID:10001481-1778608800-1778616000@www.vpcc.edu
SUMMARY:Nursing Pinning Ceremony
DESCRIPTION:VPCC Nursing Pinning Ceremony \nDate: Tuesday\, May 12\, 2026 \nTime: 6:00 p.m. \nLocation: Dr. Mary T. Christian Theater
URL:https://www.vpcc.edu/event/nursing-pinning-ceremony-3/
LOCATION:Templin Hall\, 99 Thomas Nelson Drive\, Hampton\, VA\, 23666\, United States
CATEGORIES:General,Hampton Campus,Mary T. Christian Theatre,Nursing
ATTACH;FMTTYPE=image/jpeg:https://www.vpcc.edu/wp-content/uploads/2025/09/pinningceremony.jpg
END:VEVENT
BEGIN:VEVENT
DTSTART;TZID=America/New_York:20260513T110000
DTEND;TZID=America/New_York:20260513T130000
DTSTAMP:20260423T195522
CREATED:20260423T175128Z
LAST-MODIFIED:20260423T175128Z
UID:10001572-1778670000-1778677200@www.vpcc.edu
SUMMARY:Food Truck: Flame and Pie
DESCRIPTION:Wednesday\, May 13 — Flame and Pie will be at the Hampton Campus
URL:https://www.vpcc.edu/event/food-truck-flame-and-pie-3/
LOCATION:Virginia Peninsula Communty College\, 99 Thomas Nelson Drive\, Hampton\, VA\, 23666\, United States
CATEGORIES:Hampton Campus
ATTACH;FMTTYPE=image/jpeg:https://www.vpcc.edu/wp-content/uploads/2026/04/food-v2-1.jpg
END:VEVENT
END:VCALENDAR