BEGIN:VCALENDAR
VERSION:2.0
PRODID:-//Virginia Peninsula Community College - ECPv6.15.17//NONSGML v1.0//EN
CALSCALE:GREGORIAN
METHOD:PUBLISH
X-WR-CALNAME:Virginia Peninsula Community College
X-ORIGINAL-URL:https://www.vpcc.edu
X-WR-CALDESC:Events for Virginia Peninsula Community College
REFRESH-INTERVAL;VALUE=DURATION:PT1H
X-Robots-Tag:noindex
X-PUBLISHED-TTL:PT1H
BEGIN:VTIMEZONE
TZID:America/New_York
BEGIN:DAYLIGHT
TZOFFSETFROM:-0500
TZOFFSETTO:-0400
TZNAME:EDT
DTSTART:20240310T070000
END:DAYLIGHT
BEGIN:STANDARD
TZOFFSETFROM:-0400
TZOFFSETTO:-0500
TZNAME:EST
DTSTART:20241103T060000
END:STANDARD
BEGIN:DAYLIGHT
TZOFFSETFROM:-0500
TZOFFSETTO:-0400
TZNAME:EDT
DTSTART:20250309T070000
END:DAYLIGHT
BEGIN:STANDARD
TZOFFSETFROM:-0400
TZOFFSETTO:-0500
TZNAME:EST
DTSTART:20251102T060000
END:STANDARD
BEGIN:DAYLIGHT
TZOFFSETFROM:-0500
TZOFFSETTO:-0400
TZNAME:EDT
DTSTART:20260308T070000
END:DAYLIGHT
BEGIN:STANDARD
TZOFFSETFROM:-0400
TZOFFSETTO:-0500
TZNAME:EST
DTSTART:20261101T060000
END:STANDARD
END:VTIMEZONE
BEGIN:VEVENT
DTSTART;TZID=America/New_York:20250305T180000
DTEND;TZID=America/New_York:20250305T210000
DTSTAMP:20260421T091909
CREATED:20250302T213740Z
LAST-MODIFIED:20250302T213740Z
UID:10000142-1741197600-1741208400@www.vpcc.edu
SUMMARY:SHRM Certification Prep Course
DESCRIPTION:The three hour\, 12-week intensive certification prep program prepares you to sit for the SHRM Certified Professional (SHRM-CP) and SHRM Senior Certified Professional (SHRM-SCP) exams which are the globally-recognized standard in HR certification. \nThis virtual program is offered in partnership with the Society for Human Resource Management (SHRM). \nVirtual Course: March 5 – May 21. Classes take place on Wednesdays from 6 to 9 p.m. \n\nSchedule an appointment and get enrolled today!\n\nThis program is eligible for the Fast Forward scholarship program.
URL:https://www.vpcc.edu/event/shrm-certification-prep-course/
LOCATION:Zoom
CATEGORIES:Workforce Development
ATTACH;FMTTYPE=image/jpeg:https://www.vpcc.edu/wp-content/uploads/2025/03/shrm-event.jpg
END:VEVENT
END:VCALENDAR