BEGIN:VCALENDAR
VERSION:2.0
PRODID:-//Virginia Peninsula Community College - ECPv6.15.17//NONSGML v1.0//EN
CALSCALE:GREGORIAN
METHOD:PUBLISH
X-ORIGINAL-URL:https://www.vpcc.edu
X-WR-CALDESC:Events for Virginia Peninsula Community College
REFRESH-INTERVAL;VALUE=DURATION:PT1H
X-Robots-Tag:noindex
X-PUBLISHED-TTL:PT1H
BEGIN:VTIMEZONE
TZID:America/New_York
BEGIN:DAYLIGHT
TZOFFSETFROM:-0500
TZOFFSETTO:-0400
TZNAME:EDT
DTSTART:20240310T070000
END:DAYLIGHT
BEGIN:STANDARD
TZOFFSETFROM:-0400
TZOFFSETTO:-0500
TZNAME:EST
DTSTART:20241103T060000
END:STANDARD
BEGIN:DAYLIGHT
TZOFFSETFROM:-0500
TZOFFSETTO:-0400
TZNAME:EDT
DTSTART:20250309T070000
END:DAYLIGHT
BEGIN:STANDARD
TZOFFSETFROM:-0400
TZOFFSETTO:-0500
TZNAME:EST
DTSTART:20251102T060000
END:STANDARD
BEGIN:DAYLIGHT
TZOFFSETFROM:-0500
TZOFFSETTO:-0400
TZNAME:EDT
DTSTART:20260308T070000
END:DAYLIGHT
BEGIN:STANDARD
TZOFFSETFROM:-0400
TZOFFSETTO:-0500
TZNAME:EST
DTSTART:20261101T060000
END:STANDARD
END:VTIMEZONE
BEGIN:VEVENT
DTSTART;TZID=America/New_York:20250402T050000
DTEND;TZID=America/New_York:20250402T190000
DTSTAMP:20260421T062959
CREATED:20250327T135659Z
LAST-MODIFIED:20250327T152032Z
UID:10000308-1743570000-1743620400@www.vpcc.edu
SUMMARY:Mandatory Info Session (Class ID 12961)
DESCRIPTION:SUMMER 2025 Info Sessions\n(Class ID 12961) \nHampton Campus: PWDC Room 1301\n600 Butler Farm Road\, Hampton\, VA 23666 \n\nVisit www.vpcc.edu/workforce-development/workforce-programs/\nCLICK REGISTER ONLINE\nCREATE WORKFORCE Account\nSEARCH ID of Info Session and ADD TO CART\n\nFor Additional Information:\nWFDinq@vpcc.edu • (757) 825-4070 • vpcc.edu/workforce
URL:https://www.vpcc.edu/event/mandatory-info-session-at-ht-class-id-12961/
LOCATION:Hampton Campus\, 99 Thomas Nelson Drive\, Hampton\, VA\, 23666\, United States
CATEGORIES:General,Workforce Development
ATTACH;FMTTYPE=image/jpeg:https://www.vpcc.edu/wp-content/uploads/2025/03/mand-info-session-event2.jpg
END:VEVENT
BEGIN:VEVENT
DTSTART;TZID=America/New_York:20250408T173000
DTEND;TZID=America/New_York:20250409T203000
DTSTAMP:20260421T062959
CREATED:20250313T155711Z
LAST-MODIFIED:20250317T204430Z
UID:10000158-1744133400-1744230600@www.vpcc.edu
SUMMARY:DEMYSTIFYING A.I. - A Simple Introduction for First-Time Users
DESCRIPTION:Join us for this interactive workshop and see how AI can transform and improve your business! Whether you’re a seasoned entrepreneur or just starting\, you’ll get the knowledge and tools needed to responsibly and effectively leverage AI. Plus\, you can bring your laptop or tablet! \nAPRIL 8 and 9 from 5:30 – 8:30 p.m. on the Hampton Campus in our Peninsula Workforce Development Center (Room 1117). \nYOU’LL GAIN: \n\nA crystal-clear understanding of AI\nKeys to unlocking efficiency\nWays to spot hidden biases\nTips for future-proofing your business\nInsights on data privacy and responsible AI use\n\nYOU’LL BE EQUIPPED TO: \n\nConfidently discuss AI with your team and colleagues\nDevelop a clear plan for integrating AI into your business strategy\nMake informed decisions about\nAI implementation to maximize benefits and minimize risks\n\nSpace is limited! Don’t miss the real-world examples\, insightful discussions\, and practical takeaways. Call 757-825-4070; or e-mail wdinq@vpcc.edu for more information and to register. $375 per person \nREGISTER HERE\nPresented by Barbara H. Smith\, a best selling author\, speaker\, coach and VPCC Workforce Development Corporate trainer.
URL:https://www.vpcc.edu/event/demystifying-ai-a-simple-introduction/
LOCATION:Peninsula Workforce Development Center\, 600 Butler Farm Road\, Suite A\, Hampton\, VA\, 23666\, United States
CATEGORIES:General,Workforce Development
ATTACH;FMTTYPE=image/jpeg:https://www.vpcc.edu/wp-content/uploads/2025/03/ai-demystify-event.jpg
END:VEVENT
BEGIN:VEVENT
DTSTART;TZID=America/New_York:20250409T170000
DTEND;TZID=America/New_York:20250409T190000
DTSTAMP:20260421T062959
CREATED:20250327T003815Z
LAST-MODIFIED:20250327T151818Z
UID:10000299-1744218000-1744225200@www.vpcc.edu
SUMMARY:Workforce Allied Health Info Session
DESCRIPTION:Interested in learning more about allied health certification training programs? Attend our upcoming information session held at our Peninsula Workforce Development Center building\, conference center 1301-1303.
URL:https://www.vpcc.edu/event/workforce-allied-health-info-session/
LOCATION:Peninsula Workforce Development Center\, 600 Butler Farm Road\, Suite A\, Hampton\, VA\, 23666\, United States
CATEGORIES:General,Student Life,Workforce Development
ATTACH;FMTTYPE=image/jpeg:https://www.vpcc.edu/wp-content/uploads/2025/03/allied-health-info-session.jpg
END:VEVENT
BEGIN:VEVENT
DTSTART;TZID=America/New_York:20250416T170000
DTEND;TZID=America/New_York:20250416T190000
DTSTAMP:20260421T062959
CREATED:20250327T143742Z
LAST-MODIFIED:20250407T173635Z
UID:10000314-1744822800-1744830000@www.vpcc.edu
SUMMARY:Mandatory Info Session (Class ID 12963)
DESCRIPTION:SUMMER 2025 Info Sessions\n(Class ID 12963) \nHistoric Triangle Campus: Suite 222\n4601 Opportunity Way\, Williamsburg\, VA 23188 \n\nVisit www.vpcc.edu/workforce-development/workforce-programs/\nCLICK REGISTER ONLINE\nCREATE WORKFORCE Account\nSEARCH ID of Info Session and ADD TO CART\n\nFor Additional Information:\nWFDinq@vpcc.edu • (757) 825-4070 • vpcc.edu/workforce
URL:https://www.vpcc.edu/event/mandatory-info-session-class-id-12963/
LOCATION:Historic Triangle Campus\, 4601 Opportunity Way\, Williamsburg\, VA\, 23188\, United States
CATEGORIES:General,Workforce Development
ATTACH;FMTTYPE=image/jpeg:https://www.vpcc.edu/wp-content/uploads/2025/03/mand-info-session-event2.jpg
END:VEVENT
BEGIN:VEVENT
DTSTART;TZID=America/New_York:20250417T100000
DTEND;TZID=America/New_York:20250417T130000
DTSTAMP:20260421T062959
CREATED:20250406T194052Z
LAST-MODIFIED:20250411T210402Z
UID:10000321-1744884000-1744894800@www.vpcc.edu
SUMMARY:Empower Your Comeback
DESCRIPTION:Empower Your Comeback: Job Loss Recovery and Resource Fair \nThursday\, April 17\, 2025\n10AM – 1PM \nCelebrate Healthcare will host a series of free resource fairs aimed at empowering individuals experiencing job loss! \nDive into an exciting array of resources\, including a vibrant job fair featuring local employers\, educational opportunities for skill enhancement\, and essential financial assistance programs. Benefit from resume writing workshops\, access vital healthcare services\, health insurance enrollment and receive mental health support to help you navigate this transition. Join us to discover the tools and connections you need to rebuild your future and thrive in your next chapter! \nRSVP bit.ly/joblossresourcefair \nFor information 757-287-0277 or celebratehealthcare.net
URL:https://www.vpcc.edu/event/empower-your-comeback/
LOCATION:Peninsula Workforce Development Center\, 600 Butler Farm Road\, Suite A\, Hampton\, VA\, 23666\, United States
CATEGORIES:General,Workforce Development
ATTACH;FMTTYPE=image/jpeg:https://www.vpcc.edu/wp-content/uploads/2025/04/comeback-event.jpg
END:VEVENT
BEGIN:VEVENT
DTSTART;TZID=America/New_York:20250423T170000
DTEND;TZID=America/New_York:20250423T190000
DTSTAMP:20260421T062959
CREATED:20250327T005128Z
LAST-MODIFIED:20250327T153552Z
UID:10000301-1745427600-1745434800@www.vpcc.edu
SUMMARY:Workforce Allied Health Info Session
DESCRIPTION:Interested in learning more about allied health certification training programs? Attend our upcoming information session held at our Peninsula Workforce Development Center building\, conference center 1301-1303.
URL:https://www.vpcc.edu/event/workforce-allied-health-info-session-2/
LOCATION:Peninsula Workforce Development Center\, 600 Butler Farm Road\, Suite A\, Hampton\, VA\, 23666\, United States
CATEGORIES:General,Student Life,Workforce Development
ATTACH;FMTTYPE=image/jpeg:https://www.vpcc.edu/wp-content/uploads/2025/03/mand-info-session-event2.jpg
END:VEVENT
BEGIN:VEVENT
DTSTART;TZID=America/New_York:20250429T130000
DTEND;TZID=America/New_York:20250429T170000
DTSTAMP:20260421T062959
CREATED:20250325T151514Z
LAST-MODIFIED:20250418T155248Z
UID:10000176-1745931600-1745946000@www.vpcc.edu
SUMMARY:GRAD EXPO 2025
DESCRIPTION:Congratulations Class of 2025! Mark your calendar today for GRAD EXPO! \nCandidates of graduation\, continue to check your Canvas account\, all Commencement 2025 information and event details will be added to your Canvas account. Information will include how to purchase your cap and gown\, event FAQ\, and more! \nFor more information on Commencement event\, visit our Commencement page. \nGRAD EXPO ACTIVITIES: \n\nGrad Cap Decorating\nPhoto Booth\nLight Refreshments\nHonor Cord & Stole Pickup (PTK\, SGA\, TRiO and Veteran)\nDegree Completion Status Check\nCheck-in with Academic Advising
URL:https://www.vpcc.edu/event/commencement-expo-2025/
LOCATION:Kecoughtan Hall\, Gallery\, 99 Thomas Nelson Drive\, Hampton\, VA\, 23666\, United States
CATEGORIES:Athletics,Commencement,General,Student Life,Workforce Development
ATTACH;FMTTYPE=image/jpeg:https://www.vpcc.edu/wp-content/uploads/2025/03/event-grad-expo.jpg
END:VEVENT
BEGIN:VEVENT
DTSTART;TZID=America/New_York:20250430T050000
DTEND;TZID=America/New_York:20250430T190000
DTSTAMP:20260421T062959
CREATED:20250327T144105Z
LAST-MODIFIED:20250327T172242Z
UID:10000315-1745989200-1746039600@www.vpcc.edu
SUMMARY:Mandatory Info Session (Class ID 12964)
DESCRIPTION:SUMMER 2025 Info Sessions\n(Class ID 12964) \nHistoric Triangle Campus: Suite 222\n4601 Opportunity Way\, Williamsburg\, VA 23188 \n\nVisit www.vpcc.edu/workforce-development/workforce-programs/\nCLICK REGISTER ONLINE\nCREATE WORKFORCE Account\nSEARCH ID of Info Session and ADD TO CART\n\nFor Additional Information:\nWFDinq@vpcc.edu • (757) 825-4070 • vpcc.edu/workforce
URL:https://www.vpcc.edu/event/mandatory-info-session-class-id-12964/
LOCATION:Historic Triangle Campus\, 4601 Opportunity Way\, Williamsburg\, VA\, 23188\, United States
CATEGORIES:Workforce Development
ATTACH;FMTTYPE=image/jpeg:https://www.vpcc.edu/wp-content/uploads/2025/03/mand-info-session-event2.jpg
END:VEVENT
BEGIN:VEVENT
DTSTART;TZID=America/New_York:20250430T090000
DTEND;TZID=America/New_York:20250430T130000
DTSTAMP:20260421T062959
CREATED:20250325T153435Z
LAST-MODIFIED:20250418T155401Z
UID:10000177-1746003600-1746018000@www.vpcc.edu
SUMMARY:GRAD EXPO 2025
DESCRIPTION:Congratulations Class of 2025! Mark your calendar today for GRAD EXPO! \nCandidates of graduation\, continue to check your Canvas account\, all Commencement 2025 information and event details will be added to your Canvas account. Information will include how to purchase your cap and gown\, event FAQ\, and more! \nFor more information on Commencement event\, visit our Commencement page. \nGRAD EXPO ACTIVITIES: \n\nGrad Cap Decorating\nPhoto Booth\nLight Refreshments\nHonor Cord & Stole Pickup (PTK\, SGA\, TRiO and Veteran)\nDegree Completion Status Check\nCheck-in with Academic Advising\n\n 
URL:https://www.vpcc.edu/event/grad-expo-2025/
LOCATION:Kecoughtan Hall\, Gallery\, 99 Thomas Nelson Drive\, Hampton\, VA\, 23666\, United States
CATEGORIES:Athletics,Commencement,General,Student Life,Workforce Development
ATTACH;FMTTYPE=image/jpeg:https://www.vpcc.edu/wp-content/uploads/2025/03/event-grad-expo.jpg
END:VEVENT
END:VCALENDAR