BEGIN:VCALENDAR
VERSION:2.0
PRODID:-//Virginia Peninsula Community College - ECPv6.15.17//NONSGML v1.0//EN
CALSCALE:GREGORIAN
METHOD:PUBLISH
X-ORIGINAL-URL:https://www.vpcc.edu
X-WR-CALDESC:Events for Virginia Peninsula Community College
REFRESH-INTERVAL;VALUE=DURATION:PT1H
X-Robots-Tag:noindex
X-PUBLISHED-TTL:PT1H
BEGIN:VTIMEZONE
TZID:America/New_York
BEGIN:DAYLIGHT
TZOFFSETFROM:-0500
TZOFFSETTO:-0400
TZNAME:EDT
DTSTART:20240310T070000
END:DAYLIGHT
BEGIN:STANDARD
TZOFFSETFROM:-0400
TZOFFSETTO:-0500
TZNAME:EST
DTSTART:20241103T060000
END:STANDARD
BEGIN:DAYLIGHT
TZOFFSETFROM:-0500
TZOFFSETTO:-0400
TZNAME:EDT
DTSTART:20250309T070000
END:DAYLIGHT
BEGIN:STANDARD
TZOFFSETFROM:-0400
TZOFFSETTO:-0500
TZNAME:EST
DTSTART:20251102T060000
END:STANDARD
BEGIN:DAYLIGHT
TZOFFSETFROM:-0500
TZOFFSETTO:-0400
TZNAME:EDT
DTSTART:20260308T070000
END:DAYLIGHT
BEGIN:STANDARD
TZOFFSETFROM:-0400
TZOFFSETTO:-0500
TZNAME:EST
DTSTART:20261101T060000
END:STANDARD
END:VTIMEZONE
BEGIN:VEVENT
DTSTART;TZID=America/New_York:20250902T130000
DTEND;TZID=America/New_York:20250902T140000
DTSTAMP:20260420T044957
CREATED:20250709T155833Z
LAST-MODIFIED:20250721T202324Z
UID:10000368-1756818000-1756821600@www.vpcc.edu
SUMMARY:Commit to Complete - Historic Triangle Campus
DESCRIPTION:Student Government Association and Phi Theta Kappa (PTK) invites you to Commit to Complete! \nJoin the movement that’s all about YOU and your success! Commit to Complete is a student-powered campaign that helps you stay on track\, crush your goals\, and graduate with confidence. \nSign the pledge\, set your SMART goals\, and team up with fellow students to stay motivated and inspired. Students will also have the opportunity to apply to graduate. With support from your college\, SGA and PTK\, you’ll have the tools and community to turn your dreams into a certificate\, diploma\, or associates degree. Let’s finish what we started—together! Sign the pledge to commit to complete \nLocation: HT Campus – Student Commons Room
URL:https://www.vpcc.edu/event/commit-to-complete/
LOCATION:Historic Triangle Campus\, 4601 Opportunity Way\, Williamsburg\, VA\, 23188\, United States
CATEGORIES:General,Student Life
ATTACH;FMTTYPE=image/jpeg:https://www.vpcc.edu/wp-content/uploads/2025/07/commit-to-compete.jpg
END:VEVENT
END:VCALENDAR