BEGIN:VCALENDAR
VERSION:2.0
PRODID:-//Virginia Peninsula Community College - ECPv6.15.17//NONSGML v1.0//EN
CALSCALE:GREGORIAN
METHOD:PUBLISH
X-WR-CALNAME:Virginia Peninsula Community College
X-ORIGINAL-URL:https://www.vpcc.edu
X-WR-CALDESC:Events for Virginia Peninsula Community College
REFRESH-INTERVAL;VALUE=DURATION:PT1H
X-Robots-Tag:noindex
X-PUBLISHED-TTL:PT1H
BEGIN:VTIMEZONE
TZID:America/New_York
BEGIN:DAYLIGHT
TZOFFSETFROM:-0500
TZOFFSETTO:-0400
TZNAME:EDT
DTSTART:20240310T070000
END:DAYLIGHT
BEGIN:STANDARD
TZOFFSETFROM:-0400
TZOFFSETTO:-0500
TZNAME:EST
DTSTART:20241103T060000
END:STANDARD
BEGIN:DAYLIGHT
TZOFFSETFROM:-0500
TZOFFSETTO:-0400
TZNAME:EDT
DTSTART:20250309T070000
END:DAYLIGHT
BEGIN:STANDARD
TZOFFSETFROM:-0400
TZOFFSETTO:-0500
TZNAME:EST
DTSTART:20251102T060000
END:STANDARD
BEGIN:DAYLIGHT
TZOFFSETFROM:-0500
TZOFFSETTO:-0400
TZNAME:EDT
DTSTART:20260308T070000
END:DAYLIGHT
BEGIN:STANDARD
TZOFFSETFROM:-0400
TZOFFSETTO:-0500
TZNAME:EST
DTSTART:20261101T060000
END:STANDARD
BEGIN:DAYLIGHT
TZOFFSETFROM:-0500
TZOFFSETTO:-0400
TZNAME:EDT
DTSTART:20270314T070000
END:DAYLIGHT
BEGIN:STANDARD
TZOFFSETFROM:-0400
TZOFFSETTO:-0500
TZNAME:EST
DTSTART:20271107T060000
END:STANDARD
END:VTIMEZONE
BEGIN:VEVENT
DTSTART;TZID=America/New_York:20260408T120000
DTEND;TZID=America/New_York:20260408T140000
DTSTAMP:20260421T113041
CREATED:20260209T040137Z
LAST-MODIFIED:20260407T193116Z
UID:10001469-1775649600-1775656800@www.vpcc.edu
SUMMARY:Spring Festival
DESCRIPTION:Calling all VPCC students! Spring Festival is here! Come join us at our Historic Triangle Campus in Williamsburg for the following: \n\nHealth & Wellness Vendors\nGamer Bus Experience\nFree Student Giveaways\nAnd more!\n\nSponsored by the Office of Student Life and Leadership\, Single Stop\, and the Student Government Association.
URL:https://www.vpcc.edu/event/spring-festival-2/
LOCATION:Historic Triangle Campus\, 4601 Opportunity Way\, Williamsburg\, VA\, 23188\, United States
CATEGORIES:General,Historic Triangle Campus,Student Life
ATTACH;FMTTYPE=image/jpeg:https://www.vpcc.edu/wp-content/uploads/2025/03/spring-fest-event.jpg
END:VEVENT
BEGIN:VEVENT
DTSTART;TZID=America/New_York:20260324T000000
DTEND;TZID=America/New_York:20260324T235959
DTSTAMP:20260421T113041
CREATED:20260209T035339Z
LAST-MODIFIED:20260311T205536Z
UID:10001467-1774310400-1774396799@www.vpcc.edu
SUMMARY:Pop-Up Clothes Closet / Food Drive
DESCRIPTION:The Pop-Up Clothes Closet is open to all students\, faculty\, staff\, and community members who are in need. The event will feature gently used or new items needed for men\, women\, and children\, including: \n\nclothing\nsuits\nprofessional attire\njackets\nshoes\nlunch bags\nbackpacks\ntoiletries\naccessories\nchildren’s books\nand more!\n\nWe’re collecting items for the Pop-Up Clothes Closet to distribute items to all on March 24 from 8 a.m. to 5 p.m. at our Historic Triangle Campus on the 2nd floor landing. ALL ITEMS ARE FREE. \nWe will donate remaining items to various nonprofit groups and thrift stores after the event. Please donate reusable shopping bags or totes\, dropping those off our Historic Triangle Campus. \nFor more information\, contact Sophia King.
URL:https://www.vpcc.edu/event/pop-up-clothes-closet-food-drive-3/
LOCATION:Historic Triangle Campus\, 4601 Opportunity Way\, Williamsburg\, VA\, 23188\, United States
CATEGORIES:Community,General,Historic Triangle Campus,Student Life
ATTACH;FMTTYPE=image/jpeg:https://www.vpcc.edu/wp-content/uploads/2025/11/pop-up-drive.jpg
END:VEVENT
BEGIN:VEVENT
DTSTART;TZID=America/New_York:20260307T100000
DTEND;TZID=America/New_York:20260307T160000
DTSTAMP:20260421T113041
CREATED:20260116T022427Z
LAST-MODIFIED:20260306T232911Z
UID:10001401-1772877600-1772899200@www.vpcc.edu
SUMMARY:Williamsburg Comicon
DESCRIPTION:Virginia Peninsula Community College is thrilled to announce its inaugural Williamsburg Comicon\, a vibrant event celebrating the diverse world of comics\, pop culture\, and creativity. The March 7 event will take place from 10 a.m. to 4 p.m. at the College’s Historic Triangle Campus in Williamsburg at 4601 Opportunity Way. There is no admission charge.
URL:https://www.vpcc.edu/event/williamsburg-comicon/
LOCATION:Historic Triangle Campus\, 4601 Opportunity Way\, Williamsburg\, VA\, 23188\, United States
CATEGORIES:General,Historic Triangle Campus,Student Life,Toano Trades Center
ATTACH;FMTTYPE=image/jpeg:https://www.vpcc.edu/wp-content/uploads/2026/01/comic-con.jpg
END:VEVENT
BEGIN:VEVENT
DTSTART;TZID=America/New_York:20260225T090000
DTEND;TZID=America/New_York:20260225T110000
DTSTAMP:20260421T113041
CREATED:20260209T032928Z
LAST-MODIFIED:20260209T032928Z
UID:10001462-1772010000-1772017200@www.vpcc.edu
SUMMARY:Transfer Fair (Historic Triangle Campus)
DESCRIPTION:STUDENTS: You’re invited to our TRANSFER FAIR on February 25th! Starting at the Historic Triangle Campus at 9:00 a.m. to 11:00 a.m.; then Hampton at 1:00 p.m. to 3:00 p.m. at Kecoughtan Hall\, Gallery\, come out and talk to representatives from the four-year school that you’d like to transfer to! Over 20 schools will be there! #transferfair
URL:https://www.vpcc.edu/event/transfer-fair-historic-triangle-campus-2/
LOCATION:Historic Triangle Campus\, 4601 Opportunity Way\, Williamsburg\, VA\, 23188\, United States
CATEGORIES:General,Historic Triangle Campus,Student Life
ATTACH;FMTTYPE=image/jpeg:https://www.vpcc.edu/wp-content/uploads/2025/07/transfer-fair.jpg
END:VEVENT
BEGIN:VEVENT
DTSTART;TZID=America/New_York:20260224T130000
DTEND;TZID=America/New_York:20260224T140000
DTSTAMP:20260421T113041
CREATED:20260130T191514Z
LAST-MODIFIED:20260222T220227Z
UID:10001453-1771938000-1771941600@www.vpcc.edu
SUMMARY:GROOMED: A 20-minute short film about human trafficking
DESCRIPTION:GROOMED is a must-see docudrama for college students. The event presents GROOMED\, a 20-minute short film about human trafficking in Virginia. Join us on Tuesday\, February 24\, at 1 p.m. at the Historic Triangle Campus — Room 110. Light refreshments will be provided. \nQ&A with Director Angelo Reyes and local survivor Tanya Gould\, who is portrayed in the film\, will follow the showing. \nSponsored by Single Stop and Student Life & Leadership. \nThis project was supported by grant no. 2020-WA-AX-0031 Awarded by the Office on Violence Against Women\, U.S. Department of Justice. The opinions\, findings\, conclusions\, and recommendations expressed in this publication/program/exhibition are those of the authors) and do not necessarily reflect the views of the U.S. Department of Justice.
URL:https://www.vpcc.edu/event/groomed-a-20-minute-short-film-about-human-trafficking-3/
LOCATION:Historic Triangle Campus\, 4601 Opportunity Way\, Williamsburg\, VA\, 23188\, United States
CATEGORIES:General,Historic Triangle Campus,Student Life
ATTACH;FMTTYPE=image/jpeg:https://www.vpcc.edu/wp-content/uploads/2025/02/event-groomed.jpg
END:VEVENT
BEGIN:VEVENT
DTSTART;TZID=America/New_York:20260219T190000
DTEND;TZID=America/New_York:20260219T200000
DTSTAMP:20260421T113041
CREATED:20260209T032602Z
LAST-MODIFIED:20260219T165459Z
UID:10001461-1771527600-1771531200@www.vpcc.edu
SUMMARY:The Homage Exhibit - LECTURE Presentation by curator Nia McAdoo
DESCRIPTION:Don’t miss The Homage Exhibit\, a traveling collection of rare artifacts celebrating African American history\, Feb. 17 at the Historic Triangle Campus and Feb. 19 at the Hampton Campus. The 11 a.m. to 4 p.m. exhibit is free and open to the public. Join us Feb. 19 at 7 p.m. in Hampton for a presentation by curator Nia McAdoo in the Dr. Mary T. Christian Theatre at Templin Hall.
URL:https://www.vpcc.edu/event/the-homage-exhibit-lecture-presentation-by-curator-nia-mcadoo/
LOCATION:Templin Hall\, 99 Thomas Nelson Drive\, Hampton\, VA\, 23666\, United States
CATEGORIES:Community,General,Hampton Campus,Historic Triangle Campus,Kecoughtan Hall,Mary T. Christian Theatre,Student Life
ATTACH;FMTTYPE=image/jpeg:https://www.vpcc.edu/wp-content/uploads/2026/02/homage-v2.jpg
END:VEVENT
BEGIN:VEVENT
DTSTART;TZID=America/New_York:20260217T110000
DTEND;TZID=America/New_York:20260217T160000
DTSTAMP:20260421T113041
CREATED:20260203T143045Z
LAST-MODIFIED:20260216T180845Z
UID:10001458-1771326000-1771344000@www.vpcc.edu
SUMMARY:The Homage Exhibit
DESCRIPTION:Don’t miss The Homage Exhibit\, a traveling collection of rare artifacts celebrating African American history\, Feb. 17 at the Historic Triangle Campus and Feb. 19 at the Hampton Campus. The 11 a.m. to 4 p.m. exhibit is free and open to the public. Join us Feb. 19 at 7 p.m. in Hampton for a presentation by curator Nia McAdoo in the Dr. Mary T. Christian Theatre at Templin Hall.
URL:https://www.vpcc.edu/event/the-homage-exhibit/
LOCATION:Historic Triangle Campus\, 4601 Opportunity Way\, Williamsburg\, VA\, 23188\, United States
CATEGORIES:Community,General,Hampton Campus,Historic Triangle Campus,Kecoughtan Hall,Student Life
ATTACH;FMTTYPE=image/jpeg:https://www.vpcc.edu/wp-content/uploads/2026/02/homage-v2.jpg
END:VEVENT
BEGIN:VEVENT
DTSTART;TZID=America/New_York:20260212T130000
DTEND;TZID=America/New_York:20260212T140000
DTSTAMP:20260421T113041
CREATED:20260209T032223Z
LAST-MODIFIED:20260209T032223Z
UID:10001460-1770901200-1770904800@www.vpcc.edu
SUMMARY:Testing Center Open House
DESCRIPTION:Testing Center Open House and Information Session\nThursday\, Feb. 12 at 1:00 p.m.\nHampton Campus\, Kecoughtan Hall\, Room 254\n99 Thomas Nelson Drive\, Hampton\, VA 23666 \nJoin us at our Spring Open House to meet our staff while learning about Testing Center updates. \nOpen to Students\, Faculty and Staff \n 
URL:https://www.vpcc.edu/event/testing-center-open-house-2/
LOCATION:Hampton Campus\, 99 Thomas Nelson Drive\, Hampton\, VA\, 23666\, United States
CATEGORIES:Historic Triangle Campus
ATTACH;FMTTYPE=image/jpeg:https://www.vpcc.edu/wp-content/uploads/2025/01/open-house-cal.jpg
ORGANIZER;CN="VPCC Testing Center":MAILTO:testing@vpcc.edu
END:VEVENT
BEGIN:VEVENT
DTSTART;TZID=America/New_York:20260209T100000
DTEND;TZID=America/New_York:20260209T140000
DTSTAMP:20260421T113041
CREATED:20260130T185133Z
LAST-MODIFIED:20260130T185133Z
UID:10001452-1770631200-1770645600@www.vpcc.edu
SUMMARY:Testing Center Open House
DESCRIPTION:Testing Center Open House and Information Session\nMonday\, Feb. 9 at 10 a.m.\nHistoric Triangle Campus\, Room 123\n4601 Opportunity Way\, Williamsburg\, VA 23188 \nJoin us at our Spring Open House to meet our staff while learning about Testing Center updates. \nOpen to Students\, Faculty and Staff \n 
URL:https://www.vpcc.edu/event/testing-center-open-house/
LOCATION:Historic Triangle Campus\, 4601 Opportunity Way\, Williamsburg\, VA\, 23188\, United States
CATEGORIES:Historic Triangle Campus
ATTACH;FMTTYPE=image/jpeg:https://www.vpcc.edu/wp-content/uploads/2025/01/open-house-cal.jpg
ORGANIZER;CN="VPCC Testing Center":MAILTO:testing@vpcc.edu
END:VEVENT
BEGIN:VEVENT
DTSTART;TZID=America/New_York:20260202T000000
DTEND;TZID=America/New_York:20260202T235959
DTSTAMP:20260421T113041
CREATED:20260202T142738Z
LAST-MODIFIED:20260202T142913Z
UID:10001457-1769990400-1770076799@www.vpcc.edu
SUMMARY:VPCC Remote Learning Day
DESCRIPTION:All Virginia Peninsula Community College campuses\, offices and satellite locations will operate on a remote basis Monday\, Feb. 2. Employees and students should monitor their email for additional information and guidance from their supervisors and instructors.
URL:https://www.vpcc.edu/event/vpcc-remote-learning-day/
LOCATION:Virginia Peninsula Communty College\, 99 Thomas Nelson Drive\, Hampton\, VA\, 23666\, United States
CATEGORIES:Admissions,Community,Faculty & Staff,General,Hampton Campus,Historic Triangle Campus,Kecoughtan Hall,PWDC,Templin Hall,Toano Trades Center,Workforce Development
ATTACH;FMTTYPE=image/jpeg:https://www.vpcc.edu/wp-content/uploads/2025/12/modifoed-schedule.jpg
END:VEVENT
BEGIN:VEVENT
DTSTART;TZID=America/New_York:20260126T000000
DTEND;TZID=America/New_York:20260126T235959
DTSTAMP:20260421T113041
CREATED:20260125T232648Z
LAST-MODIFIED:20260125T232648Z
UID:10001439-1769385600-1769471999@www.vpcc.edu
SUMMARY:VPCC Remote Learning - Monday\, Jan. 26
DESCRIPTION:The College will operate on a remote basis Monday\, Jan. 26. Employees and students should monitor their email for additional information and guidance from their supervisors and instructors. \nCollege officials are closely monitoring information and guidance from weather professionals and emergency management agencies. Conditions permitting\, campuses in Hampton and Williamsburg\, along with satellite locations\, will reopen Tuesday\, Jan. 27. \nIn the meantime\, the College encourages students and staff to confirm they are signed up for emergency messages through GatorAlert (www.vpcc.edu/gatoralert)\, continue monitoring VPCC email for updates\, and prepare for remote work and learning.
URL:https://www.vpcc.edu/event/vpcc-remote-learning-monday-jan-26/
LOCATION:Virginia Peninsula Communty College\, 99 Thomas Nelson Drive\, Hampton\, VA\, 23666\, United States
CATEGORIES:Admissions,CEECD,Community,General,Historic Triangle Campus,Kecoughtan Hall,PWDC,Templin Hall,Toano Trades Center,Workforce Development
ATTACH;FMTTYPE=image/jpeg:https://www.vpcc.edu/wp-content/uploads/2025/12/modifoed-schedule.jpg
END:VEVENT
BEGIN:VEVENT
DTSTART;TZID=America/New_York:20260119T000000
DTEND;TZID=America/New_York:20260119T235959
DTSTAMP:20260421T113041
CREATED:20260114T213344Z
LAST-MODIFIED:20260114T213344Z
UID:10001400-1768780800-1768867199@www.vpcc.edu
SUMMARY:Martin Luther King Day
DESCRIPTION:In honor of the Dr. Martin Luther King\, Jr. federal holiday\, all campus offices at all locations will be closed on Monday\, January 19\, 2026. For more information about other holiday closings\, please visit our Academic Calendar.
URL:https://www.vpcc.edu/event/martin-luther-king-day/
LOCATION:Virginia Peninsula Communty College\, 99 Thomas Nelson Drive\, Hampton\, VA\, 23666\, United States
CATEGORIES:Community,Faculty & Staff,General,Historic Triangle Campus,Kecoughtan Hall,Student Life,Templin Hall,Toano Trades Center,Workforce Development
ATTACH;FMTTYPE=image/jpeg:https://www.vpcc.edu/wp-content/uploads/2026/01/mlk-day.jpg
END:VEVENT
BEGIN:VEVENT
DTSTART;TZID=America/New_York:20260115T120000
DTEND;TZID=America/New_York:20260115T140000
DTSTAMP:20260421T113041
CREATED:20251213T052002Z
LAST-MODIFIED:20251213T052125Z
UID:10001381-1768478400-1768485600@www.vpcc.edu
SUMMARY:Student Welcome Day!
DESCRIPTION:Students are invited to celebrate the start of a new semester at Virginia Peninsula Community College! Join us on Thursday\, Jan. 15th 12-2 p.m. on the Historic Triangle Campus 2nd floor landing! \nJOIN THE FUN! \n\nDJ\nInformation Tables\nStudents Ambassadors assisting students\nPrizes and more! \n\nSponsored by the Office of Student Life and Leadership
URL:https://www.vpcc.edu/event/student-welcome-day-3/
LOCATION:Historic Triangle Campus\, 4601 Opportunity Way\, Williamsburg\, VA\, 23188\, United States
CATEGORIES:Athletics,General,Historic Triangle Campus,Student Life,Workforce Development
ATTACH;FMTTYPE=image/jpeg:https://www.vpcc.edu/wp-content/uploads/2025/07/student-welcome-day.jpg
END:VEVENT
BEGIN:VEVENT
DTSTART;TZID=America/New_York:20260107T080000
DTEND;TZID=America/New_York:20260107T110000
DTSTAMP:20260421T113041
CREATED:20260106T152422Z
LAST-MODIFIED:20260106T152422Z
UID:10001398-1767772800-1767783600@www.vpcc.edu
SUMMARY:Modified Office Hours
DESCRIPTION:Virginia Peninsula Community College will be closed to visitors on Wednesday\, January 7\, 2026 from 8 to 11 a.m. for an internal faculty and staff function. Normal business operations will resume after 11 as normal.
URL:https://www.vpcc.edu/event/modified-office-hours/
LOCATION:Virginia Peninsula Communty College\, 99 Thomas Nelson Drive\, Hampton\, VA\, 23666\, United States
CATEGORIES:Admissions,Faculty & Staff,General,Historic Triangle Campus,Kecoughtan Hall,PWDC,Templin Hall,Toano Trades Center,Workforce Development
ATTACH;FMTTYPE=image/jpeg:https://www.vpcc.edu/wp-content/uploads/2025/07/college-event.jpg
END:VEVENT
BEGIN:VEVENT
DTSTART;TZID=America/New_York:20251217T180000
DTEND;TZID=America/New_York:20251217T200000
DTSTAMP:20260421T113041
CREATED:20250905T232910Z
LAST-MODIFIED:20251209T210132Z
UID:10000894-1765994400-1766001600@www.vpcc.edu
SUMMARY:EMS Pinning Ceremony
DESCRIPTION:VPCC EMS Pinning Ceremony \nDate: Wednesday\, December 17\, 2025 \nTime: 6:00 p.m. \nLocation: Historic Triangle Campus\, 2nd floor landing
URL:https://www.vpcc.edu/event/ems-pinning-ceremony/
LOCATION:Historic Triangle Campus\, 4601 Opportunity Way\, Williamsburg\, VA\, 23188\, United States
CATEGORIES:Historic Triangle Campus
ATTACH;FMTTYPE=image/jpeg:https://www.vpcc.edu/wp-content/uploads/2025/09/pinningceremony.jpg
END:VEVENT
BEGIN:VEVENT
DTSTART;TZID=America/New_York:20251209T080000
DTEND;TZID=America/New_York:20251209T170000
DTSTAMP:20260421T113041
CREATED:20251208T214019Z
LAST-MODIFIED:20251208T215219Z
UID:10001379-1765267200-1765299600@www.vpcc.edu
SUMMARY:MODIFIED SCHEDULE: Inclement Weather
DESCRIPTION:Virginia Peninsula Community College will operate remotely during regular business hours Tuesday\, Dec. 9\, due to inclement weather. In-person classes and events that begin at or after 5 p.m. will take place. Students should check Canvas for additional details. Employees should check their email. \nVisit https://www.vpcc.edu/alert-updates for updates.
URL:https://www.vpcc.edu/event/modified-schedule-inclement-weather/
LOCATION:Virginia Peninsula Communty College\, 99 Thomas Nelson Drive\, Hampton\, VA\, 23666\, United States
CATEGORIES:Community,General,Historic Triangle Campus,PWDC,Toano Trades Center
ATTACH;FMTTYPE=image/jpeg:https://www.vpcc.edu/wp-content/uploads/2025/12/modifoed-schedule.jpg
END:VEVENT
BEGIN:VEVENT
DTSTART;TZID=America/New_York:20251119T130000
DTEND;TZID=America/New_York:20251119T150000
DTSTAMP:20260421T113041
CREATED:20251030T000757Z
LAST-MODIFIED:20251104T144710Z
UID:10000978-1763557200-1763564400@www.vpcc.edu
SUMMARY:Feature Film The Six Triple Eight by Tyler Perry
DESCRIPTION:Students\, faculty\, staff\, and members of the local community are invited to join us for a “Color of Freedom” event — the showing of the Feature Film “The Six Triple Eight by Tyler Perry.”  This will take place at 1:00 p.m. in the Commonwealth Room 110 at Historic Triangle Campus. This event is free and open to the public. \nRSVP today: https://forms.gle/B3NQFBJEyMkkvQgM7 \nFor more information\, please contact Prof. Amy Anderson. \n🥫Support Our Food Pantry!\nHelp us keep our shelves stocked and our community cared for. We are accepting donations of non-perishable food items and basic daily necessities. Every contribution makes a difference — thank you for helping us support those in need!
URL:https://www.vpcc.edu/event/feature-film-the-six-triple-eight-by-tyler-perry-2/
LOCATION:Historic Triangle Campus\, 4601 Opportunity Way\, Williamsburg\, VA\, 23188\, United States
CATEGORIES:Community,General,Historic Triangle Campus,Student Life
ATTACH;FMTTYPE=image/jpeg:https://www.vpcc.edu/wp-content/uploads/2025/10/film-screening.jpg
END:VEVENT
BEGIN:VEVENT
DTSTART;TZID=America/New_York:20251112T130000
DTEND;TZID=America/New_York:20251112T140000
DTSTAMP:20260421T113041
CREATED:20251029T235808Z
LAST-MODIFIED:20251104T144619Z
UID:10000976-1762952400-1762956000@www.vpcc.edu
SUMMARY:Film Screening: Unsung Heroes - The Story of America’s Female Patriots
DESCRIPTION:Students\, faculty\, staff\, and members of the local community are invited to join us for a “Color of Freedom” event — the showing of the documentary film\, “Unsung Heroes: The Story of America’s Female Patriots.”  This will take place at 1 p.m. in the Commonwealth Room 110 at the Historic Triangle Campus. This event is free and open to the public. \nRSVP today: https://forms.gle/B3NQFBJEyMkkvQgM7 \nFor more information\, please contact Prof. Amy Anderson. \n🥫Support Our Food Pantry!\nHelp us keep our shelves stocked and our community cared for. We are accepting donations of non-perishable food items and basic daily necessities. Every contribution makes a difference — thank you for helping us support those in need!
URL:https://www.vpcc.edu/event/film-screening-unsung-heroes-the-story-of-americas-female-patriots-2/
LOCATION:Historic Triangle Campus\, 4601 Opportunity Way\, Williamsburg\, VA\, 23188\, United States
CATEGORIES:Community,General,Historic Triangle Campus,Student Life
ATTACH;FMTTYPE=image/jpeg:https://www.vpcc.edu/wp-content/uploads/2025/10/film-screening.jpg
END:VEVENT
BEGIN:VEVENT
DTSTART;TZID=America/New_York:20251105T130000
DTEND;TZID=America/New_York:20251105T140000
DTSTAMP:20260421T113041
CREATED:20251028T151326Z
LAST-MODIFIED:20251104T144442Z
UID:10000974-1762347600-1762351200@www.vpcc.edu
SUMMARY:Film Screening: Unsung Heroes - The Six Triple Eight: No Mail\, Low Morale by James Theres
DESCRIPTION:Students\, faculty\, staff\, and members of the local community are invited to join us for a “Color of Freedom” event — the showing of the documentary film\, “Unsung Heroes: The Six Triple Eight: No Mail\, Low Morale by James Theres.” This will take place at 1 p.m. in the Commonwealth Room 110 at the Historic Triangle Campus. This event is free and open to the public. \nRSVP today: https://forms.gle/B3NQFBJEyMkkvQgM7 \nFor more information\, please contact Prof. Amy Anderson. \n🥫Support Our Food Pantry!\nHelp us keep our shelves stocked and our community cared for. We are accepting donations of non-perishable food items and basic daily necessities. Every contribution makes a difference — thank you for helping us support those in need!
URL:https://www.vpcc.edu/event/film-screening-unsung-heroes-2/
LOCATION:Historic Triangle Campus\, 4601 Opportunity Way\, Williamsburg\, VA\, 23188\, United States
CATEGORIES:Community,General,Historic Triangle Campus,Student Life
ATTACH;FMTTYPE=image/jpeg:https://www.vpcc.edu/wp-content/uploads/2025/10/film-screening.jpg
END:VEVENT
END:VCALENDAR