BEGIN:VCALENDAR
VERSION:2.0
PRODID:-//Virginia Peninsula Community College - ECPv6.15.17//NONSGML v1.0//EN
CALSCALE:GREGORIAN
METHOD:PUBLISH
X-WR-CALNAME:Virginia Peninsula Community College
X-ORIGINAL-URL:https://www.vpcc.edu
X-WR-CALDESC:Events for Virginia Peninsula Community College
REFRESH-INTERVAL;VALUE=DURATION:PT1H
X-Robots-Tag:noindex
X-PUBLISHED-TTL:PT1H
BEGIN:VTIMEZONE
TZID:America/New_York
BEGIN:DAYLIGHT
TZOFFSETFROM:-0500
TZOFFSETTO:-0400
TZNAME:EDT
DTSTART:20240310T070000
END:DAYLIGHT
BEGIN:STANDARD
TZOFFSETFROM:-0400
TZOFFSETTO:-0500
TZNAME:EST
DTSTART:20241103T060000
END:STANDARD
BEGIN:DAYLIGHT
TZOFFSETFROM:-0500
TZOFFSETTO:-0400
TZNAME:EDT
DTSTART:20250309T070000
END:DAYLIGHT
BEGIN:STANDARD
TZOFFSETFROM:-0400
TZOFFSETTO:-0500
TZNAME:EST
DTSTART:20251102T060000
END:STANDARD
BEGIN:DAYLIGHT
TZOFFSETFROM:-0500
TZOFFSETTO:-0400
TZNAME:EDT
DTSTART:20260308T070000
END:DAYLIGHT
BEGIN:STANDARD
TZOFFSETFROM:-0400
TZOFFSETTO:-0500
TZNAME:EST
DTSTART:20261101T060000
END:STANDARD
END:VTIMEZONE
BEGIN:VEVENT
DTSTART;TZID=America/New_York:20250707T000000
DTEND;TZID=America/New_York:20250710T235959
DTSTAMP:20260419T185747
CREATED:20250516T210334Z
LAST-MODIFIED:20250516T210407Z
UID:10000345-1751846400-1752191999@www.vpcc.edu
SUMMARY:Health Science Summer Camp: Historic Triangle Campus
DESCRIPTION:EXPLORE. LEARN. DISCOVER. Hands-on healthcare experiences\nYou’re invited to enroll in our 2025 Health Science Summer Camp! The camp offers the perfect opportunity for middle school students to explore the world of healthcare. Lunch and snacks provided! \nDAILY SCHEDULE \n\nDrop-off: 8:30 a.m.\nActivities: 9 a.m. – 4:30 p.m.\nPick-up: By 5 p.m.\n\nREGISTER HERE
URL:https://www.vpcc.edu/event/health-science-summer-camp-historic-triangle-campus/
LOCATION:Historic Triangle Campus\, 4601 Opportunity Way\, Williamsburg\, VA\, 23188\, United States
CATEGORIES:General,Nursing
ATTACH;FMTTYPE=image/jpeg:https://www.vpcc.edu/wp-content/uploads/2025/05/health-science-summer-camp.jpg
END:VEVENT
BEGIN:VEVENT
DTSTART;TZID=America/New_York:20250709T140000
DTEND;TZID=America/New_York:20250709T170000
DTSTAMP:20260419T185747
CREATED:20250527T213927Z
LAST-MODIFIED:20250711T140747Z
UID:10000353-1752069600-1752080400@www.vpcc.edu
SUMMARY:FASTTRACK
DESCRIPTION:Summer and Fall 2025 \nENROLL IN A DAY! \nHampton Campus – Kecoughtan Hall / Advising Suite\, Room 201 \nHistoric Triangle Campus\, Williamsburg – Room 117 \n2 – 5 p.m. \nReady to Start Your Future?\nMeet with Admissions\, Advising and\nFinancial Aid all at once\nApply and get enrolled\nGet answers to your questions with\nguidance every step of the way\nStart your journey today \nWhat to Bring:\nStudent ID number\, if you already applied to VPCC\nGovernment-issued photo ID\nUnofficial high school\, GED or college transcripts\nVisa and relevant immigration documents for\ninternational or immigrant students\nMilitary orders\, COE\, DD214 and military ID\, if you\nare active duty\, veteran\, or a dependent \nGot questions or can’t\nattend? Contact us at\nadmissions@vpcc.edu \n 
URL:https://www.vpcc.edu/event/fasttrack-3/
LOCATION:Hampton Campus\, 99 Thomas Nelson Drive\, Hampton\, VA\, 23666\, United States
CATEGORIES:Admissions,General
ATTACH;FMTTYPE=image/jpeg:https://www.vpcc.edu/wp-content/uploads/2025/05/events-fastrack.jpg
END:VEVENT
END:VCALENDAR