BEGIN:VCALENDAR
VERSION:2.0
PRODID:-//Virginia Peninsula Community College - ECPv6.15.17//NONSGML v1.0//EN
CALSCALE:GREGORIAN
METHOD:PUBLISH
X-ORIGINAL-URL:https://www.vpcc.edu
X-WR-CALDESC:Events for Virginia Peninsula Community College
REFRESH-INTERVAL;VALUE=DURATION:PT1H
X-Robots-Tag:noindex
X-PUBLISHED-TTL:PT1H
BEGIN:VTIMEZONE
TZID:America/New_York
BEGIN:DAYLIGHT
TZOFFSETFROM:-0500
TZOFFSETTO:-0400
TZNAME:EDT
DTSTART:20240310T070000
END:DAYLIGHT
BEGIN:STANDARD
TZOFFSETFROM:-0400
TZOFFSETTO:-0500
TZNAME:EST
DTSTART:20241103T060000
END:STANDARD
BEGIN:DAYLIGHT
TZOFFSETFROM:-0500
TZOFFSETTO:-0400
TZNAME:EDT
DTSTART:20250309T070000
END:DAYLIGHT
BEGIN:STANDARD
TZOFFSETFROM:-0400
TZOFFSETTO:-0500
TZNAME:EST
DTSTART:20251102T060000
END:STANDARD
BEGIN:DAYLIGHT
TZOFFSETFROM:-0500
TZOFFSETTO:-0400
TZNAME:EDT
DTSTART:20260308T070000
END:DAYLIGHT
BEGIN:STANDARD
TZOFFSETFROM:-0400
TZOFFSETTO:-0500
TZNAME:EST
DTSTART:20261101T060000
END:STANDARD
END:VTIMEZONE
BEGIN:VEVENT
DTSTART;TZID=America/New_York:20250602T000000
DTEND;TZID=America/New_York:20250602T235959
DTSTAMP:20260419T203545
CREATED:20250122T203932Z
LAST-MODIFIED:20250228T200244Z
UID:10000085-1748822400-1748908799@www.vpcc.edu
SUMMARY:10-Week Session - Last Day to Add/Change Classes
DESCRIPTION:The last day to add or change classes is Monday\, June 2\, 2025. Please refer to our Academic Calendar for additional information.
URL:https://www.vpcc.edu/event/10-week-session-last-day-to-add-change-classes/
LOCATION:Virginia Peninsula Communty College\, 99 Thomas Nelson Drive\, Hampton\, VA\, 23666\, United States
CATEGORIES:Admissions,General
ATTACH;FMTTYPE=image/jpeg:https://www.vpcc.edu/wp-content/uploads/2025/01/academic-event2-1.jpg
END:VEVENT
BEGIN:VEVENT
DTSTART;TZID=America/New_York:20250602T000000
DTEND;TZID=America/New_York:20250602T235959
DTSTAMP:20260419T203545
CREATED:20250128T161842Z
LAST-MODIFIED:20250228T200305Z
UID:10000100-1748822400-1748908799@www.vpcc.edu
SUMMARY:5-Week 1 Session - Last Day to Drop for a Refund
DESCRIPTION:For our standard 5 Week 1 Summer Session\, the last day to drop for a refund is Monday\, June 2\, 2025. Please refer to our Academic Calendar for additional information.
URL:https://www.vpcc.edu/event/5-week-1-session-last-day-to-drop-for-a-refund/
LOCATION:Virginia Peninsula Communty College\, 99 Thomas Nelson Drive\, Hampton\, VA\, 23666\, United States
CATEGORIES:Admissions,General
ATTACH;FMTTYPE=image/jpeg:https://www.vpcc.edu/wp-content/uploads/2025/01/academic-event2-1.jpg
END:VEVENT
END:VCALENDAR