BEGIN:VCALENDAR
VERSION:2.0
PRODID:-//Virginia Peninsula Community College - ECPv6.15.17//NONSGML v1.0//EN
CALSCALE:GREGORIAN
METHOD:PUBLISH
X-WR-CALNAME:Virginia Peninsula Community College
X-ORIGINAL-URL:https://www.vpcc.edu
X-WR-CALDESC:Events for Virginia Peninsula Community College
REFRESH-INTERVAL;VALUE=DURATION:PT1H
X-Robots-Tag:noindex
X-PUBLISHED-TTL:PT1H
BEGIN:VTIMEZONE
TZID:America/New_York
BEGIN:DAYLIGHT
TZOFFSETFROM:-0500
TZOFFSETTO:-0400
TZNAME:EDT
DTSTART:20240310T070000
END:DAYLIGHT
BEGIN:STANDARD
TZOFFSETFROM:-0400
TZOFFSETTO:-0500
TZNAME:EST
DTSTART:20241103T060000
END:STANDARD
BEGIN:DAYLIGHT
TZOFFSETFROM:-0500
TZOFFSETTO:-0400
TZNAME:EDT
DTSTART:20250309T070000
END:DAYLIGHT
BEGIN:STANDARD
TZOFFSETFROM:-0400
TZOFFSETTO:-0500
TZNAME:EST
DTSTART:20251102T060000
END:STANDARD
BEGIN:DAYLIGHT
TZOFFSETFROM:-0500
TZOFFSETTO:-0400
TZNAME:EDT
DTSTART:20260308T070000
END:DAYLIGHT
BEGIN:STANDARD
TZOFFSETFROM:-0400
TZOFFSETTO:-0500
TZNAME:EST
DTSTART:20261101T060000
END:STANDARD
END:VTIMEZONE
BEGIN:VEVENT
DTSTART;TZID=America/New_York:20250510T000000
DTEND;TZID=America/New_York:20250510T235959
DTSTAMP:20260419T220027
CREATED:20250116T152017Z
LAST-MODIFIED:20250228T200129Z
UID:10000056-1746835200-1746921599@www.vpcc.edu
SUMMARY:16-Week Session - Classes End (includes examinations)
DESCRIPTION:Classes\, including examinations\, will end for our 16-Week Session on Saturday\, May 10\, 2025. Please refer to our Academic Calendar for additional information.
URL:https://www.vpcc.edu/event/16-week-session-classes-end-includes-examinations-3/
LOCATION:Virginia Peninsula Communty College\, 99 Thomas Nelson Drive\, Hampton\, VA\, 23666\, United States
CATEGORIES:Admissions,General
ATTACH;FMTTYPE=image/jpeg:https://www.vpcc.edu/wp-content/uploads/2025/01/academic-event2.jpg
END:VEVENT
BEGIN:VEVENT
DTSTART;TZID=America/New_York:20250510T000000
DTEND;TZID=America/New_York:20250510T235959
DTSTAMP:20260419T220027
CREATED:20250116T161412Z
LAST-MODIFIED:20250228T200153Z
UID:10000063-1746835200-1746921599@www.vpcc.edu
SUMMARY:12-Week Session - Classes End (includes exams)
DESCRIPTION:Classes\, including examinations for our 12-Week Session\, will end on Saturday\, May 10\, 2025. Please refer to our Academic Calendar for additional information.
URL:https://www.vpcc.edu/event/12-week-session-classes-end-includes-examinations/
LOCATION:Virginia Peninsula Communty College\, 99 Thomas Nelson Drive\, Hampton\, VA\, 23666\, United States
CATEGORIES:General
ATTACH;FMTTYPE=image/jpeg:https://www.vpcc.edu/wp-content/uploads/2025/01/academic-event2.jpg
END:VEVENT
BEGIN:VEVENT
DTSTART;TZID=America/New_York:20250510T000000
DTEND;TZID=America/New_York:20250510T235959
DTSTAMP:20260419T220027
CREATED:20250121T192614Z
LAST-MODIFIED:20250228T200220Z
UID:10000081-1746835200-1746921599@www.vpcc.edu
SUMMARY:8-Week 2 Session - Classes End (includes exams)
DESCRIPTION:Classes\, including examinations for our 8-Week 2 Session\, will end on Saturday\, May 10\, 2025. Please refer to our Academic Calendar for additional information.
URL:https://www.vpcc.edu/event/8-week-2-session-classes-end-includes-examinations/
LOCATION:Virginia Peninsula Communty College\, 99 Thomas Nelson Drive\, Hampton\, VA\, 23666\, United States
CATEGORIES:General
ATTACH;FMTTYPE=image/jpeg:https://www.vpcc.edu/wp-content/uploads/2025/01/academic-event2-1.jpg
END:VEVENT
END:VCALENDAR