BEGIN:VCALENDAR
VERSION:2.0
PRODID:-//Virginia Peninsula Community College - ECPv6.15.17//NONSGML v1.0//EN
CALSCALE:GREGORIAN
METHOD:PUBLISH
X-ORIGINAL-URL:https://www.vpcc.edu
X-WR-CALDESC:Events for Virginia Peninsula Community College
REFRESH-INTERVAL;VALUE=DURATION:PT1H
X-Robots-Tag:noindex
X-PUBLISHED-TTL:PT1H
BEGIN:VTIMEZONE
TZID:America/New_York
BEGIN:DAYLIGHT
TZOFFSETFROM:-0500
TZOFFSETTO:-0400
TZNAME:EDT
DTSTART:20240310T070000
END:DAYLIGHT
BEGIN:STANDARD
TZOFFSETFROM:-0400
TZOFFSETTO:-0500
TZNAME:EST
DTSTART:20241103T060000
END:STANDARD
BEGIN:DAYLIGHT
TZOFFSETFROM:-0500
TZOFFSETTO:-0400
TZNAME:EDT
DTSTART:20250309T070000
END:DAYLIGHT
BEGIN:STANDARD
TZOFFSETFROM:-0400
TZOFFSETTO:-0500
TZNAME:EST
DTSTART:20251102T060000
END:STANDARD
BEGIN:DAYLIGHT
TZOFFSETFROM:-0500
TZOFFSETTO:-0400
TZNAME:EDT
DTSTART:20260308T070000
END:DAYLIGHT
BEGIN:STANDARD
TZOFFSETFROM:-0400
TZOFFSETTO:-0500
TZNAME:EST
DTSTART:20261101T060000
END:STANDARD
END:VTIMEZONE
BEGIN:VTIMEZONE
TZID:UTC
BEGIN:STANDARD
TZOFFSETFROM:+0000
TZOFFSETTO:+0000
TZNAME:UTC
DTSTART:20240101T000000
END:STANDARD
END:VTIMEZONE
BEGIN:VEVENT
DTSTART;TZID=America/New_York:20250418T000000
DTEND;TZID=America/New_York:20250418T235959
DTSTAMP:20260419T235227
CREATED:20250121T192330Z
LAST-MODIFIED:20250228T200109Z
UID:10000080-1744934400-1745020799@www.vpcc.edu
SUMMARY:8-Week 2 Session - Last Day to Drop with a Grade of “W”
DESCRIPTION:For our 8 Week 2 Session\, the last day to drop with a grade of “W” is Friday\, April 18\, 2025. Please refer to our Academic Calendar for additional information.
URL:https://www.vpcc.edu/event/8-week-2-session-last-day-to-drop-with-a-grade-of-w/
LOCATION:Virginia Peninsula Communty College\, 99 Thomas Nelson Drive\, Hampton\, VA\, 23666\, United States
CATEGORIES:General
ATTACH;FMTTYPE=image/jpeg:https://www.vpcc.edu/wp-content/uploads/2025/01/academic-event2-1.jpg
END:VEVENT
BEGIN:VEVENT
DTSTART;TZID=America/New_York:20250418T110000
DTEND;TZID=America/New_York:20250418T130000
DTSTAMP:20260419T235227
CREATED:20250415T204443Z
LAST-MODIFIED:20250416T211219Z
UID:10000243-1744974000-1744981200@www.vpcc.edu
SUMMARY:Tutor Time
DESCRIPTION:Hampton Campus\, Kecoughtan Hall –  Room 228A \nSponsored by the Office of Student Life and Leadership and Tutoring Center
URL:https://www.vpcc.edu/event/lunch-learn-tutoring-4/2025-04-18/
LOCATION:Kecoughtan Hall\, Gallery\, 99 Thomas Nelson Drive\, Hampton\, VA\, 23666\, United States
CATEGORIES:General,Student Life
ATTACH;FMTTYPE=image/jpeg:https://www.vpcc.edu/wp-content/uploads/2025/04/tutor-time-events.jpg
END:VEVENT
BEGIN:VEVENT
DTSTART;TZID=UTC:20250418T130000
DTEND;TZID=UTC:20250418T140000
DTSTAMP:20260419T235227
CREATED:20241101T192758Z
LAST-MODIFIED:20250302T182508Z
UID:10000026-1744981200-1744984800@www.vpcc.edu
SUMMARY:SGA Meeting
DESCRIPTION:SGA Meetings – Held on the first and third Fridays at 1:00 pm \nJoin the Student Government Association (SGA) meeting with the Student Senate and Executive Officers to discuss upcoming events and issues that impact Virginia Peninsula students on our campuses and within our communities. The SGA is the “Voice of the Students” so please take advantage of the opportunity to let us hear your voice! \nAll students are invited and welcome to attend! \nJoin Zoom Meeting:\nhttps://vccs.zoom.us/j/81697732476?pwd=QUJHYndxZjBvcWxFWm9CT1U0bzJJZz09\nMeeting ID: 816 9773 2476\nPasscode: 840867
URL:https://www.vpcc.edu/event/sga-meeting/2025-04-18/
LOCATION:VA
CATEGORIES:General,Student Life
ATTACH;FMTTYPE=image/jpeg:https://www.vpcc.edu/wp-content/uploads/2024/11/sga-flyer.jpg
END:VEVENT
END:VCALENDAR