BEGIN:VCALENDAR
VERSION:2.0
PRODID:-//Virginia Peninsula Community College - ECPv6.15.17//NONSGML v1.0//EN
CALSCALE:GREGORIAN
METHOD:PUBLISH
X-WR-CALNAME:Virginia Peninsula Community College
X-ORIGINAL-URL:https://www.vpcc.edu
X-WR-CALDESC:Events for Virginia Peninsula Community College
REFRESH-INTERVAL;VALUE=DURATION:PT1H
X-Robots-Tag:noindex
X-PUBLISHED-TTL:PT1H
BEGIN:VTIMEZONE
TZID:America/New_York
BEGIN:DAYLIGHT
TZOFFSETFROM:-0500
TZOFFSETTO:-0400
TZNAME:EDT
DTSTART:20240310T070000
END:DAYLIGHT
BEGIN:STANDARD
TZOFFSETFROM:-0400
TZOFFSETTO:-0500
TZNAME:EST
DTSTART:20241103T060000
END:STANDARD
BEGIN:DAYLIGHT
TZOFFSETFROM:-0500
TZOFFSETTO:-0400
TZNAME:EDT
DTSTART:20250309T070000
END:DAYLIGHT
BEGIN:STANDARD
TZOFFSETFROM:-0400
TZOFFSETTO:-0500
TZNAME:EST
DTSTART:20251102T060000
END:STANDARD
BEGIN:DAYLIGHT
TZOFFSETFROM:-0500
TZOFFSETTO:-0400
TZNAME:EDT
DTSTART:20260308T070000
END:DAYLIGHT
BEGIN:STANDARD
TZOFFSETFROM:-0400
TZOFFSETTO:-0500
TZNAME:EST
DTSTART:20261101T060000
END:STANDARD
END:VTIMEZONE
BEGIN:VEVENT
DTSTART;TZID=America/New_York:20250417T100000
DTEND;TZID=America/New_York:20250417T130000
DTSTAMP:20260419T234846
CREATED:20250406T194052Z
LAST-MODIFIED:20250411T210402Z
UID:10000321-1744884000-1744894800@www.vpcc.edu
SUMMARY:Empower Your Comeback
DESCRIPTION:Empower Your Comeback: Job Loss Recovery and Resource Fair \nThursday\, April 17\, 2025\n10AM – 1PM \nCelebrate Healthcare will host a series of free resource fairs aimed at empowering individuals experiencing job loss! \nDive into an exciting array of resources\, including a vibrant job fair featuring local employers\, educational opportunities for skill enhancement\, and essential financial assistance programs. Benefit from resume writing workshops\, access vital healthcare services\, health insurance enrollment and receive mental health support to help you navigate this transition. Join us to discover the tools and connections you need to rebuild your future and thrive in your next chapter! \nRSVP bit.ly/joblossresourcefair \nFor information 757-287-0277 or celebratehealthcare.net
URL:https://www.vpcc.edu/event/empower-your-comeback/
LOCATION:Peninsula Workforce Development Center\, 600 Butler Farm Road\, Suite A\, Hampton\, VA\, 23666\, United States
CATEGORIES:General,Workforce Development
ATTACH;FMTTYPE=image/jpeg:https://www.vpcc.edu/wp-content/uploads/2025/04/comeback-event.jpg
END:VEVENT
BEGIN:VEVENT
DTSTART;TZID=America/New_York:20250417T133000
DTEND;TZID=America/New_York:20250417T150000
DTSTAMP:20260419T234846
CREATED:20250414T190230Z
LAST-MODIFIED:20250414T190230Z
UID:10000326-1744896600-1744902000@www.vpcc.edu
SUMMARY:Student Art Show
DESCRIPTION:You are invited to a Student Art Show\, featuring work from VPCC’s Visual Arts students! Everything takes place on Thursday\, April 17 at 1:30 p.m. Join us on the Hampton Campus at Kecoughtan Hall in the Library Gallery. \nThe event is free and open to the public\, and is co-sponsored by the Office of Student Life and Leadership.
URL:https://www.vpcc.edu/event/student-art-show/
LOCATION:Hampton Campus\, 99 Thomas Nelson Drive\, Hampton\, VA\, 23666\, United States
CATEGORIES:General,Student Life
ATTACH;FMTTYPE=image/jpeg:https://www.vpcc.edu/wp-content/uploads/2025/04/event-art-show.jpg
END:VEVENT
END:VCALENDAR