BEGIN:VCALENDAR
VERSION:2.0
PRODID:-//Virginia Peninsula Community College - ECPv6.15.17//NONSGML v1.0//EN
CALSCALE:GREGORIAN
METHOD:PUBLISH
X-ORIGINAL-URL:https://www.vpcc.edu
X-WR-CALDESC:Events for Virginia Peninsula Community College
REFRESH-INTERVAL;VALUE=DURATION:PT1H
X-Robots-Tag:noindex
X-PUBLISHED-TTL:PT1H
BEGIN:VTIMEZONE
TZID:America/New_York
BEGIN:DAYLIGHT
TZOFFSETFROM:-0500
TZOFFSETTO:-0400
TZNAME:EDT
DTSTART:20240310T070000
END:DAYLIGHT
BEGIN:STANDARD
TZOFFSETFROM:-0400
TZOFFSETTO:-0500
TZNAME:EST
DTSTART:20241103T060000
END:STANDARD
BEGIN:DAYLIGHT
TZOFFSETFROM:-0500
TZOFFSETTO:-0400
TZNAME:EDT
DTSTART:20250309T070000
END:DAYLIGHT
BEGIN:STANDARD
TZOFFSETFROM:-0400
TZOFFSETTO:-0500
TZNAME:EST
DTSTART:20251102T060000
END:STANDARD
BEGIN:DAYLIGHT
TZOFFSETFROM:-0500
TZOFFSETTO:-0400
TZNAME:EDT
DTSTART:20260308T070000
END:DAYLIGHT
BEGIN:STANDARD
TZOFFSETFROM:-0400
TZOFFSETTO:-0500
TZNAME:EST
DTSTART:20261101T060000
END:STANDARD
END:VTIMEZONE
BEGIN:VEVENT
DTSTART;TZID=America/New_York:20250416T000000
DTEND;TZID=America/New_York:20250416T235959
DTSTAMP:20260419T235227
CREATED:20250328T144754Z
LAST-MODIFIED:20250328T192205Z
UID:10000320-1744761600-1744847999@www.vpcc.edu
SUMMARY:Early Childhood / Human Services Information Session - Online
DESCRIPTION:Join us at the Center of Excellence Early Childhood in Newport News for an info session on our Early Childhood Education programs. Get complete details on our Child Development Career Studies Certificate and our Benefits Specialist Career Studies Certificate — which can both be completed by August 4! \nFor details on the event\, contact Jamal Davis\, Onboarding Specialist at 757-825-3626. \nJoin Zoom Meeting\nhttps://vccs.zoom.us/j/4805257616\nMeeting ID: 480 525 7616
URL:https://www.vpcc.edu/event/early-childhood-education-online-info-session/
LOCATION:Zoom
CATEGORIES:General
ATTACH;FMTTYPE=image/jpeg:https://www.vpcc.edu/wp-content/uploads/2025/03/info-session-event.jpg
END:VEVENT
BEGIN:VEVENT
DTSTART;TZID=America/New_York:20250416T100000
DTEND;TZID=America/New_York:20250416T130000
DTSTAMP:20260419T235227
CREATED:20250403T181901Z
LAST-MODIFIED:20250403T182140Z
UID:10000322-1744797600-1744808400@www.vpcc.edu
SUMMARY:University of Maryland Global Campus Transfer Officer visit
DESCRIPTION:A representative from the University of Maryland Global Campus will be on campus to talk to students about how they can transfer from VPCC to UMGC. The UMGC representative will be available to answer all sorts of questions about their programs\, and how our students can take advantage of transfer options.
URL:https://www.vpcc.edu/event/university-of-maryland-global-campus-transfer-officer-visit/
LOCATION:Historic Triangle Campus\, 4601 Opportunity Way\, Williamsburg\, VA\, 23188\, United States
CATEGORIES:Community,General,Student Life
ATTACH;FMTTYPE=image/jpeg:https://www.vpcc.edu/wp-content/uploads/2025/04/UMGC-event.jpg
END:VEVENT
BEGIN:VEVENT
DTSTART;TZID=America/New_York:20250416T110000
DTEND;TZID=America/New_York:20250416T150000
DTSTAMP:20260419T235227
CREATED:20250117T203648Z
LAST-MODIFIED:20250302T210707Z
UID:10000066-1744801200-1744815600@www.vpcc.edu
SUMMARY:Paws for Purple Hearts
DESCRIPTION:Service dogs will be present at the Military & Veteran Services Center (on Hampton Campus at Kecoughtan Hall\, Room 253) on Wednesday\, April 16\, from 11 a.m. to 3 p.m. While especially for students using military benefits\, this service is open to any student\, faculty or staff member who needs a little encouragement throughout their day. Contact the Military & Veteran Services team for details.
URL:https://www.vpcc.edu/event/paws-for-purple-hearts/
LOCATION:Hampton Campus\, 99 Thomas Nelson Drive\, Hampton\, VA\, 23666\, United States
CATEGORIES:General
ATTACH;FMTTYPE=image/jpeg:https://www.vpcc.edu/wp-content/uploads/2025/01/paws-purple-heart.jpg
END:VEVENT
BEGIN:VEVENT
DTSTART;TZID=America/New_York:20250416T160000
DTEND;TZID=America/New_York:20250416T170000
DTSTAMP:20260419T235227
CREATED:20250307T164855Z
LAST-MODIFIED:20250418T143913Z
UID:10000151-1744819200-1744822800@www.vpcc.edu
SUMMARY:Transition Workshop
DESCRIPTION:Transition Workshops \nFor graduating dual enrolled high school seniors \nPlease join us for an important info session to learn how to transition from dual enrolled high school student to college student status. \nWHY? \n\nTo be able to declare a program of study at VPCC\nTo be eligible for financial aid at VPCC\nTo be assigned an academic advisor at VPCC\nTo be able to self-register for future classes!\nTo learn about VPCC scholarships\, programs and resources!\n\nEven if you do not plan to continue at VPCC\, we recommend you complete the transition process! Your plans may change\, or you may return to take a summer class with us. \nZoom link: https://vccs.zoom.us/my/cgsimsmeeting \nQuestions? Email Camiel Sims\, VPCC Dual Enrollment Coordinator at simsc@vpcc.edu \nStudents\, parents/guardians and school personnel are all welcome to attend! \nVPCC Dual Enrollment
URL:https://www.vpcc.edu/event/transition-workshop/2025-04-16/
LOCATION:Zoom
CATEGORIES:General
ATTACH;FMTTYPE=image/jpeg:https://www.vpcc.edu/wp-content/uploads/2025/03/events-transition.jpg
END:VEVENT
BEGIN:VEVENT
DTSTART;TZID=America/New_York:20250416T170000
DTEND;TZID=America/New_York:20250416T190000
DTSTAMP:20260419T235227
CREATED:20250327T143742Z
LAST-MODIFIED:20250407T173635Z
UID:10000314-1744822800-1744830000@www.vpcc.edu
SUMMARY:Mandatory Info Session (Class ID 12963)
DESCRIPTION:SUMMER 2025 Info Sessions\n(Class ID 12963) \nHistoric Triangle Campus: Suite 222\n4601 Opportunity Way\, Williamsburg\, VA 23188 \n\nVisit www.vpcc.edu/workforce-development/workforce-programs/\nCLICK REGISTER ONLINE\nCREATE WORKFORCE Account\nSEARCH ID of Info Session and ADD TO CART\n\nFor Additional Information:\nWFDinq@vpcc.edu • (757) 825-4070 • vpcc.edu/workforce
URL:https://www.vpcc.edu/event/mandatory-info-session-class-id-12963/
LOCATION:Historic Triangle Campus\, 4601 Opportunity Way\, Williamsburg\, VA\, 23188\, United States
CATEGORIES:General,Workforce Development
ATTACH;FMTTYPE=image/jpeg:https://www.vpcc.edu/wp-content/uploads/2025/03/mand-info-session-event2.jpg
END:VEVENT
END:VCALENDAR