BEGIN:VCALENDAR
VERSION:2.0
PRODID:-//Virginia Peninsula Community College - ECPv6.15.17//NONSGML v1.0//EN
CALSCALE:GREGORIAN
METHOD:PUBLISH
X-WR-CALNAME:Virginia Peninsula Community College
X-ORIGINAL-URL:https://www.vpcc.edu
X-WR-CALDESC:Events for Virginia Peninsula Community College
REFRESH-INTERVAL;VALUE=DURATION:PT1H
X-Robots-Tag:noindex
X-PUBLISHED-TTL:PT1H
BEGIN:VTIMEZONE
TZID:America/New_York
BEGIN:DAYLIGHT
TZOFFSETFROM:-0500
TZOFFSETTO:-0400
TZNAME:EDT
DTSTART:20240310T070000
END:DAYLIGHT
BEGIN:STANDARD
TZOFFSETFROM:-0400
TZOFFSETTO:-0500
TZNAME:EST
DTSTART:20241103T060000
END:STANDARD
BEGIN:DAYLIGHT
TZOFFSETFROM:-0500
TZOFFSETTO:-0400
TZNAME:EDT
DTSTART:20250309T070000
END:DAYLIGHT
BEGIN:STANDARD
TZOFFSETFROM:-0400
TZOFFSETTO:-0500
TZNAME:EST
DTSTART:20251102T060000
END:STANDARD
BEGIN:DAYLIGHT
TZOFFSETFROM:-0500
TZOFFSETTO:-0400
TZNAME:EDT
DTSTART:20260308T070000
END:DAYLIGHT
BEGIN:STANDARD
TZOFFSETFROM:-0400
TZOFFSETTO:-0500
TZNAME:EST
DTSTART:20261101T060000
END:STANDARD
END:VTIMEZONE
BEGIN:VEVENT
DTSTART;TZID=America/New_York:20250331T000000
DTEND;TZID=America/New_York:20250331T235959
DTSTAMP:20260419T234844
CREATED:20250116T160647Z
LAST-MODIFIED:20250228T195643Z
UID:10000062-1743379200-1743465599@www.vpcc.edu
SUMMARY:12-Week Session - Last Day to Drop with a Grade of “W”
DESCRIPTION:For our 12 Week Session\, the last day to drop with a grade of “W” is Monday\, March 31\, 2025. Please refer to our Academic Calendar for additional information.
URL:https://www.vpcc.edu/event/12-week-session-last-day-to-drop-with-a-grade-of-w/
LOCATION:Virginia Peninsula Communty College\, 99 Thomas Nelson Drive\, Hampton\, VA\, 23666\, United States
CATEGORIES:General
ATTACH;FMTTYPE=image/jpeg:https://www.vpcc.edu/wp-content/uploads/2025/01/academic-event2.jpg
END:VEVENT
BEGIN:VEVENT
DTSTART;TZID=America/New_York:20250331T140000
DTEND;TZID=America/New_York:20250331T170000
DTSTAMP:20260419T234844
CREATED:20250324T175551Z
LAST-MODIFIED:20260208T191946Z
UID:10000165-1743429600-1743440400@www.vpcc.edu
SUMMARY:VPCC baseball vs. The Apprentice School
DESCRIPTION:The Gators take on the rival Builders in a non-conference game.
URL:https://www.vpcc.edu/event/vpcc-baseball-vs-the-apprentice-school/
LOCATION:War Memorial Stadium\, 1889 W Pembroke Ave\, Hampton\, 23661\, United States
CATEGORIES:Athletics,General
ATTACH;FMTTYPE=image/jpeg:https://www.vpcc.edu/wp-content/uploads/2025/03/gators-baseball-event.jpg
END:VEVENT
END:VCALENDAR