BEGIN:VCALENDAR
VERSION:2.0
PRODID:-//Virginia Peninsula Community College - ECPv6.15.17//NONSGML v1.0//EN
CALSCALE:GREGORIAN
METHOD:PUBLISH
X-WR-CALNAME:Virginia Peninsula Community College
X-ORIGINAL-URL:https://www.vpcc.edu
X-WR-CALDESC:Events for Virginia Peninsula Community College
REFRESH-INTERVAL;VALUE=DURATION:PT1H
X-Robots-Tag:noindex
X-PUBLISHED-TTL:PT1H
BEGIN:VTIMEZONE
TZID:America/New_York
BEGIN:DAYLIGHT
TZOFFSETFROM:-0500
TZOFFSETTO:-0400
TZNAME:EDT
DTSTART:20240310T070000
END:DAYLIGHT
BEGIN:STANDARD
TZOFFSETFROM:-0400
TZOFFSETTO:-0500
TZNAME:EST
DTSTART:20241103T060000
END:STANDARD
BEGIN:DAYLIGHT
TZOFFSETFROM:-0500
TZOFFSETTO:-0400
TZNAME:EDT
DTSTART:20250309T070000
END:DAYLIGHT
BEGIN:STANDARD
TZOFFSETFROM:-0400
TZOFFSETTO:-0500
TZNAME:EST
DTSTART:20251102T060000
END:STANDARD
BEGIN:DAYLIGHT
TZOFFSETFROM:-0500
TZOFFSETTO:-0400
TZNAME:EDT
DTSTART:20260308T070000
END:DAYLIGHT
BEGIN:STANDARD
TZOFFSETFROM:-0400
TZOFFSETTO:-0500
TZNAME:EST
DTSTART:20261101T060000
END:STANDARD
END:VTIMEZONE
BEGIN:VEVENT
DTSTART;TZID=America/New_York:20250325T000000
DTEND;TZID=America/New_York:20250325T235959
DTSTAMP:20260420T013956
CREATED:20250121T191747Z
LAST-MODIFIED:20250228T195600Z
UID:10000078-1742860800-1742947199@www.vpcc.edu
SUMMARY:8-Week 2 Session - Last Day to Drop for a Refund
DESCRIPTION:For our 8 Week 2 Session\, the last day to drop for a refund is Tuesday\, March 25\, 2025. Please refer to our Academic Calendar for additional information.
URL:https://www.vpcc.edu/event/8-week-2-session-last-day-to-drop-for-a-refund/
LOCATION:Virginia Peninsula Communty College\, 99 Thomas Nelson Drive\, Hampton\, VA\, 23666\, United States
CATEGORIES:General
ATTACH;FMTTYPE=image/jpeg:https://www.vpcc.edu/wp-content/uploads/2025/01/academic-event2-1.jpg
END:VEVENT
BEGIN:VEVENT
DTSTART;TZID=America/New_York:20250325T080000
DTEND;TZID=America/New_York:20250326T170000
DTSTAMP:20260420T013956
CREATED:20250228T183148Z
LAST-MODIFIED:20250302T210756Z
UID:10000136-1742889600-1743008400@www.vpcc.edu
SUMMARY:Spring 2025 POP-UP Clothes Closet: Distribution
DESCRIPTION:The Spring 2025 POP-UP Clothes Closet distribution will take place on March 25 & 26 at the Kecoughtan Hall Gallery on our Hampton Campus. \nWe’ll be distributing the following to any and all who need \n\nclothing\nsuits\nprofessional attire\njackets\nshoes\nlunchbags\nbackpacks\ntoiletries\naccessories\nchildren’s books\n\nFor more information\, contact Sophia King at kingso@vpcc.edu
URL:https://www.vpcc.edu/event/spring-2025-pop-up-clothes-closet-distribution/
LOCATION:Virginia Peninsula Communty College\, 99 Thomas Nelson Drive\, Hampton\, VA\, 23666\, United States
CATEGORIES:General
ATTACH;FMTTYPE=image/png:https://www.vpcc.edu/wp-content/uploads/2025/02/event-pop-up-closet.png
END:VEVENT
BEGIN:VEVENT
DTSTART;TZID=America/New_York:20250325T130000
DTEND;TZID=America/New_York:20250325T150000
DTSTAMP:20260420T013956
CREATED:20250214T185153Z
LAST-MODIFIED:20250302T182215Z
UID:10000120-1742907600-1742914800@www.vpcc.edu
SUMMARY:Spring 2025 – Nursing Program Information – March 25
DESCRIPTION:The date to join the nursing program information Zoom meeting is Tuesday\, March 25\, 2025. Take the next step in your nursing career by joining the meeting at this Zoom link. For more information contact psahhs@vpcc.edu or 757-825-2808.
URL:https://www.vpcc.edu/event/spring-2025-nursing-program-information-march-25/
LOCATION:Virginia Peninsula Communty College\, 99 Thomas Nelson Drive\, Hampton\, VA\, 23666\, United States
CATEGORIES:General,Nursing
ATTACH;FMTTYPE=image/jpeg:https://www.vpcc.edu/wp-content/uploads/2025/02/academic-event2.jpg
END:VEVENT
END:VCALENDAR