BEGIN:VCALENDAR
VERSION:2.0
PRODID:-//Virginia Peninsula Community College - ECPv6.15.17//NONSGML v1.0//EN
CALSCALE:GREGORIAN
METHOD:PUBLISH
X-ORIGINAL-URL:https://www.vpcc.edu
X-WR-CALDESC:Events for Virginia Peninsula Community College
REFRESH-INTERVAL;VALUE=DURATION:PT1H
X-Robots-Tag:noindex
X-PUBLISHED-TTL:PT1H
BEGIN:VTIMEZONE
TZID:America/New_York
BEGIN:DAYLIGHT
TZOFFSETFROM:-0500
TZOFFSETTO:-0400
TZNAME:EDT
DTSTART:20240310T070000
END:DAYLIGHT
BEGIN:STANDARD
TZOFFSETFROM:-0400
TZOFFSETTO:-0500
TZNAME:EST
DTSTART:20241103T060000
END:STANDARD
BEGIN:DAYLIGHT
TZOFFSETFROM:-0500
TZOFFSETTO:-0400
TZNAME:EDT
DTSTART:20250309T070000
END:DAYLIGHT
BEGIN:STANDARD
TZOFFSETFROM:-0400
TZOFFSETTO:-0500
TZNAME:EST
DTSTART:20251102T060000
END:STANDARD
BEGIN:DAYLIGHT
TZOFFSETFROM:-0500
TZOFFSETTO:-0400
TZNAME:EDT
DTSTART:20260308T070000
END:DAYLIGHT
BEGIN:STANDARD
TZOFFSETFROM:-0400
TZOFFSETTO:-0500
TZNAME:EST
DTSTART:20261101T060000
END:STANDARD
END:VTIMEZONE
BEGIN:VTIMEZONE
TZID:UTC
BEGIN:STANDARD
TZOFFSETFROM:+0000
TZOFFSETTO:+0000
TZNAME:UTC
DTSTART:20240101T000000
END:STANDARD
END:VTIMEZONE
BEGIN:VEVENT
DTSTART;TZID=America/New_York:20250310T000000
DTEND;TZID=America/New_York:20250315T235959
DTSTAMP:20260420T014221
CREATED:20250115T163026Z
LAST-MODIFIED:20250302T182415Z
UID:10000050-1741564800-1742083199@www.vpcc.edu
SUMMARY:Spring Break
DESCRIPTION:Students from Virginia Peninsula Community College will be closed for students for Spring Break. Please refer to our Academic Calendar for additional information.
URL:https://www.vpcc.edu/event/spring-break/
LOCATION:Virginia Peninsula Communty College\, 99 Thomas Nelson Drive\, Hampton\, VA\, 23666\, United States
CATEGORIES:General,Student Life
ATTACH;FMTTYPE=image/jpeg:https://www.vpcc.edu/wp-content/uploads/2025/01/spring-break-calendar.jpg
END:VEVENT
BEGIN:VEVENT
DTSTART;TZID=UTC:20250314T130000
DTEND;TZID=UTC:20250314T140000
DTSTAMP:20260420T014221
CREATED:20241101T192758Z
LAST-MODIFIED:20250302T182508Z
UID:10000021-1741957200-1741960800@www.vpcc.edu
SUMMARY:SGA Meeting
DESCRIPTION:SGA Meetings – Held on the first and third Fridays at 1:00 pm \nJoin the Student Government Association (SGA) meeting with the Student Senate and Executive Officers to discuss upcoming events and issues that impact Virginia Peninsula students on our campuses and within our communities. The SGA is the “Voice of the Students” so please take advantage of the opportunity to let us hear your voice! \nAll students are invited and welcome to attend! \nJoin Zoom Meeting:\nhttps://vccs.zoom.us/j/81697732476?pwd=QUJHYndxZjBvcWxFWm9CT1U0bzJJZz09\nMeeting ID: 816 9773 2476\nPasscode: 840867
URL:https://www.vpcc.edu/event/sga-meeting/2025-03-14/
LOCATION:VA
CATEGORIES:General,Student Life
ATTACH;FMTTYPE=image/jpeg:https://www.vpcc.edu/wp-content/uploads/2024/11/sga-flyer.jpg
END:VEVENT
END:VCALENDAR