BEGIN:VCALENDAR
VERSION:2.0
PRODID:-//Virginia Peninsula Community College - ECPv6.15.17//NONSGML v1.0//EN
CALSCALE:GREGORIAN
METHOD:PUBLISH
X-ORIGINAL-URL:https://www.vpcc.edu
X-WR-CALDESC:Events for Virginia Peninsula Community College
REFRESH-INTERVAL;VALUE=DURATION:PT1H
X-Robots-Tag:noindex
X-PUBLISHED-TTL:PT1H
BEGIN:VTIMEZONE
TZID:America/New_York
BEGIN:DAYLIGHT
TZOFFSETFROM:-0500
TZOFFSETTO:-0400
TZNAME:EDT
DTSTART:20240310T070000
END:DAYLIGHT
BEGIN:STANDARD
TZOFFSETFROM:-0400
TZOFFSETTO:-0500
TZNAME:EST
DTSTART:20241103T060000
END:STANDARD
BEGIN:DAYLIGHT
TZOFFSETFROM:-0500
TZOFFSETTO:-0400
TZNAME:EDT
DTSTART:20250309T070000
END:DAYLIGHT
BEGIN:STANDARD
TZOFFSETFROM:-0400
TZOFFSETTO:-0500
TZNAME:EST
DTSTART:20251102T060000
END:STANDARD
BEGIN:DAYLIGHT
TZOFFSETFROM:-0500
TZOFFSETTO:-0400
TZNAME:EDT
DTSTART:20260308T070000
END:DAYLIGHT
BEGIN:STANDARD
TZOFFSETFROM:-0400
TZOFFSETTO:-0500
TZNAME:EST
DTSTART:20261101T060000
END:STANDARD
END:VTIMEZONE
BEGIN:VEVENT
DTSTART;TZID=America/New_York:20250304T190000
DTEND;TZID=America/New_York:20250304T200000
DTSTAMP:20260420T014619
CREATED:20250228T162003Z
LAST-MODIFIED:20250302T182423Z
UID:10000127-1741114800-1741118400@www.vpcc.edu
SUMMARY:ALICE CHEN’S JOURNEY: From Community College to Career Success
DESCRIPTION:JOIN US FOR GUEST SPEAKER ALICE CHEN’S JOURNEY: From Community College to Career Success \nVia Zoom\nTuesday\, March 4 @ 7 p.m.\nhttps://vccs.zoom.us/j/2187407370 \nAN ENGINEER WITH VDOT\, CHEN WILL DISCUSS: \n\nWhy she chose the community college route\nCollege transfer experiences – challenges\, perks and tips\nGoing from college to career – job hunting and career growth\nInsights on her field from starting salaries to long-term career goals\, and more!\n\nPresented by the Natural Science & Engineering Students Association — Science Club
URL:https://www.vpcc.edu/event/alice-chens-journey-from-community-college-to-career-success/
LOCATION:Virginia Peninsula Communty College\, 99 Thomas Nelson Drive\, Hampton\, VA\, 23666\, United States
CATEGORIES:Community,General,Student Life
ATTACH;FMTTYPE=image/jpeg:https://www.vpcc.edu/wp-content/uploads/2025/02/event-alice-chen.jpg
END:VEVENT
END:VCALENDAR