BEGIN:VCALENDAR
VERSION:2.0
PRODID:-//Virginia Peninsula Community College - ECPv6.15.17//NONSGML v1.0//EN
CALSCALE:GREGORIAN
METHOD:PUBLISH
X-ORIGINAL-URL:https://www.vpcc.edu
X-WR-CALDESC:Events for Virginia Peninsula Community College
REFRESH-INTERVAL;VALUE=DURATION:PT1H
X-Robots-Tag:noindex
X-PUBLISHED-TTL:PT1H
BEGIN:VTIMEZONE
TZID:America/New_York
BEGIN:DAYLIGHT
TZOFFSETFROM:-0500
TZOFFSETTO:-0400
TZNAME:EDT
DTSTART:20240310T070000
END:DAYLIGHT
BEGIN:STANDARD
TZOFFSETFROM:-0400
TZOFFSETTO:-0500
TZNAME:EST
DTSTART:20241103T060000
END:STANDARD
BEGIN:DAYLIGHT
TZOFFSETFROM:-0500
TZOFFSETTO:-0400
TZNAME:EDT
DTSTART:20250309T070000
END:DAYLIGHT
BEGIN:STANDARD
TZOFFSETFROM:-0400
TZOFFSETTO:-0500
TZNAME:EST
DTSTART:20251102T060000
END:STANDARD
BEGIN:DAYLIGHT
TZOFFSETFROM:-0500
TZOFFSETTO:-0400
TZNAME:EDT
DTSTART:20260308T070000
END:DAYLIGHT
BEGIN:STANDARD
TZOFFSETFROM:-0400
TZOFFSETTO:-0500
TZNAME:EST
DTSTART:20261101T060000
END:STANDARD
END:VTIMEZONE
BEGIN:VEVENT
DTSTART;TZID=America/New_York:20250220T170000
DTEND;TZID=America/New_York:20250220T200000
DTSTAMP:20260420T030522
CREATED:20250212T150711Z
LAST-MODIFIED:20250302T210559Z
UID:10000117-1740070800-1740081600@www.vpcc.edu
SUMMARY:Spring 2025 Nursing Open House
DESCRIPTION:Students are invited to the Spring 2025 Nursing Open House on February 20th from 5:00 PM to 8:00 PM at Hampton Campus in Hampton III Room 734.
URL:https://www.vpcc.edu/event/spring-2025-nursing-open-house/
LOCATION:Hampton- Hampton III\, 525 Butler Farm Road\, Hampton\, VA\, 23666\, United States
CATEGORIES:General,Nursing
ORGANIZER;CN="Public Safety Allied Health and Human Services- PSAHHS":MAILTO:psahhs@vpcc.edu
END:VEVENT
END:VCALENDAR