BEGIN:VCALENDAR
VERSION:2.0
PRODID:-//Virginia Peninsula Community College - ECPv6.15.17//NONSGML v1.0//EN
CALSCALE:GREGORIAN
METHOD:PUBLISH
X-WR-CALNAME:Virginia Peninsula Community College
X-ORIGINAL-URL:https://www.vpcc.edu
X-WR-CALDESC:Events for Virginia Peninsula Community College
REFRESH-INTERVAL;VALUE=DURATION:PT1H
X-Robots-Tag:noindex
X-PUBLISHED-TTL:PT1H
BEGIN:VTIMEZONE
TZID:America/New_York
BEGIN:DAYLIGHT
TZOFFSETFROM:-0500
TZOFFSETTO:-0400
TZNAME:EDT
DTSTART:20250309T070000
END:DAYLIGHT
BEGIN:STANDARD
TZOFFSETFROM:-0400
TZOFFSETTO:-0500
TZNAME:EST
DTSTART:20251102T060000
END:STANDARD
BEGIN:DAYLIGHT
TZOFFSETFROM:-0500
TZOFFSETTO:-0400
TZNAME:EDT
DTSTART:20260308T070000
END:DAYLIGHT
BEGIN:STANDARD
TZOFFSETFROM:-0400
TZOFFSETTO:-0500
TZNAME:EST
DTSTART:20261101T060000
END:STANDARD
BEGIN:DAYLIGHT
TZOFFSETFROM:-0500
TZOFFSETTO:-0400
TZNAME:EDT
DTSTART:20270314T070000
END:DAYLIGHT
BEGIN:STANDARD
TZOFFSETFROM:-0400
TZOFFSETTO:-0500
TZNAME:EST
DTSTART:20271107T060000
END:STANDARD
END:VTIMEZONE
BEGIN:VEVENT
DTSTART;TZID=America/New_York:20260217T110000
DTEND;TZID=America/New_York:20260217T160000
DTSTAMP:20260420T032837
CREATED:20260203T143045Z
LAST-MODIFIED:20260216T180845Z
UID:10001458-1771326000-1771344000@www.vpcc.edu
SUMMARY:The Homage Exhibit
DESCRIPTION:Don’t miss The Homage Exhibit\, a traveling collection of rare artifacts celebrating African American history\, Feb. 17 at the Historic Triangle Campus and Feb. 19 at the Hampton Campus. The 11 a.m. to 4 p.m. exhibit is free and open to the public. Join us Feb. 19 at 7 p.m. in Hampton for a presentation by curator Nia McAdoo in the Dr. Mary T. Christian Theatre at Templin Hall.
URL:https://www.vpcc.edu/event/the-homage-exhibit/
LOCATION:Historic Triangle Campus\, 4601 Opportunity Way\, Williamsburg\, VA\, 23188\, United States
CATEGORIES:Community,General,Hampton Campus,Historic Triangle Campus,Kecoughtan Hall,Student Life
ATTACH;FMTTYPE=image/jpeg:https://www.vpcc.edu/wp-content/uploads/2026/02/homage-v2.jpg
END:VEVENT
BEGIN:VEVENT
DTSTART;TZID=America/New_York:20260219T110000
DTEND;TZID=America/New_York:20260219T160000
DTSTAMP:20260420T032837
CREATED:20260203T145039Z
LAST-MODIFIED:20260219T165433Z
UID:10001459-1771498800-1771516800@www.vpcc.edu
SUMMARY:The Homage Exhibit
DESCRIPTION:Don’t miss The Homage Exhibit\, a traveling collection of rare artifacts celebrating African American history\, Feb. 17 at the Historic Triangle Campus and Feb. 19 at the Hampton Campus. The 11 a.m. to 4 p.m. exhibit is free and open to the public. Join us Feb. 19 at 7 p.m. in Hampton for a presentation by curator Nia McAdoo in the Dr. Mary T. Christian Theatre at Templin Hall.
URL:https://www.vpcc.edu/event/the-homage-exhibit-2/
LOCATION:Kecoughtan Hall\, Library.
CATEGORIES:Community,General,Hampton Campus,Kecoughtan Hall,Student Life
ATTACH;FMTTYPE=image/jpeg:https://www.vpcc.edu/wp-content/uploads/2026/02/homage-v2.jpg
END:VEVENT
BEGIN:VEVENT
DTSTART;TZID=America/New_York:20260219T190000
DTEND;TZID=America/New_York:20260219T200000
DTSTAMP:20260420T032837
CREATED:20260209T032602Z
LAST-MODIFIED:20260219T165459Z
UID:10001461-1771527600-1771531200@www.vpcc.edu
SUMMARY:The Homage Exhibit - LECTURE Presentation by curator Nia McAdoo
DESCRIPTION:Don’t miss The Homage Exhibit\, a traveling collection of rare artifacts celebrating African American history\, Feb. 17 at the Historic Triangle Campus and Feb. 19 at the Hampton Campus. The 11 a.m. to 4 p.m. exhibit is free and open to the public. Join us Feb. 19 at 7 p.m. in Hampton for a presentation by curator Nia McAdoo in the Dr. Mary T. Christian Theatre at Templin Hall.
URL:https://www.vpcc.edu/event/the-homage-exhibit-lecture-presentation-by-curator-nia-mcadoo/
LOCATION:Templin Hall\, 99 Thomas Nelson Drive\, Hampton\, VA\, 23666\, United States
CATEGORIES:Community,General,Hampton Campus,Historic Triangle Campus,Kecoughtan Hall,Mary T. Christian Theatre,Student Life
ATTACH;FMTTYPE=image/jpeg:https://www.vpcc.edu/wp-content/uploads/2026/02/homage-v2.jpg
END:VEVENT
BEGIN:VEVENT
DTSTART;TZID=America/New_York:20260301T123000
DTEND;TZID=America/New_York:20260301T143000
DTSTAMP:20260420T032837
CREATED:20260228T132725Z
LAST-MODIFIED:20260228T132725Z
UID:10001478-1772368200-1772375400@www.vpcc.edu
SUMMARY:VPCC Men’s Basketball vs. Joliet Junior College
DESCRIPTION:The Gators take on the Wolves in the NJCAA Division III Mid-Atlantic District men’s basketball tournament. The winner advances to the NJCAA Division III national tournament\, which is a 12-team event in Herkimer\, N.Y.\, on March 11-14. For more information about the Gators and VPCC Athletics\, visit their website at www.vpccgators.com.
URL:https://www.vpcc.edu/event/vpcc-mens-basketball-vs-joliet-junior-college/
LOCATION:University of Pittsburgh at Johnstown
CATEGORIES:Athletics,Community,General,Student Life
ATTACH;FMTTYPE=image/jpeg:https://www.vpcc.edu/wp-content/uploads/2025/09/basketball.jpg
END:VEVENT
BEGIN:VEVENT
DTSTART;TZID=America/New_York:20260307T090000
DTEND;TZID=America/New_York:20260307T120000
DTSTAMP:20260420T032837
CREATED:20260303T201832Z
LAST-MODIFIED:20260304T214924Z
UID:10001479-1772874000-1772884800@www.vpcc.edu
SUMMARY:Pathways to Early Success: Preparing for Childcare & Supporting Every Child's Needs
DESCRIPTION:Free and open to the public\, this session on Childcare Essentials – the importance of childcare documentation before a child is enrolled in care/preschool – takes place at the VPCC Center for Excellence in Early Childhood Development in Newport News (1500 Jefferson Ave.) with Professor Cathy Meadows as the presenter. \nSeats are limited! Register today:  https://forms.gle/5EzQkM5RTpXuB2yc6. \n 
URL:https://www.vpcc.edu/event/pathways-to-early-success-preparing-for-childcare-supporting-every-childs-needs/
LOCATION:Center for Excellence for Early Childhood Development\, 1500 Jefferson Avenue\, Newport News\, VA\, 23607\, United States
CATEGORIES:Community
ATTACH;FMTTYPE=image/jpeg:https://www.vpcc.edu/wp-content/uploads/2026/03/childcareinfosessionevent.jpg
ORGANIZER;CN="Public Safety Allied Health and Human Services- PSAHHS":MAILTO:psahhs@vpcc.edu
END:VEVENT
BEGIN:VEVENT
DTSTART;TZID=America/New_York:20260318T000000
DTEND;TZID=America/New_York:20260319T235959
DTSTAMP:20260420T032837
CREATED:20260209T035055Z
LAST-MODIFIED:20260209T035446Z
UID:10001466-1773792000-1773964799@www.vpcc.edu
SUMMARY:Pop-Up Clothes Closet / Food Drive
DESCRIPTION:The Pop-Up Clothes Closet is open to all students\, faculty\, staff\, and community members who are in need. The event will feature gently used or new items needed for men\, women\, and children\, including: \n\nclothing\nsuits\nprofessional attire\njackets\nshoes\nlunch bags\nbackpacks\ntoiletries\naccessories\nchildren’s books\nand more!\n\nWe’re collecting items for the Pop-Up Clothes Closet on March 17 from 8 a.m. to 5 p.m. at the Kecoughtan Hall Gallery on our Hampton Campus. \nWe’ll distribute items to all on March 18 from 8 a.m. to 6 p.m. and March 19 from 8 a.m. to 5 p.m. at the Kecoughtan Hall Gallery on our Hampton Campus. ALL ITEMS ARE FREE. \nWe will donate remaining items to various nonprofit groups and thrift stores after the event. Please donate reusable shopping bags or totes\, dropping those off in Kecoughtan Hall\, Room 216. \nFor more information\, contact Sophia King.
URL:https://www.vpcc.edu/event/pop-up-clothes-closet-food-drive-2/
LOCATION:Kecoughtan Hall\, Gallery\, 99 Thomas Nelson Drive\, Hampton\, VA\, 23666\, United States
CATEGORIES:Community,General,Kecoughtan Hall,Student Life
ATTACH;FMTTYPE=image/jpeg:https://www.vpcc.edu/wp-content/uploads/2025/11/pop-up-drive.jpg
END:VEVENT
BEGIN:VEVENT
DTSTART;TZID=America/New_York:20260324T000000
DTEND;TZID=America/New_York:20260324T235959
DTSTAMP:20260420T032837
CREATED:20260209T035339Z
LAST-MODIFIED:20260311T205536Z
UID:10001467-1774310400-1774396799@www.vpcc.edu
SUMMARY:Pop-Up Clothes Closet / Food Drive
DESCRIPTION:The Pop-Up Clothes Closet is open to all students\, faculty\, staff\, and community members who are in need. The event will feature gently used or new items needed for men\, women\, and children\, including: \n\nclothing\nsuits\nprofessional attire\njackets\nshoes\nlunch bags\nbackpacks\ntoiletries\naccessories\nchildren’s books\nand more!\n\nWe’re collecting items for the Pop-Up Clothes Closet to distribute items to all on March 24 from 8 a.m. to 5 p.m. at our Historic Triangle Campus on the 2nd floor landing. ALL ITEMS ARE FREE. \nWe will donate remaining items to various nonprofit groups and thrift stores after the event. Please donate reusable shopping bags or totes\, dropping those off our Historic Triangle Campus. \nFor more information\, contact Sophia King.
URL:https://www.vpcc.edu/event/pop-up-clothes-closet-food-drive-3/
LOCATION:Historic Triangle Campus\, 4601 Opportunity Way\, Williamsburg\, VA\, 23188\, United States
CATEGORIES:Community,General,Historic Triangle Campus,Student Life
ATTACH;FMTTYPE=image/jpeg:https://www.vpcc.edu/wp-content/uploads/2025/11/pop-up-drive.jpg
END:VEVENT
BEGIN:VEVENT
DTSTART;TZID=America/New_York:20260329T130000
DTEND;TZID=America/New_York:20260329T180000
DTSTAMP:20260420T032837
CREATED:20260220T203350Z
LAST-MODIFIED:20260327T173646Z
UID:10001472-1774789200-1774807200@www.vpcc.edu
SUMMARY:VPCC Baseball vs. Bryant & Stratton College: Alumni\, Friends and Family Day
DESCRIPTION:The Gators will honor their past\, celebrate the present and look to the future in a daylong celebration when they take on Bryant & Stratton College at War Memorial Stadium.
URL:https://www.vpcc.edu/event/vpcc-baseball-vs-craven-community-college-alumni-friends-and-family-day/
LOCATION:War Memorial Stadium\, 1889 W Pembroke Ave\, Hampton\, 23661\, United States
CATEGORIES:Athletics,Community,General,Student Life
ATTACH;FMTTYPE=image/jpeg:https://www.vpcc.edu/wp-content/uploads/2026/02/gators-family-day-v2.jpg
END:VEVENT
BEGIN:VEVENT
DTSTART;TZID=America/New_York:20260402T163000
DTEND;TZID=America/New_York:20260402T180000
DTSTAMP:20260420T032837
CREATED:20260331T163725Z
LAST-MODIFIED:20260401T164025Z
UID:10001505-1775147400-1775152800@www.vpcc.edu
SUMMARY:Healthcare Information Session
DESCRIPTION:VPCC\, the Peninsula Regional Education Program and the Road to Success in Virginia Program (RSVP) are holding a healthcare career information session April 2 from 4:30-6 p.m. at the Center for Excellence in Early Childhood Development. The address is 1500 Jefferson Ave. in Newport News. Call Geronimo Sutphin at 757-825-2745 or email sutphing@vpcc.edu for more information.
URL:https://www.vpcc.edu/event/healthcare-information-session/
LOCATION:Center for Excellence for Early Childhood Development\, 1500 Jefferson Avenue\, Newport News\, VA\, 23607\, United States
CATEGORIES:CEECD,Community,General,Nursing
ATTACH;FMTTYPE=image/jpeg:https://www.vpcc.edu/wp-content/uploads/2026/04/healthcare-career-info-session.jpg
END:VEVENT
BEGIN:VEVENT
DTSTART;TZID=America/New_York:20260403T120000
DTEND;TZID=America/New_York:20260403T150000
DTSTAMP:20260420T032837
CREATED:20260130T193931Z
LAST-MODIFIED:20260402T171346Z
UID:10001456-1775217600-1775228400@www.vpcc.edu
SUMMARY:OPEN HOUSE at the VPCC Historic Triangle Campus
DESCRIPTION:DISCOVER WHAT VPCC HAS TO OFFER!\nAffordable tuition\, in-demand college transfer programs\, career programs\, athletics\, flexible class schedules\, and dedicated faculty. \nFriday\, April 3\, 2026\n12:00 pm – 3:00 pm \nHistoric Triangle Campus\,\n4601 Opportunity Way\,\nWilliamsburg\, VA 23188 \nOpen House registration\nhttps://virginiapeninsulacommunitycolle.my.salesforce-sites.com/events/apex/VisualAntidote__HostedFastForm?h=S25CU \n 
URL:https://www.vpcc.edu/event/open-house-at-the-vpcc-historic-triangle-campus-2/
LOCATION:Historic Triangle Campus\, 4601 Opportunity Way\, Williamsburg\, VA\, 23188\, United States
CATEGORIES:Admissions,Community,General
ATTACH;FMTTYPE=image/jpeg:https://www.vpcc.edu/wp-content/uploads/2025/02/event-open-house.jpg
END:VEVENT
BEGIN:VEVENT
DTSTART;TZID=America/New_York:20260422T100000
DTEND;TZID=America/New_York:20260422T130000
DTSTAMP:20260420T032837
CREATED:20260220T222841Z
LAST-MODIFIED:20260221T021826Z
UID:10001475-1776852000-1776862800@www.vpcc.edu
SUMMARY:Spring Job Fair 2026
DESCRIPTION:Virginia Peninsula Community College Workforce Development Center is excited to announce Spring Job Fair 2026 for VPCC students and the local community. \nJob Opportunities in the fields of: \n\nHealthcare\nInformation Technology\nTrades & Manufacturing\nTransportation (CDL)\nand MORE!\n\nFull-Time & Part-Time Positions \nAt the event\, you will have the opportunity to speak directly with employers about available jobs. \nPeninsula Workforce Development Center\nRoom 1301-1303\n600 Butler Farm Road\nHampton\, VA 23666 \nRegistration will open soon! Check back here to register. \nDress for Success and Bring a Current Resume For more information call (757-825-4070)
URL:https://www.vpcc.edu/event/spring-job-fair-2026/
LOCATION:Peninsula Workforce Development Center\, 600 Butler Farm Road\, Suite A\, Hampton\, VA\, 23666\, United States
CATEGORIES:Community,General,Student Life,Workforce Development
ATTACH;FMTTYPE=image/jpeg:https://www.vpcc.edu/wp-content/uploads/2025/08/career-fair.jpg
END:VEVENT
BEGIN:VEVENT
DTSTART;TZID=America/New_York:20260422T100000
DTEND;TZID=America/New_York:20260422T150000
DTSTAMP:20260420T032837
CREATED:20260403T182438Z
LAST-MODIFIED:20260411T020332Z
UID:10001515-1776852000-1776870000@www.vpcc.edu
SUMMARY:Blood Drive at the Hampton Campus
DESCRIPTION:BLOOD DRIVE \nWednesday\, April 22\, 2026 \n10 a.m. – 3 p.m. \nHampton Campus \nKecoughtan Hall Gallery \n99 Thomas Nelson Drive \nEvery donor will receive a $15 eGift Card to a merchant of their choice! \nSchedule your appointment today! \nhttps://www.redcrossblood.org/give.html/drive-results?zipSponsor=VPCC
URL:https://www.vpcc.edu/event/blood-drive-at-the-hampton-campus/
LOCATION:Kecoughtan Hall\, Gallery\, 99 Thomas Nelson Drive\, Hampton\, VA\, 23666\, United States
CATEGORIES:Community,General,Hampton Campus
ATTACH;FMTTYPE=image/jpeg:https://www.vpcc.edu/wp-content/uploads/2025/03/blood-drive-event.jpg
END:VEVENT
BEGIN:VEVENT
DTSTART;TZID=America/New_York:20260423T090000
DTEND;TZID=America/New_York:20260423T150000
DTSTAMP:20260420T032837
CREATED:20260403T182806Z
LAST-MODIFIED:20260408T134746Z
UID:10001516-1776934800-1776956400@www.vpcc.edu
SUMMARY:Blood Drive at the Historic Triangle Campus
DESCRIPTION:BLOOD DRIVE \nThursday\, April 23\, 2026 \n9 a.m. – 3 p.m. \nShow Love by Giving Blood \nHistoric Triangle Campus \nStudent Commons Room 129 \n4601 Opportunity Way \nAll donors will receive a $15 eCard to their choice of merchant! \nSchedule your appointment today! \nhttps://www.redcrossblood.org/ \nSponsored by the Office of Student Life and Leadership
URL:https://www.vpcc.edu/event/blood-drive-at-the-historic-triangle-campus/
LOCATION:Historic Triangle Campus\, 4601 Opportunity Way\, Williamsburg\, VA\, 23188\, United States
CATEGORIES:Community,General,Historic Triangle Campus
ATTACH;FMTTYPE=image/jpeg:https://www.vpcc.edu/wp-content/uploads/2025/03/blood-drive-event.jpg
END:VEVENT
BEGIN:VEVENT
DTSTART;TZID=America/New_York:20260424T110000
DTEND;TZID=America/New_York:20260424T130000
DTSTAMP:20260420T032837
CREATED:20260416T194319Z
LAST-MODIFIED:20260416T205011Z
UID:10001542-1777028400-1777035600@www.vpcc.edu
SUMMARY:Student Awards and Excellence Ceremony
DESCRIPTION:VPCC will celebrate student success and honor achievements with a Student Awards and Excellence Ceremony at the Dr. Mary T. Christian Theatre in Templin Hall  on the Hampton Campus.
URL:https://www.vpcc.edu/event/student-awards-and-excellence-ceremony/
LOCATION:The Dr. Mary T. Christian Theatre\, 99 Thomas Nelson Drive\, Hampton\, Virginia\, 23666\, United States
CATEGORIES:Community,General,Hampton Campus,Mary T. Christian Theatre,Student Life
ATTACH;FMTTYPE=image/jpeg:https://www.vpcc.edu/wp-content/uploads/2026/04/student-awards.jpg
END:VEVENT
BEGIN:VEVENT
DTSTART;TZID=America/New_York:20260429T170000
DTEND;TZID=America/New_York:20260429T193000
DTSTAMP:20260420T032837
CREATED:20260225T225017Z
LAST-MODIFIED:20260414T160632Z
UID:10001477-1777482000-1777491000@www.vpcc.edu
SUMMARY:Strictly Business
DESCRIPTION:Strictly Business is a free networking event brings together local newsmakers and community-focused consumers who share a passion for strengthening our area. Strictly Business is hosted in partnership with WYDaily.com\, The Tide 92.3 FM\, Cannon Country 107.9 FM and CultureFix. \nOn April 29\, 2026\, from 5 to 7:30 p.m.\, the public is invited to join in the fun at the Historic Triangle Campus of Virginia Peninsula Community College! Be prepared for food\, fun\, and friends. Learn more about this free event at the Strictly Business website. \n\n\n\nPLEASE NOTE: This event is for adults 21 years old and older. 
URL:https://www.vpcc.edu/event/strictly-business/
LOCATION:Historic Triangle Campus\, 4601 Opportunity Way\, Williamsburg\, VA\, 23188\, United States
CATEGORIES:Community,Historic Triangle Campus
ATTACH;FMTTYPE=image/jpeg:https://www.vpcc.edu/wp-content/uploads/2026/02/strictly-business.jpg
END:VEVENT
BEGIN:VEVENT
DTSTART;TZID=America/New_York:20260514T000000
DTEND;TZID=America/New_York:20260514T235959
DTSTAMP:20260420T032837
CREATED:20260320T174133Z
LAST-MODIFIED:20260320T174133Z
UID:10001489-1778716800-1778803199@www.vpcc.edu
SUMMARY:Commencement 2026
DESCRIPTION:The Commencement Ceremony is set for 2 p.m. Thursday\, May 14\, 2026 at the Hampton Coliseum. Details about this annual celebration of our students’ success are available at our Commencement page.
URL:https://www.vpcc.edu/event/commencement-2026/
LOCATION:Hampton Coliseum\, 1000 Coliseum Drive\, Hampton\, 23666\, United States
CATEGORIES:Commencement,Community,General,Student Life
ATTACH;FMTTYPE=image/png:https://www.vpcc.edu/wp-content/uploads/2025/01/event-commencement.png
END:VEVENT
BEGIN:VEVENT
DTSTART;TZID=America/New_York:20260618T140000
DTEND;TZID=America/New_York:20260618T170000
DTSTAMP:20260420T032837
CREATED:20260403T183821Z
LAST-MODIFIED:20260403T183821Z
UID:10001517-1781791200-1781802000@www.vpcc.edu
SUMMARY:Tea with Dr. B: High Tea with Dr. B
DESCRIPTION:Join Dr. Towuanna Porter Brannon as she hosts a conversation with a panel of experts. More details to come!
URL:https://www.vpcc.edu/event/tea-with-dr-b-high-tea-with-dr-b/
LOCATION:Peninsula Workforce Development Center\, 600 Butler Farm Road\, Suite A\, Hampton\, VA\, 23666\, United States
CATEGORIES:Community
ATTACH;FMTTYPE=image/jpeg:https://www.vpcc.edu/wp-content/uploads/2025/09/tea-w-dr-b.jpg
END:VEVENT
END:VCALENDAR