BEGIN:VCALENDAR
VERSION:2.0
PRODID:-//Virginia Peninsula Community College - ECPv6.15.17//NONSGML v1.0//EN
CALSCALE:GREGORIAN
METHOD:PUBLISH
X-WR-CALNAME:Virginia Peninsula Community College
X-ORIGINAL-URL:https://www.vpcc.edu
X-WR-CALDESC:Events for Virginia Peninsula Community College
REFRESH-INTERVAL;VALUE=DURATION:PT1H
X-Robots-Tag:noindex
X-PUBLISHED-TTL:PT1H
BEGIN:VTIMEZONE
TZID:America/New_York
BEGIN:DAYLIGHT
TZOFFSETFROM:-0500
TZOFFSETTO:-0400
TZNAME:EDT
DTSTART:20240310T070000
END:DAYLIGHT
BEGIN:STANDARD
TZOFFSETFROM:-0400
TZOFFSETTO:-0500
TZNAME:EST
DTSTART:20241103T060000
END:STANDARD
BEGIN:DAYLIGHT
TZOFFSETFROM:-0500
TZOFFSETTO:-0400
TZNAME:EDT
DTSTART:20250309T070000
END:DAYLIGHT
BEGIN:STANDARD
TZOFFSETFROM:-0400
TZOFFSETTO:-0500
TZNAME:EST
DTSTART:20251102T060000
END:STANDARD
BEGIN:DAYLIGHT
TZOFFSETFROM:-0500
TZOFFSETTO:-0400
TZNAME:EDT
DTSTART:20260308T070000
END:DAYLIGHT
BEGIN:STANDARD
TZOFFSETFROM:-0400
TZOFFSETTO:-0500
TZNAME:EST
DTSTART:20261101T060000
END:STANDARD
END:VTIMEZONE
BEGIN:VEVENT
DTSTART;TZID=America/New_York:20250404T120000
DTEND;TZID=America/New_York:20250404T150000
DTSTAMP:20260420T042709
CREATED:20250228T163500Z
LAST-MODIFIED:20250320T173510Z
UID:10000129-1743768000-1743778800@www.vpcc.edu
SUMMARY:OPEN HOUSE at the VPCC Historic Triangle Campus
DESCRIPTION:DISCOVER WHAT VPCC HAS TO OFFER!\nAffordable tuition\, in-demand college transfer programs\, career programs\, athletics\, flexible class schedules\, and dedicated faculty. \nFRIDAY\, APRIL 4.\n12 – 3 p.m. \nHISTORIC TRIANGLE CAMPUS\n4601 Opportunity Way\nWilliamsburg\, VA 23188 \nREGISTER TO ATTEND:\nhttps://forms.office.com/r/3Y7TDBpkHx \nProspective students who are interested in our college credit programs are encouraged to complete the following steps before attending the Open House: \n\nComplete the VPCC Admissions Application\nActivate your myVPCC Account\n\nFOR MORE INFO: admissions@vpcc.edu
URL:https://www.vpcc.edu/event/open-house-at-the-vpcc-historic-triangle-campus/
LOCATION:Historic Triangle Campus\, 4601 Opportunity Way\, Williamsburg\, VA\, 23188\, United States
CATEGORIES:Admissions,Community,General
ATTACH;FMTTYPE=image/jpeg:https://www.vpcc.edu/wp-content/uploads/2025/02/event-open-house.jpg
END:VEVENT
END:VCALENDAR