BEGIN:VCALENDAR
VERSION:2.0
PRODID:-//Virginia Peninsula Community College - ECPv6.15.17//NONSGML v1.0//EN
CALSCALE:GREGORIAN
METHOD:PUBLISH
X-ORIGINAL-URL:https://www.vpcc.edu
X-WR-CALDESC:Events for Virginia Peninsula Community College
REFRESH-INTERVAL;VALUE=DURATION:PT1H
X-Robots-Tag:noindex
X-PUBLISHED-TTL:PT1H
BEGIN:VTIMEZONE
TZID:America/New_York
BEGIN:DAYLIGHT
TZOFFSETFROM:-0500
TZOFFSETTO:-0400
TZNAME:EDT
DTSTART:20250309T070000
END:DAYLIGHT
BEGIN:STANDARD
TZOFFSETFROM:-0400
TZOFFSETTO:-0500
TZNAME:EST
DTSTART:20251102T060000
END:STANDARD
BEGIN:DAYLIGHT
TZOFFSETFROM:-0500
TZOFFSETTO:-0400
TZNAME:EDT
DTSTART:20260308T070000
END:DAYLIGHT
BEGIN:STANDARD
TZOFFSETFROM:-0400
TZOFFSETTO:-0500
TZNAME:EST
DTSTART:20261101T060000
END:STANDARD
BEGIN:DAYLIGHT
TZOFFSETFROM:-0500
TZOFFSETTO:-0400
TZNAME:EDT
DTSTART:20270314T070000
END:DAYLIGHT
BEGIN:STANDARD
TZOFFSETFROM:-0400
TZOFFSETTO:-0500
TZNAME:EST
DTSTART:20271107T060000
END:STANDARD
END:VTIMEZONE
BEGIN:VEVENT
DTSTART;TZID=America/New_York:20260108T190000
DTEND;TZID=America/New_York:20260108T210000
DTSTAMP:20260419T111337
CREATED:20250925T201351Z
LAST-MODIFIED:20260106T154607Z
UID:10000925-1767898800-1767906000@www.vpcc.edu
SUMMARY:VPCC Men’s Basketball vs. Oxford College of Emory University
DESCRIPTION:The Gators open the new year with a Region 10 home game at SafeHaven Empowerment Center. For more information about the Gators and VPCC Athletics\, visit their website at www.vpccgators.com.
URL:https://www.vpcc.edu/event/vpcc-mens-basketball-vs-oxford-college-of-emory-university/
LOCATION:SafeHaven Empowerment Center\, 429 Thorncliff Dr\, Newport News\, 23608\, United States
CATEGORIES:Athletics,Community,General,Student Life
ATTACH;FMTTYPE=image/jpeg:https://www.vpcc.edu/wp-content/uploads/2025/09/basketball.jpg
END:VEVENT
BEGIN:VEVENT
DTSTART;TZID=America/New_York:20260110T130000
DTEND;TZID=America/New_York:20260110T153000
DTSTAMP:20260419T111337
CREATED:20250925T201606Z
LAST-MODIFIED:20260110T181026Z
UID:10000926-1768050000-1768059000@www.vpcc.edu
SUMMARY:POSTPONED: VPCC Men’s Basketball vs. Sandhills Community College
DESCRIPTION:THIS GAME HAS BEEN POSTPONED TO A LATER DATE. \nThe Gators take on their rivals from North Carolina. For more information about the Gators and VPCC Athletics\, visit their website at www.vpccgators.com.
URL:https://www.vpcc.edu/event/vpcc-mens-basketball-vs-sandhills-community-college/
LOCATION:SafeHaven Empowerment Center\, 429 Thorncliff Dr\, Newport News\, 23608\, United States
CATEGORIES:Athletics,Community,General,Student Life
ATTACH;FMTTYPE=image/jpeg:https://www.vpcc.edu/wp-content/uploads/2025/09/basketball.jpg
END:VEVENT
BEGIN:VEVENT
DTSTART;TZID=America/New_York:20260110T180000
DTEND;TZID=America/New_York:20260110T210000
DTSTAMP:20260419T111337
CREATED:20251114T220524Z
LAST-MODIFIED:20260106T153209Z
UID:10001373-1768068000-1768078800@www.vpcc.edu
SUMMARY:Dr. Mary T. Christian Theatre Grand Opening
DESCRIPTION:Save the Date! \nDr. Mary T. Christian Theatre Grand Opening \nJanuary 10\, 2026 \n6:00 p.m. \nHampton Campus\, Templin Hall \nRSVP Today!
URL:https://www.vpcc.edu/event/dr-mary-t-christian-theatre-grand-opening/
LOCATION:Templin Hall\, 99 Thomas Nelson Drive\, Hampton\, VA\, 23666\, United States
CATEGORIES:Community,Faculty & Staff,General,Templin Hall
ATTACH;FMTTYPE=image/jpeg:https://www.vpcc.edu/wp-content/uploads/2025/11/theatre-grand-opening.jpg
END:VEVENT
BEGIN:VEVENT
DTSTART;TZID=America/New_York:20260112T000000
DTEND;TZID=America/New_York:20260112T235959
DTSTAMP:20260419T111337
CREATED:20260111T200945Z
LAST-MODIFIED:20260111T200945Z
UID:10001399-1768176000-1768262399@www.vpcc.edu
SUMMARY:Spring Classes Begin
DESCRIPTION:Our Spring 2026 Semester begins today! For more information about\, visit our Academic Calendar. For additional information about enrolling in our Spring Semester\, reach out to our Enrollment Management team.
URL:https://www.vpcc.edu/event/spring-classes-begin/
LOCATION:Virginia Peninsula Communty College\, 99 Thomas Nelson Drive\, Hampton\, VA\, 23666\, United States
CATEGORIES:Admissions,Community,General,Student Life
ATTACH;FMTTYPE=image/jpeg:https://www.vpcc.edu/wp-content/uploads/2026/01/spring-classes.jpg
END:VEVENT
BEGIN:VEVENT
DTSTART;TZID=America/New_York:20260113T000000
DTEND;TZID=America/New_York:20260113T203000
DTSTAMP:20260419T111337
CREATED:20250925T201758Z
LAST-MODIFIED:20251101T220539Z
UID:10000927-1768262400-1768336200@www.vpcc.edu
SUMMARY:VPCC Men’s Basketball vs. Camp Community College
DESCRIPTION:The Gators end theig longest homestand of the season\, six games\, by taking on Camp Community College. For more information about the Gators and VPCC Athletics\, visit their website at www.vpccgators.com.
URL:https://www.vpcc.edu/event/vpcc-mens-basketball-vs-camp-community-college/
LOCATION:SafeHaven Empowerment Center\, 429 Thorncliff Dr\, Newport News\, 23608\, United States
CATEGORIES:Athletics,Community,General,Student Life
ATTACH;FMTTYPE=image/jpeg:https://www.vpcc.edu/wp-content/uploads/2025/09/basketball.jpg
END:VEVENT
BEGIN:VEVENT
DTSTART;TZID=America/New_York:20260116T000000
DTEND;TZID=America/New_York:20260116T203000
DTSTAMP:20260419T111337
CREATED:20250925T202116Z
LAST-MODIFIED:20260112T184307Z
UID:10000928-1768521600-1768595400@www.vpcc.edu
SUMMARY:VPCC Men’s Basketball at Sandhills Community College
DESCRIPTION:The Gators make up a game that was postponed Jan. 10. For more information about the Gators and VPCC Athletics\, visit their website at www.vpccgators.com.
URL:https://www.vpcc.edu/event/vpcc-mens-basketball-at-pennsylvania-highlands-community-college/
LOCATION:Sandhills Community College\, 3395 Airport Road\, Pinehurst\, NC\, 28374\, United States
CATEGORIES:Athletics,Community,General,Student Life
ATTACH;FMTTYPE=image/jpeg:https://www.vpcc.edu/wp-content/uploads/2025/09/basketball.jpg
END:VEVENT
BEGIN:VEVENT
DTSTART;TZID=America/New_York:20260118T140000
DTEND;TZID=America/New_York:20260118T163000
DTSTAMP:20260419T111337
CREATED:20250925T202344Z
LAST-MODIFIED:20260108T191517Z
UID:10000929-1768744800-1768753800@www.vpcc.edu
SUMMARY:VPCC Men’s Basketball at Tidewater Community College
DESCRIPTION:The Gators head across the water to take on their rivals. For more information about the Gators and VPCC Athletics\, visit their website at www.vpccgators.com.
URL:https://www.vpcc.edu/event/vpcc-mens-basketball-at-tidewater-community-college/
LOCATION:Churchland High School
CATEGORIES:Athletics,Community,General,Student Life
ATTACH;FMTTYPE=image/jpeg:https://www.vpcc.edu/wp-content/uploads/2025/09/basketball.jpg
END:VEVENT
BEGIN:VEVENT
DTSTART;TZID=America/New_York:20260119T000000
DTEND;TZID=America/New_York:20260119T235959
DTSTAMP:20260419T111337
CREATED:20260114T213344Z
LAST-MODIFIED:20260114T213344Z
UID:10001400-1768780800-1768867199@www.vpcc.edu
SUMMARY:Martin Luther King Day
DESCRIPTION:In honor of the Dr. Martin Luther King\, Jr. federal holiday\, all campus offices at all locations will be closed on Monday\, January 19\, 2026. For more information about other holiday closings\, please visit our Academic Calendar.
URL:https://www.vpcc.edu/event/martin-luther-king-day/
LOCATION:Virginia Peninsula Communty College\, 99 Thomas Nelson Drive\, Hampton\, VA\, 23666\, United States
CATEGORIES:Community,Faculty & Staff,General,Historic Triangle Campus,Kecoughtan Hall,Student Life,Templin Hall,Toano Trades Center,Workforce Development
ATTACH;FMTTYPE=image/jpeg:https://www.vpcc.edu/wp-content/uploads/2026/01/mlk-day.jpg
END:VEVENT
BEGIN:VEVENT
DTSTART;TZID=America/New_York:20260121T180000
DTEND;TZID=America/New_York:20260121T203000
DTSTAMP:20260419T111337
CREATED:20250925T202624Z
LAST-MODIFIED:20260115T205401Z
UID:10000930-1769018400-1769027400@www.vpcc.edu
SUMMARY:VPCC Men's Basketball at Chowan JV
DESCRIPTION:The Gators head into North Carolina to take on the Hawks. For more information about the Gators and VPCC Athletics\, visit their website at www.vpccgators.com.
URL:https://www.vpcc.edu/event/vpcc-mens-basketball-at-chowan-jv/
LOCATION:Chowan University\, 1 University Drrive\, Murfreesboro\, 27855\, United States
CATEGORIES:Athletics,Community,General,Student Life
ATTACH;FMTTYPE=image/jpeg:https://www.vpcc.edu/wp-content/uploads/2025/09/basketball.jpg
END:VEVENT
BEGIN:VEVENT
DTSTART;TZID=America/New_York:20260123T120000
DTEND;TZID=America/New_York:20260123T180000
DTSTAMP:20260419T111337
CREATED:20260120T164040Z
LAST-MODIFIED:20260208T191923Z
UID:10001402-1769169600-1769191200@www.vpcc.edu
SUMMARY:VPCC Baseball at Bryant & Stratton
DESCRIPTION:The Gators kick off the season with a doubleheader against the Bobcats in Virginia Beach.
URL:https://www.vpcc.edu/event/vpcc-baseball-at-bryant-stratton/
LOCATION:Bryant & Stratton
CATEGORIES:Athletics,Community,General,Student Life
ATTACH;FMTTYPE=image/png:https://www.vpcc.edu/wp-content/uploads/2025/03/event-gators-baseball.png
END:VEVENT
BEGIN:VEVENT
DTSTART;TZID=America/New_York:20260126T000000
DTEND;TZID=America/New_York:20260126T235959
DTSTAMP:20260419T111337
CREATED:20260125T232648Z
LAST-MODIFIED:20260125T232648Z
UID:10001439-1769385600-1769471999@www.vpcc.edu
SUMMARY:VPCC Remote Learning - Monday\, Jan. 26
DESCRIPTION:The College will operate on a remote basis Monday\, Jan. 26. Employees and students should monitor their email for additional information and guidance from their supervisors and instructors. \nCollege officials are closely monitoring information and guidance from weather professionals and emergency management agencies. Conditions permitting\, campuses in Hampton and Williamsburg\, along with satellite locations\, will reopen Tuesday\, Jan. 27. \nIn the meantime\, the College encourages students and staff to confirm they are signed up for emergency messages through GatorAlert (www.vpcc.edu/gatoralert)\, continue monitoring VPCC email for updates\, and prepare for remote work and learning.
URL:https://www.vpcc.edu/event/vpcc-remote-learning-monday-jan-26/
LOCATION:Virginia Peninsula Communty College\, 99 Thomas Nelson Drive\, Hampton\, VA\, 23666\, United States
CATEGORIES:Admissions,CEECD,Community,General,Historic Triangle Campus,Kecoughtan Hall,PWDC,Templin Hall,Toano Trades Center,Workforce Development
ATTACH;FMTTYPE=image/jpeg:https://www.vpcc.edu/wp-content/uploads/2025/12/modifoed-schedule.jpg
END:VEVENT
BEGIN:VEVENT
DTSTART;TZID=America/New_York:20260129T180000
DTEND;TZID=America/New_York:20260129T210000
DTSTAMP:20260419T111337
CREATED:20250925T203043Z
LAST-MODIFIED:20260126T195321Z
UID:10000932-1769709600-1769720400@www.vpcc.edu
SUMMARY:VPCC Men's Basketball vs. Washington Adventist University JV
DESCRIPTION:The Gators take a break from region play to take on WAU. For more information about the Gators and VPCC Athletics\, visit their website at www.vpccgators.com.
URL:https://www.vpcc.edu/event/vpcc-mens-basketball-vs-washington-adventist-university-jv/
LOCATION:SafeHaven Empowerment Center\, 429 Thorncliff Dr\, Newport News\, 23608\, United States
CATEGORIES:Athletics,Community,General,Student Life
ATTACH;FMTTYPE=image/jpeg:https://www.vpcc.edu/wp-content/uploads/2025/09/basketball.jpg
END:VEVENT
END:VCALENDAR