BEGIN:VCALENDAR
VERSION:2.0
PRODID:-//Virginia Peninsula Community College - ECPv6.15.17//NONSGML v1.0//EN
CALSCALE:GREGORIAN
METHOD:PUBLISH
X-WR-CALNAME:Virginia Peninsula Community College
X-ORIGINAL-URL:https://www.vpcc.edu
X-WR-CALDESC:Events for Virginia Peninsula Community College
REFRESH-INTERVAL;VALUE=DURATION:PT1H
X-Robots-Tag:noindex
X-PUBLISHED-TTL:PT1H
BEGIN:VTIMEZONE
TZID:America/New_York
BEGIN:DAYLIGHT
TZOFFSETFROM:-0500
TZOFFSETTO:-0400
TZNAME:EDT
DTSTART:20240310T070000
END:DAYLIGHT
BEGIN:STANDARD
TZOFFSETFROM:-0400
TZOFFSETTO:-0500
TZNAME:EST
DTSTART:20241103T060000
END:STANDARD
BEGIN:DAYLIGHT
TZOFFSETFROM:-0500
TZOFFSETTO:-0400
TZNAME:EDT
DTSTART:20250309T070000
END:DAYLIGHT
BEGIN:STANDARD
TZOFFSETFROM:-0400
TZOFFSETTO:-0500
TZNAME:EST
DTSTART:20251102T060000
END:STANDARD
BEGIN:DAYLIGHT
TZOFFSETFROM:-0500
TZOFFSETTO:-0400
TZNAME:EDT
DTSTART:20260308T070000
END:DAYLIGHT
BEGIN:STANDARD
TZOFFSETFROM:-0400
TZOFFSETTO:-0500
TZNAME:EST
DTSTART:20261101T060000
END:STANDARD
END:VTIMEZONE
BEGIN:VEVENT
DTSTART;TZID=America/New_York:20250902T130000
DTEND;TZID=America/New_York:20250902T150000
DTSTAMP:20260419T191533
CREATED:20250709T213200Z
LAST-MODIFIED:20250808T155831Z
UID:10000379-1756818000-1756825200@www.vpcc.edu
SUMMARY:Fall 2025 Nursing Information Session
DESCRIPTION:Join us for a Nursing Information Session at Virginia Peninsula Community College\, where you’ll learn everything you need to know about starting a rewarding career in nursing. This session will cover program requirements\, the application process\, prerequisites\, and what to expect during your time in the nursing program. You’ll also have the opportunity to ask questions and connect with faculty and advisors who are here to support you every step of the way. \nJOIN THE ZOOM HERE \nFor more information\, contact psahhs@vpcc.edu or 757-825-2808.
URL:https://www.vpcc.edu/event/fall-2025-nursing-information-session-3/
LOCATION:Zoom
CATEGORIES:Community,General,Nursing
ATTACH;FMTTYPE=image/jpeg:https://www.vpcc.edu/wp-content/uploads/2025/07/nursing-info-session.jpg
END:VEVENT
BEGIN:VEVENT
DTSTART;TZID=America/New_York:20250905T160000
DTEND;TZID=America/New_York:20250905T180000
DTSTAMP:20260419T191533
CREATED:20250821T181849Z
LAST-MODIFIED:20250821T181849Z
UID:10000769-1757088000-1757095200@www.vpcc.edu
SUMMARY:VPCC Soccer vs. College of Southern Maryland (Away)
DESCRIPTION:Another road challenge awaits the Virginia Peninsula Community College Gators at College of Southern Maryland\, with a 4 p.m. kickoff. A strong performance here could build momentum heading into the mid-season stretch. \nMore information is available at the VPCC Athletics site.
URL:https://www.vpcc.edu/event/vpcc-soccer-vs-college-of-southern-maryland-away/
LOCATION:College of Southern Maryland\, 8730 Mitchell Rd\, La Plata\, MD\, 20646\, United States
CATEGORIES:Athletics,Community,General,Student Life
ATTACH;FMTTYPE=image/jpeg:https://www.vpcc.edu/wp-content/uploads/2025/08/soccer-icon.jpg
END:VEVENT
BEGIN:VEVENT
DTSTART;TZID=America/New_York:20250906T090000
DTEND;TZID=America/New_York:20250906T143000
DTSTAMP:20260419T191533
CREATED:20250905T161815Z
LAST-MODIFIED:20250905T223232Z
UID:10000880-1757149200-1757169000@www.vpcc.edu
SUMMARY:Southeast Community Day Parade & Festival
DESCRIPTION:VPCC will be participating in this year’s Southeast Community Day Parade and Festival. \nYour favorite parade in Newport News is back! There will be food\, fun\, music\, and vendors! \nSaturday\, September 6\, 2025 \nFestival 9:00 a.m. – 2:30 p.m. \nParade 10:00 a.m. \nParade viewing area 2016 Jefferson Avenue.\, Newport News\, VA 23607 \nFor more information visit www.andrewshannonevents.com \nFounder & Organizer\, Andrew Shannon \nEvent flyer click HERE
URL:https://www.vpcc.edu/event/southeast-community-day-parade-festival-2025/
LOCATION:Newport News\, 2400 Washington Avenue\, Newport News\, VA\, 23607\, United States
CATEGORIES:Community
ATTACH;FMTTYPE=image/jpeg:https://www.vpcc.edu/wp-content/uploads/2025/09/parade.jpg
END:VEVENT
BEGIN:VEVENT
DTSTART;TZID=America/New_York:20250906T110000
DTEND;TZID=America/New_York:20250906T150000
DTSTAMP:20260419T191533
CREATED:20250825T182411Z
LAST-MODIFIED:20250904T191407Z
UID:10000777-1757156400-1757170800@www.vpcc.edu
SUMMARY:VPCC Volleyball in Tri-Match at Patrick & Henry Community College
DESCRIPTION:On September 6\, 2025\, the Virginia Peninsula Community College Gators volleyball team will travel to Patrick & Henry Community College for a pair of matches. The Gators play Patrick & Henry at 11 a.m. and  Rockingham Community College at 2 p.m. \nMore information is available at the VPCC Athletics site.
URL:https://www.vpcc.edu/event/vpcc-volleyball-vs-patrick-henry-community-college-away/
LOCATION:Patrick & Henry Community College\, 645 Patriot Ave.\, Martinsville\, 24112\, United States
CATEGORIES:Athletics,Community,General,Student Life
ATTACH;FMTTYPE=image/jpeg:https://www.vpcc.edu/wp-content/uploads/2025/08/volleyball-icon.jpg
END:VEVENT
BEGIN:VEVENT
DTSTART;TZID=America/New_York:20250909T130000
DTEND;TZID=America/New_York:20250909T140000
DTSTAMP:20260419T191533
CREATED:20250729T160325Z
LAST-MODIFIED:20250729T160341Z
UID:10000762-1757422800-1757426400@www.vpcc.edu
SUMMARY:Container Gardening at Historic Triangle Campus
DESCRIPTION:The VPCC Library in partnership with the James City County Williamsburg Master Gardener Association is offering an Introduction to Container Gardening class on Tuesday\, September 9 from 1 to 2 p.m. in the Historic Triangle Library Classroom\, Room 100M. The event is free and open to the public.
URL:https://www.vpcc.edu/event/container-gardening-at-historic-triangle-campus/
LOCATION:Historic Triangle Campus\, 4601 Opportunity Way\, Williamsburg\, VA\, 23188\, United States
CATEGORIES:Community,General
ATTACH;FMTTYPE=image/jpeg:https://www.vpcc.edu/wp-content/uploads/2025/07/gardening.jpg
END:VEVENT
BEGIN:VEVENT
DTSTART;TZID=America/New_York:20250909T170000
DTEND;TZID=America/New_York:20250909T190000
DTSTAMP:20260419T191533
CREATED:20250825T182657Z
LAST-MODIFIED:20250904T191500Z
UID:10000778-1757437200-1757444400@www.vpcc.edu
SUMMARY:VPCC Volleyball at Lenoir Community College
DESCRIPTION:On September 9\, 2025\, the Virginia Peninsula Community College Gators volleyball team will play an away match against Lenoir Community College at LCC\, beginning at 5 p.m. \nMore information is available at the VPCC Athletics site.
URL:https://www.vpcc.edu/event/vpcc-volleyball-vs-lenoir-community-college-away/
LOCATION:Lenoir Community College\, 231 Hwy 58\, South Kinston\, NC\, 28502\, United States
CATEGORIES:Community,General,Student Life
ATTACH;FMTTYPE=image/jpeg:https://www.vpcc.edu/wp-content/uploads/2025/08/volleyball-icon.jpg
END:VEVENT
BEGIN:VEVENT
DTSTART;TZID=America/New_York:20250909T180000
DTEND;TZID=America/New_York:20250909T190000
DTSTAMP:20260419T191533
CREATED:20250821T182128Z
LAST-MODIFIED:20250821T182128Z
UID:10000770-1757440800-1757444400@www.vpcc.edu
SUMMARY:VPCC Soccer vs. Wake Technical Community College (Home)
DESCRIPTION:Back at home\, the Virginia Peninsula Community College Gators Soccer squad will face Wake Tech again\, this time at Kiln Creek Park in Yorktown. The 6 p.m. match offers a chance to avenge or reinforce the earlier result. \nMore information is available at the VPCC Athletics site.
URL:https://www.vpcc.edu/event/vpcc-soccer-vs-wake-technical-community-college-home/
LOCATION:Kiln Creek Park\, 2901 Kiln Creek Pkwy\, Tabb\, 23693\, United States
CATEGORIES:Athletics,Community,General,Student Life
ATTACH;FMTTYPE=image/jpeg:https://www.vpcc.edu/wp-content/uploads/2025/08/soccer-icon.jpg
END:VEVENT
BEGIN:VEVENT
DTSTART;TZID=America/New_York:20250911T130000
DTEND;TZID=America/New_York:20250911T140000
DTSTAMP:20260419T191533
CREATED:20250909T161759Z
LAST-MODIFIED:20250909T191923Z
UID:10000896-1757595600-1757599200@www.vpcc.edu
SUMMARY:9/11 Remembrance Gathering: Honoring Through Reflection and Connection
DESCRIPTION:9/11 Remembrance Gathering: Honoring Through Reflection and Connection\n\nJoin us for a heartfelt 9/11 remembrance event designed to offer a space to honor the lives lost and the resilience shown on September 11\, 2001\, through a blend of powerful media and meaningful conversation. The event will feature video footage that captures the historical impact and emotional gravity of the day.\n\nAttendees are invited to participate in an open group memory-sharing dialogue. Whether you lived through the day or learned about it later\, this is a space to share personal reflections\, family stories\, and thoughts on how 9/11 continues to shape our world.\n\nThis event is not only a memorial—it’s a moment of unity\, empathy\, and intergenerational dialogue.\n\nLight refreshments will be served\, and all are welcome to attend.\n\nLet’s remember together. Let’s listen. Let’s share.\n\nSeptember 11\, 2025\n1-2 pm\nRoom 106\nHistoric Triangle Campus\n\n1-2 pm\nGators Cafe\nHampton Campus\n\nSponsored by Military & Veteran Services and Student Life and Leadership
URL:https://www.vpcc.edu/event/9-11-remembrance-gathering-honoring-through-reflection-and-connection/
LOCATION:Virginia Peninsula Communty College\, 99 Thomas Nelson Drive\, Hampton\, VA\, 23666\, United States
CATEGORIES:Community,Faculty & Staff,General,Student Life
ATTACH;FMTTYPE=image/jpeg:https://www.vpcc.edu/wp-content/uploads/2025/09/911remembranceevent.jpg
END:VEVENT
BEGIN:VEVENT
DTSTART;TZID=America/New_York:20250912T130000
DTEND;TZID=America/New_York:20250912T150000
DTSTAMP:20260419T191533
CREATED:20250808T155325Z
LAST-MODIFIED:20250808T155325Z
UID:10000765-1757682000-1757689200@www.vpcc.edu
SUMMARY:Fall 2025 Nursing Information Session
DESCRIPTION:Join us for a Nursing Information Session at Virginia Peninsula Community College\, where you’ll learn everything you need to know about starting a rewarding career in nursing. This session will cover program requirements\, the application process\, prerequisites\, and what to expect during your time in the nursing program. You’ll also have the opportunity to ask questions and connect with faculty and advisors who are here to support you every step of the way. \nThe Zoom meeting starts at 1 p.m. \nJOIN THE ZOOM HERE \nFor more information\, contact psahhs@vpcc.edu or 757-825-2808.
URL:https://www.vpcc.edu/event/fall-2025-nursing-information-session-7/
LOCATION:Zoom
CATEGORIES:Community,General,Nursing
ATTACH;FMTTYPE=image/jpeg:https://www.vpcc.edu/wp-content/uploads/2025/07/nursing-info-session.jpg
END:VEVENT
BEGIN:VEVENT
DTSTART;TZID=America/New_York:20250913T110000
DTEND;TZID=America/New_York:20250913T133000
DTSTAMP:20260419T191533
CREATED:20250825T182855Z
LAST-MODIFIED:20250904T191136Z
UID:10000779-1757761200-1757770200@www.vpcc.edu
SUMMARY:VPCC Volleyball in Louisburg College Event
DESCRIPTION:On September 13\, 2025\, the Virginia Peninsula Community College Gators volleyball team will compete in a tri-match at Louisburg College. The first match is against the hosts at  11 a.m.\, followed by Forsyth Technical Community College at 1 p.m. \nMore information is available at the VPCC Athletics site.
URL:https://www.vpcc.edu/event/vpcc-volleyball-vs-louisburg-college-away/
LOCATION:Patrick & Henry Community College\, 645 Patriot Ave.\, Martinsville\, 24112\, United States
CATEGORIES:Athletics,Community,General,Student Life
ATTACH;FMTTYPE=image/jpeg:https://www.vpcc.edu/wp-content/uploads/2025/08/volleyball-icon.jpg
END:VEVENT
BEGIN:VEVENT
DTSTART;TZID=America/New_York:20250914T140000
DTEND;TZID=America/New_York:20250914T170000
DTSTAMP:20260419T191533
CREATED:20250908T152504Z
LAST-MODIFIED:20250908T152823Z
UID:10000895-1757858400-1757869200@www.vpcc.edu
SUMMARY:VPCC Soccer vs. Central Carolina Community College
DESCRIPTION:The Gators are back on the pitch against their foes from North Carolina. The match will be held at Wanner Stadium in Williamsburg and is scheduled to start at 2 p.m. More information is available at the VPCC Athletics site.
URL:https://www.vpcc.edu/event/vpcc-soccer-vs-central-carolina-community-college/
LOCATION:Wanner Stadium\, Wanner Stadium
CATEGORIES:Athletics,Community,General,Student Life
ATTACH;FMTTYPE=image/jpeg:https://www.vpcc.edu/wp-content/uploads/2025/08/soccer-icon.jpg
END:VEVENT
BEGIN:VEVENT
DTSTART;TZID=America/New_York:20250918T180000
DTEND;TZID=America/New_York:20250918T200000
DTSTAMP:20260419T191533
CREATED:20250825T183106Z
LAST-MODIFIED:20250826T202106Z
UID:10000780-1758218400-1758225600@www.vpcc.edu
SUMMARY:VPCC Volleyball vs. Mid-Atlantic Christian University (Away)
DESCRIPTION:On September 18\, 2025\, the Virginia Peninsula Community College Gators volleyball team will face Mid-Atlantic Christian University again\, this time in an away match at MACU\, beginning at 6 p.m. \nMore information is available at the VPCC Athletics site.
URL:https://www.vpcc.edu/event/vpcc-volleyball-vs-mid-atlantic-christian-university-away/
LOCATION:Mid-Atlantic Christian University\, 715 North Poindexter Street\, Elizabeth City\, NC\, 27909\, United States
CATEGORIES:Athletics,Community,General,Student Life
ATTACH;FMTTYPE=image/jpeg:https://www.vpcc.edu/wp-content/uploads/2025/08/volleyball-icon.jpg
END:VEVENT
BEGIN:VEVENT
DTSTART;TZID=America/New_York:20250921T120000
DTEND;TZID=America/New_York:20250921T150000
DTSTAMP:20260419T191533
CREATED:20250821T183443Z
LAST-MODIFIED:20250904T193307Z
UID:10000771-1758456000-1758466800@www.vpcc.edu
SUMMARY:VPCC Soccer vs. College of Southern Maryland (Home)
DESCRIPTION:A midday showdown at Wanner Stadium against Southern Maryland kicks off at Noon. Expect a high-energy rematch with home-field advantage. \nMore information is available at the VPCC Athletics site.
URL:https://www.vpcc.edu/event/vpcc-soccer-vs-college-of-southern-maryland-home/
LOCATION:Wanner Field\, 4900 Stadium Rd\, Williamsburg\, VA\, 23188\, United States
CATEGORIES:Athletics,Community,General,Student Life
ATTACH;FMTTYPE=image/jpeg:https://www.vpcc.edu/wp-content/uploads/2025/08/soccer-icon.jpg
END:VEVENT
BEGIN:VEVENT
DTSTART;TZID=America/New_York:20250923T130000
DTEND;TZID=America/New_York:20250923T140000
DTSTAMP:20260419T191533
CREATED:20250709T160628Z
LAST-MODIFIED:20250920T220417Z
UID:10000371-1758632400-1758636000@www.vpcc.edu
SUMMARY:Fall 2025 Student Town Hall with President Brannon
DESCRIPTION:Fall 2025 – Historic Triangle Campus (HT): Tuesday\, September 23 at 1 p.m.\n\nIn person – HT Room 110\nVirtual watch party at Hampton campus- Kecoughtan Gallery\nZoom – https://vccs.zoom.us/j/88629953950
URL:https://www.vpcc.edu/event/fall-2025-student-town-hall-with-president-brannon/
LOCATION:Historic Triangle Campus\, 4601 Opportunity Way\, Williamsburg\, VA\, 23188\, United States
CATEGORIES:Community,General,Student Life
ATTACH;FMTTYPE=image/jpeg:https://www.vpcc.edu/wp-content/uploads/2025/07/dr-brannon.jpg
END:VEVENT
BEGIN:VEVENT
DTSTART;TZID=America/New_York:20250928T100000
DTEND;TZID=America/New_York:20250928T130000
DTSTAMP:20260419T191533
CREATED:20250821T185338Z
LAST-MODIFIED:20250821T185338Z
UID:10000772-1759053600-1759064400@www.vpcc.edu
SUMMARY:VPCC Soccer vs. CNU Club Team (Away)
DESCRIPTION:A morning clash at 10 a.m. against the Christopher Newport University Club Team offers a unique test away from home. \nMore information is available at the VPCC Athletics site.
URL:https://www.vpcc.edu/event/vpcc-soccer-vs-cnu-club-team-away/
LOCATION:Christopher Newport University\, 1 Avenue of the Arts\, Newport News\, VA\, 23606\, United States
CATEGORIES:Athletics,Community,General,Student Life
ATTACH;FMTTYPE=image/jpeg:https://www.vpcc.edu/wp-content/uploads/2025/08/soccer-icon.jpg
END:VEVENT
END:VCALENDAR