BEGIN:VCALENDAR
VERSION:2.0
PRODID:-//Virginia Peninsula Community College - ECPv6.15.17//NONSGML v1.0//EN
CALSCALE:GREGORIAN
METHOD:PUBLISH
X-ORIGINAL-URL:https://www.vpcc.edu
X-WR-CALDESC:Events for Virginia Peninsula Community College
REFRESH-INTERVAL;VALUE=DURATION:PT1H
X-Robots-Tag:noindex
X-PUBLISHED-TTL:PT1H
BEGIN:VTIMEZONE
TZID:America/New_York
BEGIN:DAYLIGHT
TZOFFSETFROM:-0500
TZOFFSETTO:-0400
TZNAME:EDT
DTSTART:20250309T070000
END:DAYLIGHT
BEGIN:STANDARD
TZOFFSETFROM:-0400
TZOFFSETTO:-0500
TZNAME:EST
DTSTART:20251102T060000
END:STANDARD
BEGIN:DAYLIGHT
TZOFFSETFROM:-0500
TZOFFSETTO:-0400
TZNAME:EDT
DTSTART:20260308T070000
END:DAYLIGHT
BEGIN:STANDARD
TZOFFSETFROM:-0400
TZOFFSETTO:-0500
TZNAME:EST
DTSTART:20261101T060000
END:STANDARD
BEGIN:DAYLIGHT
TZOFFSETFROM:-0500
TZOFFSETTO:-0400
TZNAME:EDT
DTSTART:20270314T070000
END:DAYLIGHT
BEGIN:STANDARD
TZOFFSETFROM:-0400
TZOFFSETTO:-0500
TZNAME:EST
DTSTART:20271107T060000
END:STANDARD
END:VTIMEZONE
BEGIN:VEVENT
DTSTART;TZID=America/New_York:20260305T150000
DTEND;TZID=America/New_York:20260305T180000
DTSTAMP:20260421T194218
CREATED:20260120T203713Z
LAST-MODIFIED:20260208T191920Z
UID:10001415-1772722800-1772733600@www.vpcc.edu
SUMMARY:VPCC Baseball at Richard Bland College
DESCRIPTION:The Gators takes a break from Region 10 play with a single game against the Statesmen. \n 
URL:https://www.vpcc.edu/event/vpcc-baseball-at-richard-bland-college/
LOCATION:Richard Bland College
CATEGORIES:Athletics,Commencement,General,Student Life
ATTACH;FMTTYPE=image/png:https://www.vpcc.edu/wp-content/uploads/2025/03/event-gators-baseball.png
END:VEVENT
BEGIN:VEVENT
DTSTART;TZID=America/New_York:20260307T120000
DTEND;TZID=America/New_York:20260307T180000
DTSTAMP:20260421T194218
CREATED:20260120T204449Z
LAST-MODIFIED:20260208T191920Z
UID:10001416-1772884800-1772906400@www.vpcc.edu
SUMMARY:VPCC Baseball at Rockingham Community College
DESCRIPTION:The Gators resume Region 10 play with a doubleheader at Rockingham. \n 
URL:https://www.vpcc.edu/event/vpcc-baseball-at-rockingham-community-college-3/
LOCATION:Rockingham Community College\, 215 Wrenn Memorial Rd\, Wentworth\, NC\, 27375\, United States
CATEGORIES:Athletics,Commencement,General,Student Life
ATTACH;FMTTYPE=image/png:https://www.vpcc.edu/wp-content/uploads/2025/03/event-gators-baseball.png
END:VEVENT
BEGIN:VEVENT
DTSTART;TZID=America/New_York:20260308T120000
DTEND;TZID=America/New_York:20260308T150000
DTSTAMP:20260421T194218
CREATED:20260120T204559Z
LAST-MODIFIED:20260208T191920Z
UID:10001417-1772971200-1772982000@www.vpcc.edu
SUMMARY:VPCC Baseball at Rockingham Community College
DESCRIPTION:The Gators close out a three-game Region 10 series with a single game at Rockingham. \n 
URL:https://www.vpcc.edu/event/vpcc-baseball-at-rockingham-community-college-4/
LOCATION:Rockingham Community College\, 215 Wrenn Memorial Rd\, Wentworth\, NC\, 27375\, United States
CATEGORIES:Athletics,Commencement,General,Student Life
ATTACH;FMTTYPE=image/png:https://www.vpcc.edu/wp-content/uploads/2025/03/event-gators-baseball.png
END:VEVENT
BEGIN:VEVENT
DTSTART;TZID=America/New_York:20260311T140000
DTEND;TZID=America/New_York:20260311T183000
DTSTAMP:20260421T194218
CREATED:20260120T204807Z
LAST-MODIFIED:20260208T191920Z
UID:10001418-1773237600-1773253800@www.vpcc.edu
SUMMARY:VPCC Baseball at Virginia State University
DESCRIPTION:The Gators take on the Trojans in a midweek doubleheader. \n 
URL:https://www.vpcc.edu/event/vpcc-baseball-at-virginia-state-university/
LOCATION:Virginia State University
CATEGORIES:Athletics,Commencement,General,Student Life
ATTACH;FMTTYPE=image/png:https://www.vpcc.edu/wp-content/uploads/2025/03/event-gators-baseball.png
END:VEVENT
BEGIN:VEVENT
DTSTART;TZID=America/New_York:20260314T120000
DTEND;TZID=America/New_York:20260314T183000
DTSTAMP:20260421T194218
CREATED:20260120T204946Z
LAST-MODIFIED:20260313T173800Z
UID:10001419-1773489600-1773513000@www.vpcc.edu
SUMMARY:VPCC Baseball at Camp Community College
DESCRIPTION:The Gators hit the road for a key Region 10 doubleheader against the Hurricanes. \n 
URL:https://www.vpcc.edu/event/vpcc-baseball-vs-camp-community-college/
LOCATION:Camp Community College\, 100 N College Drive\, Franklin\, VA\, 23851\, United States
CATEGORIES:Athletics,Commencement,General,Student Life
ATTACH;FMTTYPE=image/png:https://www.vpcc.edu/wp-content/uploads/2025/03/event-gators-baseball.png
END:VEVENT
BEGIN:VEVENT
DTSTART;TZID=America/New_York:20260315T130000
DTEND;TZID=America/New_York:20260315T160000
DTSTAMP:20260421T194218
CREATED:20260120T205129Z
LAST-MODIFIED:20260313T173916Z
UID:10001420-1773579600-1773590400@www.vpcc.edu
SUMMARY:VPCC Baseball at Camp Community College
DESCRIPTION:The Gators finish a big Region 10 series with a game at the Hurricanes. \n 
URL:https://www.vpcc.edu/event/vpcc-baseball-at-camp-community-college-2/
LOCATION:at Camp Community College
CATEGORIES:Athletics,Commencement,General,Student Life
ATTACH;FMTTYPE=image/png:https://www.vpcc.edu/wp-content/uploads/2025/03/event-gators-baseball.png
END:VEVENT
END:VCALENDAR