BEGIN:VCALENDAR
VERSION:2.0
PRODID:-//Virginia Peninsula Community College - ECPv6.15.17//NONSGML v1.0//EN
CALSCALE:GREGORIAN
METHOD:PUBLISH
X-ORIGINAL-URL:https://www.vpcc.edu
X-WR-CALDESC:Events for Virginia Peninsula Community College
REFRESH-INTERVAL;VALUE=DURATION:PT1H
X-Robots-Tag:noindex
X-PUBLISHED-TTL:PT1H
BEGIN:VTIMEZONE
TZID:America/New_York
BEGIN:DAYLIGHT
TZOFFSETFROM:-0500
TZOFFSETTO:-0400
TZNAME:EDT
DTSTART:20240310T070000
END:DAYLIGHT
BEGIN:STANDARD
TZOFFSETFROM:-0400
TZOFFSETTO:-0500
TZNAME:EST
DTSTART:20241103T060000
END:STANDARD
BEGIN:DAYLIGHT
TZOFFSETFROM:-0500
TZOFFSETTO:-0400
TZNAME:EDT
DTSTART:20250309T070000
END:DAYLIGHT
BEGIN:STANDARD
TZOFFSETFROM:-0400
TZOFFSETTO:-0500
TZNAME:EST
DTSTART:20251102T060000
END:STANDARD
BEGIN:DAYLIGHT
TZOFFSETFROM:-0500
TZOFFSETTO:-0400
TZNAME:EDT
DTSTART:20260308T070000
END:DAYLIGHT
BEGIN:STANDARD
TZOFFSETFROM:-0400
TZOFFSETTO:-0500
TZNAME:EST
DTSTART:20261101T060000
END:STANDARD
END:VTIMEZONE
BEGIN:VEVENT
DTSTART;TZID=America/New_York:20250820T120000
DTEND;TZID=America/New_York:20250820T140000
DTSTAMP:20260419T081253
CREATED:20250709T154015Z
LAST-MODIFIED:20250717T213059Z
UID:10000365-1755691200-1755698400@www.vpcc.edu
SUMMARY:Student Welcome Day!
DESCRIPTION:Students are invited to celebrate the start of a new semester at Virginia Peninsula Community College! Join us on Wednesday\, Aug. 20 12-2 p.m. on the Hampton Campus Courtyard! \n(Rain Site: Gators\, Kecoughtan Hall) \nJOIN THE FUN! \n\nDJ\nInformation Tables\nStudents Ambassadors assisting students\nPrizes and more! \n\nSponsored by the Office of Student Life and Leadership
URL:https://www.vpcc.edu/event/student-welcome/
LOCATION:Hampton Campus\, 99 Thomas Nelson Drive\, Hampton\, VA\, 23666\, United States
CATEGORIES:Athletics,General,Student Life,Workforce Development
ATTACH;FMTTYPE=image/jpeg:https://www.vpcc.edu/wp-content/uploads/2025/07/student-welcome-day.jpg
END:VEVENT
BEGIN:VEVENT
DTSTART;TZID=America/New_York:20250821T120000
DTEND;TZID=America/New_York:20250821T140000
DTSTAMP:20260419T081253
CREATED:20250717T163429Z
LAST-MODIFIED:20250815T183555Z
UID:10000758-1755777600-1755784800@www.vpcc.edu
SUMMARY:Student Welcome Day!
DESCRIPTION:Welcome Students \nCelebrate the start of a new semester at VPCC! \nThursday\, Aug. 21 12-2 p.m.  \nHistoric Triangle Campus Courtyard \nWilliamsburg \n(Rain Site: Second Floor Landing)  \nJOIN THE FUN! \n\nDJ\nInformation Tables\nStudents Ambassadors assisting students\nPrizes and more! \n\nSponsored by the Office of Student Life and Leadership
URL:https://www.vpcc.edu/event/student-welcome-day/
LOCATION:Historic Triangle Campus\, 4601 Opportunity Way\, Williamsburg\, VA\, 23188\, United States
CATEGORIES:Athletics,General,Student Life,Workforce Development
ATTACH;FMTTYPE=image/jpeg:https://www.vpcc.edu/wp-content/uploads/2025/07/student-welcome-day.jpg
END:VEVENT
BEGIN:VEVENT
DTSTART;TZID=America/New_York:20250823T170000
DTEND;TZID=America/New_York:20250823T190000
DTSTAMP:20260419T081253
CREATED:20250821T171608Z
LAST-MODIFIED:20250821T171608Z
UID:10000767-1755968400-1755975600@www.vpcc.edu
SUMMARY:VPCC Soccer vs. Regent University (Home)
DESCRIPTION:The season kicks off at Wanner Stadium in James City County as the Virginia Peninsula Community College Gators Soccer squad  hosts Regent University. With a 5 p.m. start\, fans can expect a lively opener and a chance to set the tone for the season. \nMore information is available at the VPCC Athletics site.
URL:https://www.vpcc.edu/event/vpcc-soccer-vs-regent-university-home/
LOCATION:Wanner Field\, 4900 Stadium Rd\, Williamsburg\, VA\, 23188\, United States
CATEGORIES:Athletics,Community,General,Student Life
ATTACH;FMTTYPE=image/jpeg:https://www.vpcc.edu/wp-content/uploads/2025/08/soccer-icon.jpg
END:VEVENT
BEGIN:VEVENT
DTSTART;TZID=America/New_York:20250826T133000
DTEND;TZID=America/New_York:20250826T153000
DTSTAMP:20260419T081253
CREATED:20250821T172428Z
LAST-MODIFIED:20250821T172428Z
UID:10000768-1756215000-1756222200@www.vpcc.edu
SUMMARY:VPCC Soccer vs. Wake Technical Community College (Away)
DESCRIPTION:The Virginia Peninsula Community College Gators Soccer squad hits the road for a 1:30 PM match against Wake Tech. This early-season away game will test their travel readiness and resilience. \nMore information is available at the VPCC Athletics site.
URL:https://www.vpcc.edu/event/vpcc-soccer-vs-wake-technical-community-college-away/
LOCATION:Wake Technical Community College\, 151 Middle Creek Park Ave\, Apex\, NC\, 27539\, United States
CATEGORIES:Athletics,Community,General,Student Life
ATTACH;FMTTYPE=image/jpeg:https://www.vpcc.edu/wp-content/uploads/2025/08/soccer-icon.jpg
END:VEVENT
BEGIN:VEVENT
DTSTART;TZID=America/New_York:20250826T180000
DTEND;TZID=America/New_York:20250826T203000
DTSTAMP:20260419T081253
CREATED:20250825T181645Z
LAST-MODIFIED:20250826T201727Z
UID:10000776-1756231200-1756240200@www.vpcc.edu
SUMMARY:VPCC Volleyball vs. Mid-Atlantic Christian University (Home)
DESCRIPTION:On August 26\, 2025\, the Virginia Peninsula Community College Gators volleyball team will play against Mid-Atlantic Christian University at home in SafeHaven Empowerment Center\, with the match starting at 6 p.m. \nMore information is available at the VPCC Athletics site.
URL:https://www.vpcc.edu/event/vpcc-volleyball-vs-mid-atlantic-christian-university/
LOCATION:SafeHaven Empowerment Center\, 429 Thorncliff Dr\, Newport News\, 23608\, United States
CATEGORIES:Athletics,Community,General,Student Life
ATTACH;FMTTYPE=image/jpeg:https://www.vpcc.edu/wp-content/uploads/2025/08/volleyball-icon.jpg
END:VEVENT
END:VCALENDAR