BEGIN:VCALENDAR
VERSION:2.0
PRODID:-//Virginia Peninsula Community College - ECPv6.15.17//NONSGML v1.0//EN
CALSCALE:GREGORIAN
METHOD:PUBLISH
X-ORIGINAL-URL:https://www.vpcc.edu
X-WR-CALDESC:Events for Virginia Peninsula Community College
REFRESH-INTERVAL;VALUE=DURATION:PT1H
X-Robots-Tag:noindex
X-PUBLISHED-TTL:PT1H
BEGIN:VTIMEZONE
TZID:America/New_York
BEGIN:DAYLIGHT
TZOFFSETFROM:-0500
TZOFFSETTO:-0400
TZNAME:EDT
DTSTART:20240310T070000
END:DAYLIGHT
BEGIN:STANDARD
TZOFFSETFROM:-0400
TZOFFSETTO:-0500
TZNAME:EST
DTSTART:20241103T060000
END:STANDARD
BEGIN:DAYLIGHT
TZOFFSETFROM:-0500
TZOFFSETTO:-0400
TZNAME:EDT
DTSTART:20250309T070000
END:DAYLIGHT
BEGIN:STANDARD
TZOFFSETFROM:-0400
TZOFFSETTO:-0500
TZNAME:EST
DTSTART:20251102T060000
END:STANDARD
BEGIN:DAYLIGHT
TZOFFSETFROM:-0500
TZOFFSETTO:-0400
TZNAME:EDT
DTSTART:20260308T070000
END:DAYLIGHT
BEGIN:STANDARD
TZOFFSETFROM:-0400
TZOFFSETTO:-0500
TZNAME:EST
DTSTART:20261101T060000
END:STANDARD
END:VTIMEZONE
BEGIN:VEVENT
DTSTART;TZID=America/New_York:20250405T130000
DTEND;TZID=America/New_York:20250405T180000
DTSTAMP:20260419T143535
CREATED:20250324T175918Z
LAST-MODIFIED:20260208T191946Z
UID:10000166-1743858000-1743876000@www.vpcc.edu
SUMMARY:VPCC baseball vs. Caldwell Community College
DESCRIPTION:The Gators open a Region 10 series with a doubleheader beginning at 1 p.m. at War Memorial Stadium.
URL:https://www.vpcc.edu/event/vpcc-baseball-vs-caldwell-community-college/
LOCATION:War Memorial Stadium\, 1889 W Pembroke Ave\, Hampton\, 23661\, United States
CATEGORIES:Athletics,General
ATTACH;FMTTYPE=image/jpeg:https://www.vpcc.edu/wp-content/uploads/2025/03/gators-baseball-event.jpg
END:VEVENT
BEGIN:VEVENT
DTSTART;TZID=America/New_York:20250406T120000
DTEND;TZID=America/New_York:20250406T150000
DTSTAMP:20260419T143535
CREATED:20250324T180217Z
LAST-MODIFIED:20260208T191946Z
UID:10000167-1743940800-1743951600@www.vpcc.edu
SUMMARY:VPCC baseball vs. Caldwell Community College
DESCRIPTION:The Gators close a three-game series against the Cobras with a noon game at War Memorial Stadium in Hampton.
URL:https://www.vpcc.edu/event/vpcc-baseball-vs-caldwell-community-college-2/
LOCATION:War Memorial Stadium\, 1889 W Pembroke Ave\, Hampton\, 23661\, United States
CATEGORIES:Athletics,General
ATTACH;FMTTYPE=image/jpeg:https://www.vpcc.edu/wp-content/uploads/2025/03/gators-baseball-event.jpg
END:VEVENT
BEGIN:VEVENT
DTSTART;TZID=America/New_York:20250412T130000
DTEND;TZID=America/New_York:20250412T180000
DTSTAMP:20260419T143535
CREATED:20250324T181931Z
LAST-MODIFIED:20260208T191945Z
UID:10000171-1744462800-1744480800@www.vpcc.edu
SUMMARY:VPCC baseball at Rockingham Community College
DESCRIPTION:The Gators travel to North Carolina for a Region 10 doubleheader.
URL:https://www.vpcc.edu/event/vpcc-baseball-at-rockingham-community-college/
CATEGORIES:Athletics,General
ATTACH;FMTTYPE=image/jpeg:https://www.vpcc.edu/wp-content/uploads/2025/03/gators-baseball-event.jpg
END:VEVENT
BEGIN:VEVENT
DTSTART;TZID=America/New_York:20250413T130000
DTEND;TZID=America/New_York:20250413T190000
DTSTAMP:20260419T143535
CREATED:20250324T182421Z
LAST-MODIFIED:20260208T191944Z
UID:10000172-1744549200-1744570800@www.vpcc.edu
SUMMARY:VPCC baseball at Rockingham Community College
DESCRIPTION:The Gators travel to North Carolina for a Region 10 game against the Eagles.
URL:https://www.vpcc.edu/event/vpcc-baseball-at-rockingham-community-college-2/
CATEGORIES:Athletics,General
ATTACH;FMTTYPE=image/jpeg:https://www.vpcc.edu/wp-content/uploads/2025/03/gators-baseball-event.jpg
END:VEVENT
BEGIN:VEVENT
DTSTART;TZID=America/New_York:20250419T120000
DTEND;TZID=America/New_York:20250419T180000
DTSTAMP:20260419T143535
CREATED:20250324T180805Z
LAST-MODIFIED:20260208T191945Z
UID:10000168-1745064000-1745085600@www.vpcc.edu
SUMMARY:VPCC baseball vs. Paul D. Camp Community College
DESCRIPTION:The Gators close the home portion of their schedule with a Region 10 doubleheader against the Hurricanes at War Memorial Stadium.
URL:https://www.vpcc.edu/event/vpcc-baseball-vs-paul-d-camp-community-college/
LOCATION:War Memorial Stadium\, 1889 W Pembroke Ave\, Hampton\, 23661\, United States
CATEGORIES:Athletics,General
ATTACH;FMTTYPE=image/jpeg:https://www.vpcc.edu/wp-content/uploads/2025/03/gators-baseball-event.jpg
END:VEVENT
BEGIN:VEVENT
DTSTART;TZID=America/New_York:20250420T000000
DTEND;TZID=America/New_York:20250420T000000
DTSTAMP:20260419T143535
CREATED:20250324T182715Z
LAST-MODIFIED:20260208T191924Z
UID:10000173-1745107200-1745107200@www.vpcc.edu
SUMMARY:VPCC baseball at Paul D. Camp Community College
DESCRIPTION:The Gators conclude a three-game series against the Hurricanes with an away game.
URL:https://www.vpcc.edu/event/vpcc-baseball-at-paul-d-camp-community-college/
LOCATION:Repair Tech Field\, 100 N. College Drive\, Franklin\, VA\, 23851\, United States
CATEGORIES:Athletics,General
ATTACH;FMTTYPE=image/jpeg:https://www.vpcc.edu/wp-content/uploads/2025/03/gators-baseball-event.jpg
END:VEVENT
BEGIN:VEVENT
DTSTART;TZID=America/New_York:20250426T130000
DTEND;TZID=America/New_York:20250426T190000
DTSTAMP:20260419T143535
CREATED:20250324T182929Z
LAST-MODIFIED:20260208T191923Z
UID:10000174-1745672400-1745694000@www.vpcc.edu
SUMMARY:VPCC baseball at Surry Community College
DESCRIPTION:The Gators head to North Carolina for a Region 10 doubleheader.
URL:https://www.vpcc.edu/event/vpcc-baseball-at-surry-community-college/
CATEGORIES:Athletics,General
ATTACH;FMTTYPE=image/jpeg:https://www.vpcc.edu/wp-content/uploads/2025/03/gators-baseball-event.jpg
END:VEVENT
BEGIN:VEVENT
DTSTART;TZID=America/New_York:20250429T130000
DTEND;TZID=America/New_York:20250429T170000
DTSTAMP:20260419T143535
CREATED:20250325T151514Z
LAST-MODIFIED:20250418T155248Z
UID:10000176-1745931600-1745946000@www.vpcc.edu
SUMMARY:GRAD EXPO 2025
DESCRIPTION:Congratulations Class of 2025! Mark your calendar today for GRAD EXPO! \nCandidates of graduation\, continue to check your Canvas account\, all Commencement 2025 information and event details will be added to your Canvas account. Information will include how to purchase your cap and gown\, event FAQ\, and more! \nFor more information on Commencement event\, visit our Commencement page. \nGRAD EXPO ACTIVITIES: \n\nGrad Cap Decorating\nPhoto Booth\nLight Refreshments\nHonor Cord & Stole Pickup (PTK\, SGA\, TRiO and Veteran)\nDegree Completion Status Check\nCheck-in with Academic Advising
URL:https://www.vpcc.edu/event/commencement-expo-2025/
LOCATION:Kecoughtan Hall\, Gallery\, 99 Thomas Nelson Drive\, Hampton\, VA\, 23666\, United States
CATEGORIES:Athletics,Commencement,General,Student Life,Workforce Development
ATTACH;FMTTYPE=image/jpeg:https://www.vpcc.edu/wp-content/uploads/2025/03/event-grad-expo.jpg
END:VEVENT
BEGIN:VEVENT
DTSTART;TZID=America/New_York:20250429T140000
DTEND;TZID=America/New_York:20250429T190000
DTSTAMP:20260419T143535
CREATED:20250324T181308Z
LAST-MODIFIED:20260208T191945Z
UID:10000169-1745935200-1745953200@www.vpcc.edu
SUMMARY:VPCC baseball vs. Virginia State University
DESCRIPTION:The Gators travel to Petersburg for a doubleheader against the Trojans.
URL:https://www.vpcc.edu/event/vpcc-baseball-vs-virginia-state-university/
CATEGORIES:Athletics,General
ATTACH;FMTTYPE=image/jpeg:https://www.vpcc.edu/wp-content/uploads/2025/03/gators-baseball-event.jpg
END:VEVENT
BEGIN:VEVENT
DTSTART;TZID=America/New_York:20250430T090000
DTEND;TZID=America/New_York:20250430T130000
DTSTAMP:20260419T143535
CREATED:20250325T153435Z
LAST-MODIFIED:20250418T155401Z
UID:10000177-1746003600-1746018000@www.vpcc.edu
SUMMARY:GRAD EXPO 2025
DESCRIPTION:Congratulations Class of 2025! Mark your calendar today for GRAD EXPO! \nCandidates of graduation\, continue to check your Canvas account\, all Commencement 2025 information and event details will be added to your Canvas account. Information will include how to purchase your cap and gown\, event FAQ\, and more! \nFor more information on Commencement event\, visit our Commencement page. \nGRAD EXPO ACTIVITIES: \n\nGrad Cap Decorating\nPhoto Booth\nLight Refreshments\nHonor Cord & Stole Pickup (PTK\, SGA\, TRiO and Veteran)\nDegree Completion Status Check\nCheck-in with Academic Advising\n\n 
URL:https://www.vpcc.edu/event/grad-expo-2025/
LOCATION:Kecoughtan Hall\, Gallery\, 99 Thomas Nelson Drive\, Hampton\, VA\, 23666\, United States
CATEGORIES:Athletics,Commencement,General,Student Life,Workforce Development
ATTACH;FMTTYPE=image/jpeg:https://www.vpcc.edu/wp-content/uploads/2025/03/event-grad-expo.jpg
END:VEVENT
END:VCALENDAR