BEGIN:VCALENDAR
VERSION:2.0
PRODID:-//Virginia Peninsula Community College - ECPv6.15.17//NONSGML v1.0//EN
CALSCALE:GREGORIAN
METHOD:PUBLISH
X-WR-CALNAME:Virginia Peninsula Community College
X-ORIGINAL-URL:https://www.vpcc.edu
X-WR-CALDESC:Events for Virginia Peninsula Community College
REFRESH-INTERVAL;VALUE=DURATION:PT1H
X-Robots-Tag:noindex
X-PUBLISHED-TTL:PT1H
BEGIN:VTIMEZONE
TZID:America/New_York
BEGIN:DAYLIGHT
TZOFFSETFROM:-0500
TZOFFSETTO:-0400
TZNAME:EDT
DTSTART:20250309T070000
END:DAYLIGHT
BEGIN:STANDARD
TZOFFSETFROM:-0400
TZOFFSETTO:-0500
TZNAME:EST
DTSTART:20251102T060000
END:STANDARD
BEGIN:DAYLIGHT
TZOFFSETFROM:-0500
TZOFFSETTO:-0400
TZNAME:EDT
DTSTART:20260308T070000
END:DAYLIGHT
BEGIN:STANDARD
TZOFFSETFROM:-0400
TZOFFSETTO:-0500
TZNAME:EST
DTSTART:20261101T060000
END:STANDARD
BEGIN:DAYLIGHT
TZOFFSETFROM:-0500
TZOFFSETTO:-0400
TZNAME:EDT
DTSTART:20270314T070000
END:DAYLIGHT
BEGIN:STANDARD
TZOFFSETFROM:-0400
TZOFFSETTO:-0500
TZNAME:EST
DTSTART:20271107T060000
END:STANDARD
END:VTIMEZONE
BEGIN:VEVENT
DTSTART;TZID=America/New_York:20260112T000000
DTEND;TZID=America/New_York:20260112T235959
DTSTAMP:20260420T032837
CREATED:20260111T200945Z
LAST-MODIFIED:20260111T200945Z
UID:10001399-1768176000-1768262399@www.vpcc.edu
SUMMARY:Spring Classes Begin
DESCRIPTION:Our Spring 2026 Semester begins today! For more information about\, visit our Academic Calendar. For additional information about enrolling in our Spring Semester\, reach out to our Enrollment Management team.
URL:https://www.vpcc.edu/event/spring-classes-begin/
LOCATION:Virginia Peninsula Communty College\, 99 Thomas Nelson Drive\, Hampton\, VA\, 23666\, United States
CATEGORIES:Admissions,Community,General,Student Life
ATTACH;FMTTYPE=image/jpeg:https://www.vpcc.edu/wp-content/uploads/2026/01/spring-classes.jpg
END:VEVENT
BEGIN:VEVENT
DTSTART;TZID=America/New_York:20260126T000000
DTEND;TZID=America/New_York:20260126T235959
DTSTAMP:20260420T032837
CREATED:20260125T232648Z
LAST-MODIFIED:20260125T232648Z
UID:10001439-1769385600-1769471999@www.vpcc.edu
SUMMARY:VPCC Remote Learning - Monday\, Jan. 26
DESCRIPTION:The College will operate on a remote basis Monday\, Jan. 26. Employees and students should monitor their email for additional information and guidance from their supervisors and instructors. \nCollege officials are closely monitoring information and guidance from weather professionals and emergency management agencies. Conditions permitting\, campuses in Hampton and Williamsburg\, along with satellite locations\, will reopen Tuesday\, Jan. 27. \nIn the meantime\, the College encourages students and staff to confirm they are signed up for emergency messages through GatorAlert (www.vpcc.edu/gatoralert)\, continue monitoring VPCC email for updates\, and prepare for remote work and learning.
URL:https://www.vpcc.edu/event/vpcc-remote-learning-monday-jan-26/
LOCATION:Virginia Peninsula Communty College\, 99 Thomas Nelson Drive\, Hampton\, VA\, 23666\, United States
CATEGORIES:Admissions,CEECD,Community,General,Historic Triangle Campus,Kecoughtan Hall,PWDC,Templin Hall,Toano Trades Center,Workforce Development
ATTACH;FMTTYPE=image/jpeg:https://www.vpcc.edu/wp-content/uploads/2025/12/modifoed-schedule.jpg
END:VEVENT
BEGIN:VEVENT
DTSTART;TZID=America/New_York:20260202T000000
DTEND;TZID=America/New_York:20260202T235959
DTSTAMP:20260420T032837
CREATED:20260202T142738Z
LAST-MODIFIED:20260202T142913Z
UID:10001457-1769990400-1770076799@www.vpcc.edu
SUMMARY:VPCC Remote Learning Day
DESCRIPTION:All Virginia Peninsula Community College campuses\, offices and satellite locations will operate on a remote basis Monday\, Feb. 2. Employees and students should monitor their email for additional information and guidance from their supervisors and instructors.
URL:https://www.vpcc.edu/event/vpcc-remote-learning-day/
LOCATION:Virginia Peninsula Communty College\, 99 Thomas Nelson Drive\, Hampton\, VA\, 23666\, United States
CATEGORIES:Admissions,Community,Faculty & Staff,General,Hampton Campus,Historic Triangle Campus,Kecoughtan Hall,PWDC,Templin Hall,Toano Trades Center,Workforce Development
ATTACH;FMTTYPE=image/jpeg:https://www.vpcc.edu/wp-content/uploads/2025/12/modifoed-schedule.jpg
END:VEVENT
BEGIN:VEVENT
DTSTART;TZID=America/New_York:20260323T000000
DTEND;TZID=America/New_York:20260323T235959
DTSTAMP:20260420T032837
CREATED:20260224T214429Z
LAST-MODIFIED:20260224T215808Z
UID:10001476-1774224000-1774310399@www.vpcc.edu
SUMMARY:Priority Registration Begins
DESCRIPTION:Priority Registration allows eligible students to register for classes earlier than the general student population\, giving them greater access to preferred courses and schedules. Priority Registration (including Military‑Affiliated students) begins Monday\, March 23\, 2026. Visit the Priority Registration page for more details.
URL:https://www.vpcc.edu/event/priority-registration-begins/
LOCATION:Virginia Peninsula Communty College\, 99 Thomas Nelson Drive\, Hampton\, VA\, 23666\, United States
CATEGORIES:Admissions,General,Student Life
ATTACH;FMTTYPE=image/jpeg:https://www.vpcc.edu/wp-content/uploads/2026/02/priority-registration-icon.jpg
END:VEVENT
BEGIN:VEVENT
DTSTART;TZID=America/New_York:20260330T000000
DTEND;TZID=America/New_York:20260330T235959
DTSTAMP:20260420T032837
CREATED:20260320T155749Z
LAST-MODIFIED:20260320T155749Z
UID:10001485-1774828800-1774915199@www.vpcc.edu
SUMMARY:Summer & Fall Open Registration
DESCRIPTION:Summer & Fall Open Registration Begins begins Monday\, March 30\, 2026. Students should register early to secure preferred classes. For more information\, visit our Academic Calendar.
URL:https://www.vpcc.edu/event/summer-fall-open-registration/
LOCATION:Virginia Peninsula Communty College\, 99 Thomas Nelson Drive\, Hampton\, VA\, 23666\, United States
CATEGORIES:Admissions,General,Student Life
ATTACH;FMTTYPE=image/jpeg:https://www.vpcc.edu/wp-content/uploads/2026/03/icon-openreg.jpg
END:VEVENT
BEGIN:VEVENT
DTSTART;TZID=America/New_York:20260401T140000
DTEND;TZID=America/New_York:20260401T170000
DTSTAMP:20260420T032837
CREATED:20260126T214440Z
LAST-MODIFIED:20260130T161103Z
UID:10001446-1775052000-1775062800@www.vpcc.edu
SUMMARY:FAST TRACK Enrollment Event
DESCRIPTION:ENROLL IN A DAY at our FAST TRACK event! Get signed up for classes! \nHampton Campus: Kecoughtan Hall\, Room 201\nHistoric Triangle Campus in Williamsburg: Student Services\, Suite 117 \nFrom 2 to 5 p.m. \nReady to Start Your Future? \n\nMeet with Admissions\, Advising and Financial Aid all at once\nApply and get enrolled\nGet answers to your questions with guidance every step of the way\nStart your journey today!\n\nWhat to Bring: \n\nStudent ID number\, if you already applied to VPCC\nGovernment-issued photo ID\nUnofficial high school\, GED or college transcripts\nVisa and relevant immigration documents for international or immigrant students\nMilitary orders\, COE\, DD214 and military ID\, if you are active duty\, veteran\, or a dependent\n\nGot questions or can’t attend? Reach out to us at admissions@vpcc.edu.
URL:https://www.vpcc.edu/event/fast-track-enrollment-event-3/2026-04-01/
LOCATION:Virginia Peninsula Communty College\, 99 Thomas Nelson Drive\, Hampton\, VA\, 23666\, United States
CATEGORIES:Admissions,General
ATTACH;FMTTYPE=image/jpeg:https://www.vpcc.edu/wp-content/uploads/2025/02/event-fast-track.jpg
END:VEVENT
BEGIN:VEVENT
DTSTART;TZID=America/New_York:20260403T120000
DTEND;TZID=America/New_York:20260403T150000
DTSTAMP:20260420T032837
CREATED:20260130T193931Z
LAST-MODIFIED:20260402T171346Z
UID:10001456-1775217600-1775228400@www.vpcc.edu
SUMMARY:OPEN HOUSE at the VPCC Historic Triangle Campus
DESCRIPTION:DISCOVER WHAT VPCC HAS TO OFFER!\nAffordable tuition\, in-demand college transfer programs\, career programs\, athletics\, flexible class schedules\, and dedicated faculty. \nFriday\, April 3\, 2026\n12:00 pm – 3:00 pm \nHistoric Triangle Campus\,\n4601 Opportunity Way\,\nWilliamsburg\, VA 23188 \nOpen House registration\nhttps://virginiapeninsulacommunitycolle.my.salesforce-sites.com/events/apex/VisualAntidote__HostedFastForm?h=S25CU \n 
URL:https://www.vpcc.edu/event/open-house-at-the-vpcc-historic-triangle-campus-2/
LOCATION:Historic Triangle Campus\, 4601 Opportunity Way\, Williamsburg\, VA\, 23188\, United States
CATEGORIES:Admissions,Community,General
ATTACH;FMTTYPE=image/jpeg:https://www.vpcc.edu/wp-content/uploads/2025/02/event-open-house.jpg
END:VEVENT
BEGIN:VEVENT
DTSTART;TZID=America/New_York:20260425T090000
DTEND;TZID=America/New_York:20260425T120000
DTSTAMP:20260420T032837
CREATED:20260130T193703Z
LAST-MODIFIED:20260405T170454Z
UID:10001455-1777107600-1777118400@www.vpcc.edu
SUMMARY:OPEN HOUSE at the VPCC Hampton Campus
DESCRIPTION:DISCOVER WHAT VPCC HAS TO OFFER!\nAffordable tuition\, in-demand college transfer programs\, career programs\, athletics\, flexible class schedules\, and dedicated faculty \nSaturday\, April 25\, 2026\n9 a.m. – 12 p.m.\nHampton Campus\,\n600 Butler Farm Rd\, Hampton\, VA 2366 \nOpen House registration:
URL:https://www.vpcc.edu/event/open-house-at-the-vpcc-hampton-campus-2/
LOCATION:Hampton Campus\, 99 Thomas Nelson Drive\, Hampton\, VA\, 23666\, United States
CATEGORIES:Admissions,General
ATTACH;FMTTYPE=image/jpeg:https://www.vpcc.edu/wp-content/uploads/2025/02/event-open-house.jpg
END:VEVENT
BEGIN:VEVENT
DTSTART;TZID=America/New_York:20260501T000000
DTEND;TZID=America/New_York:20260501T000000
DTSTAMP:20260420T032837
CREATED:20260416T180144Z
LAST-MODIFIED:20260416T180144Z
UID:10001522-1777593600-1777593600@www.vpcc.edu
SUMMARY:Summer Tuition Due
DESCRIPTION:Deadline for summer tuition payment. For more information\, visit our Academic Calendar page.
URL:https://www.vpcc.edu/event/summer-tuition-due-2/
CATEGORIES:Admissions,General,Hampton Campus,Historic Triangle Campus
ATTACH;FMTTYPE=image/jpeg:https://www.vpcc.edu/wp-content/uploads/2026/04/academic-event-v2.jpg
END:VEVENT
BEGIN:VEVENT
DTSTART;TZID=America/New_York:20260514T000000
DTEND;TZID=America/New_York:20260514T000000
DTSTAMP:20260420T032837
CREATED:20260416T180223Z
LAST-MODIFIED:20260416T180223Z
UID:10001523-1778716800-1778716800@www.vpcc.edu
SUMMARY:Summer Graduation Application Deadline
DESCRIPTION:Last day to submit graduation applications for summer semester. For more information\, visit our Academic Calendar page.
URL:https://www.vpcc.edu/event/summer-graduation-application-deadline/
CATEGORIES:Admissions,General,Hampton Campus,Historic Triangle Campus
ATTACH;FMTTYPE=image/jpeg:https://www.vpcc.edu/wp-content/uploads/2026/04/academic-event-v2.jpg
END:VEVENT
BEGIN:VEVENT
DTSTART;TZID=America/New_York:20260520T140000
DTEND;TZID=America/New_York:20260520T170000
DTSTAMP:20260420T032837
CREATED:20260126T214440Z
LAST-MODIFIED:20260130T161103Z
UID:10001447-1779285600-1779296400@www.vpcc.edu
SUMMARY:FAST TRACK Enrollment Event
DESCRIPTION:ENROLL IN A DAY at our FAST TRACK event! Get signed up for classes! \nHampton Campus: Kecoughtan Hall\, Room 201\nHistoric Triangle Campus in Williamsburg: Student Services\, Suite 117 \nFrom 2 to 5 p.m. \nReady to Start Your Future? \n\nMeet with Admissions\, Advising and Financial Aid all at once\nApply and get enrolled\nGet answers to your questions with guidance every step of the way\nStart your journey today!\n\nWhat to Bring: \n\nStudent ID number\, if you already applied to VPCC\nGovernment-issued photo ID\nUnofficial high school\, GED or college transcripts\nVisa and relevant immigration documents for international or immigrant students\nMilitary orders\, COE\, DD214 and military ID\, if you are active duty\, veteran\, or a dependent\n\nGot questions or can’t attend? Reach out to us at admissions@vpcc.edu.
URL:https://www.vpcc.edu/event/fast-track-enrollment-event-3/2026-05-20/
LOCATION:Virginia Peninsula Communty College\, 99 Thomas Nelson Drive\, Hampton\, VA\, 23666\, United States
CATEGORIES:Admissions,General
ATTACH;FMTTYPE=image/jpeg:https://www.vpcc.edu/wp-content/uploads/2025/02/event-fast-track.jpg
END:VEVENT
BEGIN:VEVENT
DTSTART;TZID=America/New_York:20260526T000000
DTEND;TZID=America/New_York:20260526T000000
DTSTAMP:20260420T032837
CREATED:20260416T180305Z
LAST-MODIFIED:20260416T180305Z
UID:10001524-1779753600-1779753600@www.vpcc.edu
SUMMARY:First Day of Classes for 10-Week and 5-Week 1 Sessions
DESCRIPTION:First day of summer classes for 10-week and 5-Week 1 sessions. For more information\, visit our Academic Calendar page.
URL:https://www.vpcc.edu/event/first-day-of-classes-for-10-week-and-5-week-1-sessions/
CATEGORIES:Admissions,General,Hampton Campus,Historic Triangle Campus
ATTACH;FMTTYPE=image/jpeg:https://www.vpcc.edu/wp-content/uploads/2026/04/academic-event-v2.jpg
END:VEVENT
BEGIN:VEVENT
DTSTART;TZID=America/New_York:20260528T000000
DTEND;TZID=America/New_York:20260528T000000
DTSTAMP:20260420T032837
CREATED:20260416T180408Z
LAST-MODIFIED:20260416T180408Z
UID:10001525-1779926400-1779926400@www.vpcc.edu
SUMMARY:5-Week 1 Session: Last Day to Add/Change Classes
DESCRIPTION:Last day to add or change classes for the 5-Week 1 session. For more information\, visit our Academic Calendar page.
URL:https://www.vpcc.edu/event/5-week-1-session-last-day-to-add-change-classes-2/
CATEGORIES:Admissions,General,Hampton Campus,Historic Triangle Campus
ATTACH;FMTTYPE=image/jpeg:https://www.vpcc.edu/wp-content/uploads/2026/04/academic-event-v2.jpg
END:VEVENT
BEGIN:VEVENT
DTSTART;TZID=America/New_York:20260601T000000
DTEND;TZID=America/New_York:20260601T000000
DTSTAMP:20260420T032837
CREATED:20260416T180451Z
LAST-MODIFIED:20260416T180451Z
UID:10001526-1780272000-1780272000@www.vpcc.edu
SUMMARY:10-Week Session: Last Day to Add/Change and 5-Week 1 Session: Last Day to Drop
DESCRIPTION:Last day to add/change classes (10-week) and last day to drop for a refund (5-Week 1). For more information\, visit our Academic Calendar page.
URL:https://www.vpcc.edu/event/10-week-session-last-day-to-add-change-and-5-week-1-session-last-day-to-drop/
CATEGORIES:Admissions,General,Hampton Campus,Historic Triangle Campus
ATTACH;FMTTYPE=image/jpeg:https://www.vpcc.edu/wp-content/uploads/2026/04/academic-event-v2.jpg
END:VEVENT
BEGIN:VEVENT
DTSTART;TZID=America/New_York:20260605T000000
DTEND;TZID=America/New_York:20260605T000000
DTSTAMP:20260420T032837
CREATED:20260416T180512Z
LAST-MODIFIED:20260416T180512Z
UID:10001527-1780617600-1780617600@www.vpcc.edu
SUMMARY:10-Week Session: Last Day to Drop for a Refund
DESCRIPTION:Last day to drop a 10-week session course and receive a refund. For more information\, visit our Academic Calendar page.
URL:https://www.vpcc.edu/event/10-week-session-last-day-to-drop-for-a-refund-2/
CATEGORIES:Admissions,General,Hampton Campus,Historic Triangle Campus
ATTACH;FMTTYPE=image/jpeg:https://www.vpcc.edu/wp-content/uploads/2026/04/academic-event-v2.jpg
END:VEVENT
BEGIN:VEVENT
DTSTART;TZID=America/New_York:20260609T000000
DTEND;TZID=America/New_York:20260609T000000
DTSTAMP:20260420T032837
CREATED:20260416T180534Z
LAST-MODIFIED:20260416T180534Z
UID:10001528-1780963200-1780963200@www.vpcc.edu
SUMMARY:8-Week Session: Classes Begin
DESCRIPTION:First day of classes for the 8-week summer session. For more information\, visit our Academic Calendar page.
URL:https://www.vpcc.edu/event/8-week-session-classes-begin-2/
CATEGORIES:Admissions,General,Hampton Campus,Historic Triangle Campus
ATTACH;FMTTYPE=image/jpeg:https://www.vpcc.edu/wp-content/uploads/2026/04/academic-event-v2.jpg
END:VEVENT
BEGIN:VEVENT
DTSTART;TZID=America/New_York:20260612T000000
DTEND;TZID=America/New_York:20260612T000000
DTSTAMP:20260420T032837
CREATED:20260416T180554Z
LAST-MODIFIED:20260416T180554Z
UID:10001529-1781222400-1781222400@www.vpcc.edu
SUMMARY:8-Week Session: Last Day to Add/Change Classes
DESCRIPTION:Last day to add or change classes for the 8-week session. For more information\, visit our Academic Calendar page.
URL:https://www.vpcc.edu/event/8-week-session-last-day-to-add-change-classes-2/
CATEGORIES:Admissions,General,Hampton Campus,Historic Triangle Campus
ATTACH;FMTTYPE=image/jpeg:https://www.vpcc.edu/wp-content/uploads/2026/04/academic-event-v2.jpg
END:VEVENT
BEGIN:VEVENT
DTSTART;TZID=America/New_York:20260616T000000
DTEND;TZID=America/New_York:20260616T000000
DTSTAMP:20260420T032837
CREATED:20260416T180634Z
LAST-MODIFIED:20260416T180634Z
UID:10001531-1781568000-1781568000@www.vpcc.edu
SUMMARY:5-Week 1 Session: Last Day to Drop with a Grade of "W"
DESCRIPTION:Last day to withdraw from a 5-Week 1 session course with a grade of W. For more information\, visit our Academic Calendar page.
URL:https://www.vpcc.edu/event/5-week-1-session-last-day-to-drop-with-a-grade-of-w-2/
CATEGORIES:Admissions,General,Hampton Campus,Historic Triangle Campus
ATTACH;FMTTYPE=image/jpeg:https://www.vpcc.edu/wp-content/uploads/2026/04/academic-event-v2.jpg
END:VEVENT
BEGIN:VEVENT
DTSTART;TZID=America/New_York:20260617T000000
DTEND;TZID=America/New_York:20260617T000000
DTSTAMP:20260420T032837
CREATED:20260416T180614Z
LAST-MODIFIED:20260416T180614Z
UID:10001530-1781654400-1781654400@www.vpcc.edu
SUMMARY:8-Week Session: Last Day to Drop for a Refund
DESCRIPTION:Last day to drop an 8-week session course and receive a refund. For more information\, visit our Academic Calendar page.
URL:https://www.vpcc.edu/event/8-week-session-last-day-to-drop-for-a-refund-2/
CATEGORIES:Admissions,General,Hampton Campus,Historic Triangle Campus
ATTACH;FMTTYPE=image/jpeg:https://www.vpcc.edu/wp-content/uploads/2026/04/academic-event-v2.jpg
END:VEVENT
BEGIN:VEVENT
DTSTART;TZID=America/New_York:20260629T000000
DTEND;TZID=America/New_York:20260629T000000
DTSTAMP:20260420T032837
CREATED:20260416T180654Z
LAST-MODIFIED:20260416T180654Z
UID:10001532-1782691200-1782691200@www.vpcc.edu
SUMMARY:5-Week 1 Session: Classes End (includes examinations)
DESCRIPTION:Last day of classes and examinations for the 5-Week 1 session. For more information\, visit our Academic Calendar page.
URL:https://www.vpcc.edu/event/5-week-1-session-classes-end-includes-examinations-2/
CATEGORIES:Admissions,General,Hampton Campus,Historic Triangle Campus
ATTACH;FMTTYPE=image/jpeg:https://www.vpcc.edu/wp-content/uploads/2026/04/academic-event-v2.jpg
END:VEVENT
BEGIN:VEVENT
DTSTART;TZID=America/New_York:20260701T000000
DTEND;TZID=America/New_York:20260701T000000
DTSTAMP:20260420T032837
CREATED:20260416T180714Z
LAST-MODIFIED:20260416T180714Z
UID:10001533-1782864000-1782864000@www.vpcc.edu
SUMMARY:5-Week 2 Session: Classes Begin
DESCRIPTION:First day of classes for the 5-Week 2 session. For more information\, visit our Academic Calendar page.
URL:https://www.vpcc.edu/event/5-week-2-session-classes-begin-2/
CATEGORIES:Admissions,General,Hampton Campus,Historic Triangle Campus
ATTACH;FMTTYPE=image/jpeg:https://www.vpcc.edu/wp-content/uploads/2026/04/academic-event-v2.jpg
END:VEVENT
BEGIN:VEVENT
DTSTART;TZID=America/New_York:20260706T000000
DTEND;TZID=America/New_York:20260706T000000
DTSTAMP:20260420T032837
CREATED:20260416T180743Z
LAST-MODIFIED:20260416T180743Z
UID:10001534-1783296000-1783296000@www.vpcc.edu
SUMMARY:10-Week Session: Last Day to Drop with a Grade of "W"
DESCRIPTION:Last day to withdraw with a W (10-week) and last day to drop for a refund (5-Week 2). For more information\, visit our Academic Calendar page.
URL:https://www.vpcc.edu/event/10-week-session-last-day-to-drop-with-a-grade-of-w-2/
CATEGORIES:Admissions,General,Hampton Campus,Historic Triangle Campus
ATTACH;FMTTYPE=image/jpeg:https://www.vpcc.edu/wp-content/uploads/2026/04/academic-event-v2.jpg
END:VEVENT
BEGIN:VEVENT
DTSTART;TZID=America/New_York:20260713T000000
DTEND;TZID=America/New_York:20260713T000000
DTSTAMP:20260420T032837
CREATED:20260416T180051Z
LAST-MODIFIED:20260416T180051Z
UID:10001535-1783900800-1783900800@www.vpcc.edu
SUMMARY:8-Week Session: Last Day to Drop with a Grade of "W"
DESCRIPTION:Last day to withdraw from an 8-week session course with a grade of W. For more information\, visit our Academic Calendar page.
URL:https://www.vpcc.edu/event/8-week-session-last-day-to-drop-with-a-grade-of-w-2/
CATEGORIES:Admissions,General,Hampton Campus,Historic Triangle Campus
ATTACH;FMTTYPE=image/jpeg:https://www.vpcc.edu/wp-content/uploads/2026/04/academic-event-v2.jpg
END:VEVENT
BEGIN:VEVENT
DTSTART;TZID=America/New_York:20260721T000000
DTEND;TZID=America/New_York:20260721T000000
DTSTAMP:20260420T032837
CREATED:20260416T175956Z
LAST-MODIFIED:20260416T175956Z
UID:10001536-1784592000-1784592000@www.vpcc.edu
SUMMARY:5-Week 2 Session: Last Day to Drop with a Grade of "W"
DESCRIPTION:Last day to withdraw from a 5-Week 2 session course with a grade of W. For more information\, visit our Academic Calendar page.
URL:https://www.vpcc.edu/event/5-week-2-session-last-day-to-drop-with-a-grade-of-w-2/
CATEGORIES:Admissions,General,Hampton Campus,Historic Triangle Campus
ATTACH;FMTTYPE=image/jpeg:https://www.vpcc.edu/wp-content/uploads/2026/04/academic-event-v2.jpg
END:VEVENT
BEGIN:VEVENT
DTSTART;TZID=America/New_York:20260724T000000
DTEND;TZID=America/New_York:20260724T000000
DTSTAMP:20260420T032837
CREATED:20260416T175735Z
LAST-MODIFIED:20260416T175735Z
UID:10001537-1784851200-1784851200@www.vpcc.edu
SUMMARY:Fall Tuition Due
DESCRIPTION:Deadline for fall semester tuition payment. For more information\, visit our Academic Calendar page.
URL:https://www.vpcc.edu/event/fall-tuition-due-2/
CATEGORIES:Admissions,General,Hampton Campus,Historic Triangle Campus
ATTACH;FMTTYPE=image/jpeg:https://www.vpcc.edu/wp-content/uploads/2026/04/academic-event-v2.jpg
END:VEVENT
BEGIN:VEVENT
DTSTART;TZID=America/New_York:20260803T000000
DTEND;TZID=America/New_York:20260803T000000
DTSTAMP:20260420T032837
CREATED:20260416T175707Z
LAST-MODIFIED:20260416T175707Z
UID:10001538-1785715200-1785715200@www.vpcc.edu
SUMMARY:10-Week\, 8-Week and 5-Week 2 Sessions End
DESCRIPTION:Last day of classes and examinations for the 10-week\, 8-week\, and 5-Week 2 sessions. For more information\, visit our Academic Calendar page.
URL:https://www.vpcc.edu/event/10-week-8-week-and-5-week-2-sessions-end/
CATEGORIES:Admissions,General,Hampton Campus,Historic Triangle Campus
ATTACH;FMTTYPE=image/jpeg:https://www.vpcc.edu/wp-content/uploads/2026/04/academic-event-v2.jpg
END:VEVENT
BEGIN:VEVENT
DTSTART;TZID=America/New_York:20260806T000000
DTEND;TZID=America/New_York:20260806T235959
DTSTAMP:20260420T032837
CREATED:20260416T175521Z
LAST-MODIFIED:20260416T175521Z
UID:10001539-1785974400-1786060799@www.vpcc.edu
SUMMARY:Grades and Transcripts Available
DESCRIPTION:Summer grades and transcripts are available for student access. For more information\, visit our Academic Calendar page.
URL:https://www.vpcc.edu/event/grades-and-transcripts-available-2/
CATEGORIES:Admissions,General,Hampton Campus,Historic Triangle Campus
ATTACH;FMTTYPE=image/jpeg:https://www.vpcc.edu/wp-content/uploads/2026/04/academic-event-v2.jpg
END:VEVENT
END:VCALENDAR