BEGIN:VCALENDAR
VERSION:2.0
PRODID:-//Virginia Peninsula Community College - ECPv6.15.17//NONSGML v1.0//EN
CALSCALE:GREGORIAN
METHOD:PUBLISH
X-WR-CALNAME:Virginia Peninsula Community College
X-ORIGINAL-URL:https://www.vpcc.edu
X-WR-CALDESC:Events for Virginia Peninsula Community College
REFRESH-INTERVAL;VALUE=DURATION:PT1H
X-Robots-Tag:noindex
X-PUBLISHED-TTL:PT1H
BEGIN:VTIMEZONE
TZID:America/New_York
BEGIN:DAYLIGHT
TZOFFSETFROM:-0500
TZOFFSETTO:-0400
TZNAME:EDT
DTSTART:20240310T070000
END:DAYLIGHT
BEGIN:STANDARD
TZOFFSETFROM:-0400
TZOFFSETTO:-0500
TZNAME:EST
DTSTART:20241103T060000
END:STANDARD
BEGIN:DAYLIGHT
TZOFFSETFROM:-0500
TZOFFSETTO:-0400
TZNAME:EDT
DTSTART:20250309T070000
END:DAYLIGHT
BEGIN:STANDARD
TZOFFSETFROM:-0400
TZOFFSETTO:-0500
TZNAME:EST
DTSTART:20251102T060000
END:STANDARD
BEGIN:DAYLIGHT
TZOFFSETFROM:-0500
TZOFFSETTO:-0400
TZNAME:EDT
DTSTART:20260308T070000
END:DAYLIGHT
BEGIN:STANDARD
TZOFFSETFROM:-0400
TZOFFSETTO:-0500
TZNAME:EST
DTSTART:20261101T060000
END:STANDARD
END:VTIMEZONE
BEGIN:VEVENT
DTSTART;TZID=America/New_York:20250602T000000
DTEND;TZID=America/New_York:20250602T235959
DTSTAMP:20260420T090139
CREATED:20250122T203932Z
LAST-MODIFIED:20250228T200244Z
UID:10000085-1748822400-1748908799@www.vpcc.edu
SUMMARY:10-Week Session - Last Day to Add/Change Classes
DESCRIPTION:The last day to add or change classes is Monday\, June 2\, 2025. Please refer to our Academic Calendar for additional information.
URL:https://www.vpcc.edu/event/10-week-session-last-day-to-add-change-classes/
LOCATION:Virginia Peninsula Communty College\, 99 Thomas Nelson Drive\, Hampton\, VA\, 23666\, United States
CATEGORIES:Admissions,General
ATTACH;FMTTYPE=image/jpeg:https://www.vpcc.edu/wp-content/uploads/2025/01/academic-event2-1.jpg
END:VEVENT
BEGIN:VEVENT
DTSTART;TZID=America/New_York:20250602T000000
DTEND;TZID=America/New_York:20250602T235959
DTSTAMP:20260420T090139
CREATED:20250128T161842Z
LAST-MODIFIED:20250228T200305Z
UID:10000100-1748822400-1748908799@www.vpcc.edu
SUMMARY:5-Week 1 Session - Last Day to Drop for a Refund
DESCRIPTION:For our standard 5 Week 1 Summer Session\, the last day to drop for a refund is Monday\, June 2\, 2025. Please refer to our Academic Calendar for additional information.
URL:https://www.vpcc.edu/event/5-week-1-session-last-day-to-drop-for-a-refund/
LOCATION:Virginia Peninsula Communty College\, 99 Thomas Nelson Drive\, Hampton\, VA\, 23666\, United States
CATEGORIES:Admissions,General
ATTACH;FMTTYPE=image/jpeg:https://www.vpcc.edu/wp-content/uploads/2025/01/academic-event2-1.jpg
END:VEVENT
BEGIN:VEVENT
DTSTART;TZID=America/New_York:20250604T140000
DTEND;TZID=America/New_York:20250604T170000
DTSTAMP:20260420T090139
CREATED:20250527T213450Z
LAST-MODIFIED:20250711T140800Z
UID:10000351-1749045600-1749056400@www.vpcc.edu
SUMMARY:FASTTRACK
DESCRIPTION:Summer and Fall 2025 \nENROLL IN A DAY! \nHampton Campus – Kecoughtan Hall / Library \nHistoric Triangle Campus\, Williamsburg – Room 117 \n2 – 5 p.m. \nReady to Start Your Future?\nMeet with Admissions\, Advising and\nFinancial Aid all at once\nApply and get enrolled\nGet answers to your questions with\nguidance every step of the way\nStart your journey today \nWhat to Bring:\nStudent ID number\, if you already applied to VPCC\nGovernment-issued photo ID\nUnofficial high school\, GED or college transcripts\nVisa and relevant immigration documents for\ninternational or immigrant students\nMilitary orders\, COE\, DD214 and military ID\, if you\nare active duty\, veteran\, or a dependent \nGot questions or can’t\nattend? Contact us at\nadmissions@vpcc.edu \n 
URL:https://www.vpcc.edu/event/fasttrack/
LOCATION:Hampton Campus\, 99 Thomas Nelson Drive\, Hampton\, VA\, 23666\, United States
CATEGORIES:Admissions,General
ATTACH;FMTTYPE=image/jpeg:https://www.vpcc.edu/wp-content/uploads/2025/05/events-fastrack.jpg
END:VEVENT
BEGIN:VEVENT
DTSTART;TZID=America/New_York:20250609T000000
DTEND;TZID=America/New_York:20250609T235959
DTSTAMP:20260420T090139
CREATED:20250122T204959Z
LAST-MODIFIED:20250228T200322Z
UID:10000086-1749427200-1749513599@www.vpcc.edu
SUMMARY:10-Week Session - Last Day to Drop for a Refund
DESCRIPTION:For our standard 10 Week Summer Session\, the last day to drop for a refund is Monday\, June 9\, 2025. Please refer to our Academic Calendar for additional information.
URL:https://www.vpcc.edu/event/10-week-session-last-day-to-drop-for-a-refund/
LOCATION:Virginia Peninsula Communty College\, 99 Thomas Nelson Drive\, Hampton\, VA\, 23666\, United States
CATEGORIES:Admissions,General
ATTACH;FMTTYPE=image/jpeg:https://www.vpcc.edu/wp-content/uploads/2025/01/academic-event2-1.jpg
END:VEVENT
BEGIN:VEVENT
DTSTART;TZID=America/New_York:20250609T140000
DTEND;TZID=America/New_York:20250609T170000
DTSTAMP:20260420T090139
CREATED:20250527T213727Z
LAST-MODIFIED:20250711T140752Z
UID:10000352-1749477600-1749488400@www.vpcc.edu
SUMMARY:FASTTRACK
DESCRIPTION:Summer and Fall 2025 \nENROLL IN A DAY! \nHampton Campus – Kecoughtan Hall / Advising Suite\, Room 201 \nHistoric Triangle Campus\, Williamsburg – Room 117 \n2 – 5 p.m. \nReady to Start Your Future?\nMeet with Admissions\, Advising and\nFinancial Aid all at once\nApply and get enrolled\nGet answers to your questions with\nguidance every step of the way\nStart your journey today \nWhat to Bring:\nStudent ID number\, if you already applied to VPCC\nGovernment-issued photo ID\nUnofficial high school\, GED or college transcripts\nVisa and relevant immigration documents for\ninternational or immigrant students\nMilitary orders\, COE\, DD214 and military ID\, if you\nare active duty\, veteran\, or a dependent \nGot questions or can’t\nattend? Contact us at\nadmissions@vpcc.edu \n 
URL:https://www.vpcc.edu/event/fasttrack-2/
LOCATION:Hampton Campus\, 99 Thomas Nelson Drive\, Hampton\, VA\, 23666\, United States
CATEGORIES:Admissions,General
ATTACH;FMTTYPE=image/jpeg:https://www.vpcc.edu/wp-content/uploads/2025/05/events-fastrack.jpg
END:VEVENT
BEGIN:VEVENT
DTSTART;TZID=America/New_York:20250610T000000
DTEND;TZID=America/New_York:20250610T235959
DTSTAMP:20260420T090139
CREATED:20250123T153937Z
LAST-MODIFIED:20250228T200339Z
UID:10000091-1749513600-1749599999@www.vpcc.edu
SUMMARY:8-Week Session - Classes Begin
DESCRIPTION:8-Week Session summer classes will begin on Tuesday\, June 10\, 2025. Please refer to our Academic Calendar for additional information.
URL:https://www.vpcc.edu/event/8-week-session-classes-begin/
LOCATION:Virginia Peninsula Communty College\, 99 Thomas Nelson Drive\, Hampton\, VA\, 23666\, United States
CATEGORIES:Admissions,General
ATTACH;FMTTYPE=image/jpeg:https://www.vpcc.edu/wp-content/uploads/2025/01/academic-event2-1.jpg
END:VEVENT
BEGIN:VEVENT
DTSTART;TZID=America/New_York:20250612T000000
DTEND;TZID=America/New_York:20250612T235959
DTSTAMP:20260420T090140
CREATED:20250123T212127Z
LAST-MODIFIED:20250228T200444Z
UID:10000092-1749686400-1749772799@www.vpcc.edu
SUMMARY:8-Week Session - Last Day to Add/Change Classes
DESCRIPTION:The last day to add or change classes is Thursday\, June 12\, 2025. Please refer to our Academic Calendar for additional information.
URL:https://www.vpcc.edu/event/8-week-session-last-day-to-add-change-classes/
LOCATION:Virginia Peninsula Communty College\, 99 Thomas Nelson Drive\, Hampton\, VA\, 23666\, United States
CATEGORIES:Admissions,General
ATTACH;FMTTYPE=image/jpeg:https://www.vpcc.edu/wp-content/uploads/2025/01/academic-event2-1.jpg
END:VEVENT
BEGIN:VEVENT
DTSTART;TZID=America/New_York:20250616T000000
DTEND;TZID=America/New_York:20250616T235959
DTSTAMP:20260420T090140
CREATED:20250128T162656Z
LAST-MODIFIED:20250228T200512Z
UID:10000101-1750032000-1750118399@www.vpcc.edu
SUMMARY:5-Week 1 Session - Last Day to Drop with a Grade of “W”
DESCRIPTION:For our 5 Week 1 Summer Session\, the last day to drop with a grade of “W” is Monday\, June 16\, 2025. Please refer to our Academic Calendar for additional information.
URL:https://www.vpcc.edu/event/5-week-1-session-last-day-to-drop-with-a-grade-of-w/
LOCATION:Virginia Peninsula Communty College\, 99 Thomas Nelson Drive\, Hampton\, VA\, 23666\, United States
CATEGORIES:Admissions,General
ATTACH;FMTTYPE=image/jpeg:https://www.vpcc.edu/wp-content/uploads/2025/01/academic-event2-1.jpg
END:VEVENT
BEGIN:VEVENT
DTSTART;TZID=America/New_York:20250618T000000
DTEND;TZID=America/New_York:20250618T235959
DTSTAMP:20260420T090140
CREATED:20250123T212531Z
LAST-MODIFIED:20250228T200533Z
UID:10000093-1750204800-1750291199@www.vpcc.edu
SUMMARY:8-Week Session - Last Day to Drop for a Refund
DESCRIPTION:For our 8 Week Summer Session\, the last day to drop for a refund is Wednesday\, June 18\, 2025. Please refer to our Academic Calendar for additional information.
URL:https://www.vpcc.edu/event/8-week-session-last-day-to-drop-for-a-refund/
LOCATION:Virginia Peninsula Communty College\, 99 Thomas Nelson Drive\, Hampton\, VA\, 23666\, United States
CATEGORIES:Admissions,General
ATTACH;FMTTYPE=image/jpeg:https://www.vpcc.edu/wp-content/uploads/2025/01/academic-event2-1.jpg
END:VEVENT
END:VCALENDAR