BEGIN:VCALENDAR
VERSION:2.0
PRODID:-//Virginia Peninsula Community College - ECPv6.15.17//NONSGML v1.0//EN
CALSCALE:GREGORIAN
METHOD:PUBLISH
X-WR-CALNAME:Virginia Peninsula Community College
X-ORIGINAL-URL:https://www.vpcc.edu
X-WR-CALDESC:Events for Virginia Peninsula Community College
REFRESH-INTERVAL;VALUE=DURATION:PT1H
X-Robots-Tag:noindex
X-PUBLISHED-TTL:PT1H
BEGIN:VTIMEZONE
TZID:America/New_York
BEGIN:DAYLIGHT
TZOFFSETFROM:-0500
TZOFFSETTO:-0400
TZNAME:EDT
DTSTART:20240310T070000
END:DAYLIGHT
BEGIN:STANDARD
TZOFFSETFROM:-0400
TZOFFSETTO:-0500
TZNAME:EST
DTSTART:20241103T060000
END:STANDARD
BEGIN:DAYLIGHT
TZOFFSETFROM:-0500
TZOFFSETTO:-0400
TZNAME:EDT
DTSTART:20250309T070000
END:DAYLIGHT
BEGIN:STANDARD
TZOFFSETFROM:-0400
TZOFFSETTO:-0500
TZNAME:EST
DTSTART:20251102T060000
END:STANDARD
BEGIN:DAYLIGHT
TZOFFSETFROM:-0500
TZOFFSETTO:-0400
TZNAME:EDT
DTSTART:20260308T070000
END:DAYLIGHT
BEGIN:STANDARD
TZOFFSETFROM:-0400
TZOFFSETTO:-0500
TZNAME:EST
DTSTART:20261101T060000
END:STANDARD
END:VTIMEZONE
BEGIN:VEVENT
DTSTART;TZID=America/New_York:20250319T090000
DTEND;TZID=America/New_York:20250319T110000
DTSTAMP:20260420T061739
CREATED:20250314T180241Z
LAST-MODIFIED:20250317T144402Z
UID:10000159-1742374800-1742382000@www.vpcc.edu
SUMMARY:Transfer Fair (Historic Triangle Campus)
DESCRIPTION:STUDENTS: You’re invited to our TRANSFER FAIR on March 19! Starting at the Historic Triangle Campus at 9 a.m.; then Hampton at Noon at Kecoughtan Hall Gallery\, come out and talk to representatives from the four-year school that you’d like to transfer to! Over 20 schools will be there! #transferfair
URL:https://www.vpcc.edu/event/transfer-fair/
LOCATION:Historic Triangle Campus\, 4601 Opportunity Way\, Williamsburg\, VA\, 23188\, United States
CATEGORIES:Admissions,General,Student Life
ATTACH;FMTTYPE=image/jpeg:https://www.vpcc.edu/wp-content/uploads/2025/03/transfer-fair-event.jpg
END:VEVENT
BEGIN:VEVENT
DTSTART;TZID=America/New_York:20250319T120000
DTEND;TZID=America/New_York:20250319T140000
DTSTAMP:20260420T061739
CREATED:20250314T181558Z
LAST-MODIFIED:20250317T144438Z
UID:10000160-1742385600-1742392800@www.vpcc.edu
SUMMARY:Transfer Fair (Hampton)
DESCRIPTION:STUDENTS: You’re invited to our TRANSFER FAIR on March 19! Starting at the Historic Triangle Campus at 9 a.m.; then Hampton Campus at Noon at Kecoughtan Hall Gallery\, come out and talk to representatives from the four-year school that you’d like to transfer to! Over 20 schools will be there! #transferfair
URL:https://www.vpcc.edu/event/transfer-fair-hampton/
LOCATION:Virginia Peninsula Communty College\, 99 Thomas Nelson Drive\, Hampton\, VA\, 23666\, United States
CATEGORIES:Admissions,General,Student Life
ATTACH;FMTTYPE=image/jpeg:https://www.vpcc.edu/wp-content/uploads/2025/03/transfer-fair-event.jpg
END:VEVENT
BEGIN:VEVENT
DTSTART;TZID=America/New_York:20250322T090000
DTEND;TZID=America/New_York:20250322T120000
DTSTAMP:20260420T061739
CREATED:20250306T195943Z
LAST-MODIFIED:20250307T210318Z
UID:10000149-1742634000-1742644800@www.vpcc.edu
SUMMARY:FAFSA Workshop
DESCRIPTION:Join us for a FAFSA Workshop on Saturday\, March 22\, 2025 from 9 a.m. to 12 p.m. at the VPCC Hampton Campus\,  Hampton IV Building in Room 4135. (521 Butler Farm Road\, Hampton\, VA 23666) \nPLEASE BRING: \n\nFSA ID (If you don’t have one\, please visit Studentaid.gov before the workshop to set up your FAFSA account)\nSocial Security Card or number (if applicable)\nAlien registration number (if applicable)\nIndividual Taxpayer Identification Number (ITIN) — yours or your parents’\nList of colleges you’re considering attending\n\nFeel free to bring your own computer!
URL:https://www.vpcc.edu/event/fafsa-workshop/
LOCATION:Hampton Campus\, 99 Thomas Nelson Drive\, Hampton\, VA\, 23666\, United States
CATEGORIES:Admissions,Community
ATTACH;FMTTYPE=image/jpeg:https://www.vpcc.edu/wp-content/uploads/2025/03/event-fafsa.jpg
END:VEVENT
END:VCALENDAR