BEGIN:VCALENDAR
VERSION:2.0
PRODID:-//Virginia Peninsula Community College - ECPv6.15.17//NONSGML v1.0//EN
CALSCALE:GREGORIAN
METHOD:PUBLISH
X-WR-CALNAME:Virginia Peninsula Community College
X-ORIGINAL-URL:https://www.vpcc.edu
X-WR-CALDESC:Events for Virginia Peninsula Community College
REFRESH-INTERVAL;VALUE=DURATION:PT1H
X-Robots-Tag:noindex
X-PUBLISHED-TTL:PT1H
BEGIN:VTIMEZONE
TZID:America/New_York
BEGIN:DAYLIGHT
TZOFFSETFROM:-0500
TZOFFSETTO:-0400
TZNAME:EDT
DTSTART:20240310T070000
END:DAYLIGHT
BEGIN:STANDARD
TZOFFSETFROM:-0400
TZOFFSETTO:-0500
TZNAME:EST
DTSTART:20241103T060000
END:STANDARD
BEGIN:DAYLIGHT
TZOFFSETFROM:-0500
TZOFFSETTO:-0400
TZNAME:EDT
DTSTART:20250309T070000
END:DAYLIGHT
BEGIN:STANDARD
TZOFFSETFROM:-0400
TZOFFSETTO:-0500
TZNAME:EST
DTSTART:20251102T060000
END:STANDARD
BEGIN:DAYLIGHT
TZOFFSETFROM:-0500
TZOFFSETTO:-0400
TZNAME:EDT
DTSTART:20260308T070000
END:DAYLIGHT
BEGIN:STANDARD
TZOFFSETFROM:-0400
TZOFFSETTO:-0500
TZNAME:EST
DTSTART:20261101T060000
END:STANDARD
END:VTIMEZONE
BEGIN:VEVENT
DTSTART;TZID=America/New_York:20250210T000000
DTEND;TZID=America/New_York:20250210T235959
DTSTAMP:20260420T142126
CREATED:20250116T154605Z
LAST-MODIFIED:20250117T200736Z
UID:10000059-1739145600-1739231999@www.vpcc.edu
SUMMARY:12-Week Session - Classes Begin
DESCRIPTION:Classes will begin on Monday\, February 10\, 2025. Contact our Enrollment Services team at 855-877-3945 or admissions@vpcc.edu for details.
URL:https://www.vpcc.edu/event/12-week-session-classes-begin/
LOCATION:Virginia Peninsula Communty College\, 99 Thomas Nelson Drive\, Hampton\, VA\, 23666\, United States
CATEGORIES:Admissions,General
ATTACH;FMTTYPE=image/jpeg:https://www.vpcc.edu/wp-content/uploads/2025/01/academic-event2.jpg
END:VEVENT
BEGIN:VEVENT
DTSTART;TZID=America/New_York:20250214T000000
DTEND;TZID=America/New_York:20250214T235959
DTSTAMP:20260420T142126
CREATED:20250121T153010Z
LAST-MODIFIED:20250228T202628Z
UID:10000072-1739491200-1739577599@www.vpcc.edu
SUMMARY:8-Week 1 Session - Last Day to Drop with a Grade of “W”
DESCRIPTION:For our standard 8 Week 1 Session\, the last day to drop with a grade of “W” is Friday\, February 14\, 2025. Contact our Enrollment Services team at 855-877-3945 or admissions@vpcc.edu for details.
URL:https://www.vpcc.edu/event/8-week-1-session-last-day-to-drop-with-a-grade-of-w/
LOCATION:Virginia Peninsula Communty College\, 99 Thomas Nelson Drive\, Hampton\, VA\, 23666\, United States
CATEGORIES:Admissions,General
ATTACH;FMTTYPE=image/jpeg:https://www.vpcc.edu/wp-content/uploads/2025/01/academic-event2-1.jpg
END:VEVENT
BEGIN:VEVENT
DTSTART;TZID=America/New_York:20250215T000000
DTEND;TZID=America/New_York:20250215T235959
DTSTAMP:20260420T142126
CREATED:20250115T161608Z
LAST-MODIFIED:20250117T200800Z
UID:10000049-1739577600-1739663999@www.vpcc.edu
SUMMARY:Spring Graduation Application Deadline
DESCRIPTION:The Graduation Application Deadline for the Spring Semester is February 15. Contact our Enrollment Services team at 855-877-3945 or admissions@vpcc.edu for details.
URL:https://www.vpcc.edu/event/spring-graduation-application-deadline/
LOCATION:Virginia Peninsula Communty College\, 99 Thomas Nelson Drive\, Hampton\, VA\, 23666\, United States
CATEGORIES:Admissions,Commencement,General
ATTACH;FMTTYPE=image/jpeg:https://www.vpcc.edu/wp-content/uploads/2025/01/academic-event2.jpg
END:VEVENT
BEGIN:VEVENT
DTSTART;TZID=America/New_York:20250215T000000
DTEND;TZID=America/New_York:20250215T235959
DTSTAMP:20260420T142126
CREATED:20250116T155157Z
LAST-MODIFIED:20250117T200832Z
UID:10000060-1739577600-1739663999@www.vpcc.edu
SUMMARY:12-Week Session - Last Day to Add/Change Classes
DESCRIPTION:The last day to add or change classes is Saturday\, February 15\, 2025. Contact our Enrollment Services team at 855-877-3945 or admissions@vpcc.edu for details.
URL:https://www.vpcc.edu/event/12-week-session-last-day-to-add-change-classes/
LOCATION:Virginia Peninsula Communty College\, 99 Thomas Nelson Drive\, Hampton\, VA\, 23666\, United States
CATEGORIES:Admissions,General
ATTACH;FMTTYPE=image/jpeg:https://www.vpcc.edu/wp-content/uploads/2025/01/academic-event2.jpg
END:VEVENT
BEGIN:VEVENT
DTSTART;TZID=America/New_York:20250217T130000
DTEND;TZID=America/New_York:20250217T150000
DTSTAMP:20260420T142126
CREATED:20250214T182005Z
LAST-MODIFIED:20250214T185642Z
UID:10000118-1739797200-1739804400@www.vpcc.edu
SUMMARY:Spring 2025 – Nursing Program Information – February 17
DESCRIPTION:The date to join the nursing program information zoom meeting is Monday\, February 17\, 2025. Take the next step in your nursing career by joining the meeting at this Zoom link. For more information contact psahhs@vpcc.edu or 757-825-2808.
URL:https://www.vpcc.edu/event/spring-2025-nursing-program-information-february-17/
LOCATION:Virginia Peninsula Communty College\, 99 Thomas Nelson Drive\, Hampton\, VA\, 23666\, United States
CATEGORIES:Admissions,General
ATTACH;FMTTYPE=image/jpeg:https://www.vpcc.edu/wp-content/uploads/2025/01/academic-event2-1.jpg
END:VEVENT
BEGIN:VEVENT
DTSTART;TZID=America/New_York:20250221T000000
DTEND;TZID=America/New_York:20250221T235959
DTSTAMP:20260420T142126
CREATED:20250116T155733Z
LAST-MODIFIED:20250117T200940Z
UID:10000061-1740096000-1740182399@www.vpcc.edu
SUMMARY:12-Week Session - Last Day to Drop for a Refund
DESCRIPTION:For our standard 12 Week Session\, the last day to drop for a refund is Friday\, February 21\, 2025. Contact our Enrollment Services team at 855-877-3945 or admissions@vpcc.edu for details.
URL:https://www.vpcc.edu/event/12-week-session-last-day-to-drop-for-a-refund/
LOCATION:Virginia Peninsula Communty College\, 99 Thomas Nelson Drive\, Hampton\, VA\, 23666\, United States
CATEGORIES:Admissions,General
ATTACH;FMTTYPE=image/jpeg:https://www.vpcc.edu/wp-content/uploads/2025/01/academic-event2.jpg
END:VEVENT
END:VCALENDAR