BEGIN:VCALENDAR
VERSION:2.0
PRODID:-//Virginia Peninsula Community College - ECPv6.15.17//NONSGML v1.0//EN
CALSCALE:GREGORIAN
METHOD:PUBLISH
X-ORIGINAL-URL:https://www.vpcc.edu
X-WR-CALDESC:Events for Virginia Peninsula Community College
REFRESH-INTERVAL;VALUE=DURATION:PT1H
X-Robots-Tag:noindex
X-PUBLISHED-TTL:PT1H
BEGIN:VTIMEZONE
TZID:America/New_York
BEGIN:DAYLIGHT
TZOFFSETFROM:-0500
TZOFFSETTO:-0400
TZNAME:EDT
DTSTART:20240310T070000
END:DAYLIGHT
BEGIN:STANDARD
TZOFFSETFROM:-0400
TZOFFSETTO:-0500
TZNAME:EST
DTSTART:20241103T060000
END:STANDARD
BEGIN:DAYLIGHT
TZOFFSETFROM:-0500
TZOFFSETTO:-0400
TZNAME:EDT
DTSTART:20250309T070000
END:DAYLIGHT
BEGIN:STANDARD
TZOFFSETFROM:-0400
TZOFFSETTO:-0500
TZNAME:EST
DTSTART:20251102T060000
END:STANDARD
BEGIN:DAYLIGHT
TZOFFSETFROM:-0500
TZOFFSETTO:-0400
TZNAME:EDT
DTSTART:20260308T070000
END:DAYLIGHT
BEGIN:STANDARD
TZOFFSETFROM:-0400
TZOFFSETTO:-0500
TZNAME:EST
DTSTART:20261101T060000
END:STANDARD
END:VTIMEZONE
BEGIN:VEVENT
DTSTART;TZID=America/New_York:20250508T170000
DTEND;TZID=America/New_York:20250508T200000
DTSTAMP:20260419T202249
CREATED:20250506T211436Z
LAST-MODIFIED:20260208T191923Z
UID:10000339-1746723600-1746734400@www.vpcc.edu
SUMMARY:VPCC Baseball vs. Rockingham CC
DESCRIPTION:The Gators take on the Eagles in the first game of the Region 10/Mid-Atlantic District III tournament in Martinsville.
URL:https://www.vpcc.edu/event/vpcc-baseball-vs-rockingham-cc/
LOCATION:Hooker Stadium\, Martinsville\, VA
CATEGORIES:Athletics,General
ATTACH;FMTTYPE=image/jpeg:https://www.vpcc.edu/wp-content/uploads/2025/03/gators-baseball-event.jpg
END:VEVENT
BEGIN:VEVENT
DTSTART;TZID=America/New_York:20250508T180000
DTEND;TZID=America/New_York:20250508T200000
DTSTAMP:20260419T202249
CREATED:20250418T153727Z
LAST-MODIFIED:20250418T153727Z
UID:10000331-1746727200-1746734400@www.vpcc.edu
SUMMARY:Virtual Summer Start New Student Orientation
DESCRIPTION:Our Virtual Summer Start New Student Orientation will take place on Thursday\, May 8\, from 6 to 8 p.m. To register\, please complete this form. \nFor more information\, please contact the VPCC Enrollment Services team at 855-877-3945 or admissions@vpcc.edu.
URL:https://www.vpcc.edu/event/virtual-summer-start-new-student-orientation/
LOCATION:Zoom
CATEGORIES:Admissions,General
ATTACH;FMTTYPE=image/jpeg:https://www.vpcc.edu/wp-content/uploads/2025/03/new-student-orientation-event.jpg
END:VEVENT
BEGIN:VEVENT
DTSTART;TZID=America/New_York:20250508T180000
DTEND;TZID=America/New_York:20250508T200000
DTSTAMP:20260419T202249
CREATED:20250423T120844Z
LAST-MODIFIED:20250423T193638Z
UID:10000333-1746727200-1746734400@www.vpcc.edu
SUMMARY:Nursing Pinning Ceremony
DESCRIPTION:Congratulations to our Nursing students! \nNursing Pinning Ceremony \nThursday\, May 8\, 2025 \n6:00 – 8:00 p.m. \nVirginia Peninsula Community College \nPeninsula Workforce Development Center \n600 Butler Farm Road\, Hampton\, VA 23666
URL:https://www.vpcc.edu/event/nursing-pinning-ceremony/
LOCATION:Peninsula Workforce Development Center\, 600 Butler Farm Road\, Suite A\, Hampton\, VA\, 23666\, United States
CATEGORIES:Commencement,General,Nursing,Student Life
ATTACH;FMTTYPE=image/png:https://www.vpcc.edu/wp-content/uploads/2025/01/event-icon-healthcare.png
END:VEVENT
BEGIN:VEVENT
DTSTART;TZID=America/New_York:20250508T180000
DTEND;TZID=America/New_York:20250508T200000
DTSTAMP:20260419T202249
CREATED:20250512T121739Z
LAST-MODIFIED:20250512T121739Z
UID:10000340-1746727200-1746734400@www.vpcc.edu
SUMMARY:Registration for New Student Orientation - Summer 2025
DESCRIPTION:Our Virtual Summer Start New Student Orientation will take place on Thursday\, May 8\, from 6 to 8 p.m. \nFor more information\, please contact the VPCC Admissions and Enrollment Services team at 757-825-2700\, 8 am – 5 pm\, or via email at admissions@vpcc.edu.
URL:https://www.vpcc.edu/event/registration-for-new-student-orientation-summer-2025/
LOCATION:Virginia Peninsula Communty College\, 99 Thomas Nelson Drive\, Hampton\, VA\, 23666\, United States
CATEGORIES:Admissions,General
ATTACH;FMTTYPE=image/jpeg:https://www.vpcc.edu/wp-content/uploads/2025/03/new-student-orientation-event.jpg
END:VEVENT
END:VCALENDAR