BEGIN:VCALENDAR
VERSION:2.0
PRODID:-//Virginia Peninsula Community College - ECPv6.15.17//NONSGML v1.0//EN
CALSCALE:GREGORIAN
METHOD:PUBLISH
X-WR-CALNAME:Virginia Peninsula Community College
X-ORIGINAL-URL:https://www.vpcc.edu
X-WR-CALDESC:Events for Virginia Peninsula Community College
REFRESH-INTERVAL;VALUE=DURATION:PT1H
X-Robots-Tag:noindex
X-PUBLISHED-TTL:PT1H
BEGIN:VTIMEZONE
TZID:America/New_York
BEGIN:DAYLIGHT
TZOFFSETFROM:-0500
TZOFFSETTO:-0400
TZNAME:EDT
DTSTART:20240310T070000
END:DAYLIGHT
BEGIN:STANDARD
TZOFFSETFROM:-0400
TZOFFSETTO:-0500
TZNAME:EST
DTSTART:20241103T060000
END:STANDARD
BEGIN:DAYLIGHT
TZOFFSETFROM:-0500
TZOFFSETTO:-0400
TZNAME:EDT
DTSTART:20250309T070000
END:DAYLIGHT
BEGIN:STANDARD
TZOFFSETFROM:-0400
TZOFFSETTO:-0500
TZNAME:EST
DTSTART:20251102T060000
END:STANDARD
BEGIN:DAYLIGHT
TZOFFSETFROM:-0500
TZOFFSETTO:-0400
TZNAME:EDT
DTSTART:20260308T070000
END:DAYLIGHT
BEGIN:STANDARD
TZOFFSETFROM:-0400
TZOFFSETTO:-0500
TZNAME:EST
DTSTART:20261101T060000
END:STANDARD
END:VTIMEZONE
BEGIN:VEVENT
DTSTART;TZID=America/New_York:20250507T050000
DTEND;TZID=America/New_York:20250507T190000
DTSTAMP:20260419T184814
CREATED:20250327T142329Z
LAST-MODIFIED:20250327T172336Z
UID:10000311-1746594000-1746644400@www.vpcc.edu
SUMMARY:Mandatory Info Session (Class ID 12965)
DESCRIPTION:SUMMER 2025 Info Sessions\n(Class ID 12965) \nHampton Campus: PWDC Room 1301\n600 Butler Farm Road\, Hampton\, VA 23666 \n\nVisit www.vpcc.edu/workforce-development/workforce-programs/\nCLICK REGISTER ONLINE\nCREATE WORKFORCE Account\nSEARCH ID of Info Session and ADD TO CART\n\nFor Additional Information:\nWFDinq@vpcc.edu • (757) 825-4070 • vpcc.edu/workforce
URL:https://www.vpcc.edu/event/mandatory-info-session-at-ht-class-id-12965/
LOCATION:Hampton Campus\, 99 Thomas Nelson Drive\, Hampton\, VA\, 23666\, United States
CATEGORIES:General,Workforce Development
ATTACH;FMTTYPE=image/jpeg:https://www.vpcc.edu/wp-content/uploads/2025/03/mand-info-session-event2.jpg
END:VEVENT
BEGIN:VEVENT
DTSTART;TZID=America/New_York:20250507T180000
DTEND;TZID=America/New_York:20250507T190000
DTSTAMP:20260419T184814
CREATED:20250307T164855Z
LAST-MODIFIED:20250418T143913Z
UID:10000153-1746640800-1746644400@www.vpcc.edu
SUMMARY:Transition Workshop
DESCRIPTION:Transition Workshops \nFor graduating dual enrolled high school seniors \nPlease join us for an important info session to learn how to transition from dual enrolled high school student to college student status. \nWHY? \n\nTo be able to declare a program of study at VPCC\nTo be eligible for financial aid at VPCC\nTo be assigned an academic advisor at VPCC\nTo be able to self-register for future classes!\nTo learn about VPCC scholarships\, programs and resources!\n\nEven if you do not plan to continue at VPCC\, we recommend you complete the transition process! Your plans may change\, or you may return to take a summer class with us. \nZoom link: https://vccs.zoom.us/my/cgsimsmeeting \nQuestions? Email Camiel Sims\, VPCC Dual Enrollment Coordinator at simsc@vpcc.edu \nStudents\, parents/guardians and school personnel are all welcome to attend! \nVPCC Dual Enrollment
URL:https://www.vpcc.edu/event/transition-workshop/2025-05-07/
LOCATION:Zoom
CATEGORIES:General
ATTACH;FMTTYPE=image/jpeg:https://www.vpcc.edu/wp-content/uploads/2025/03/events-transition.jpg
END:VEVENT
END:VCALENDAR