BEGIN:VCALENDAR
VERSION:2.0
PRODID:-//Virginia Peninsula Community College - ECPv6.15.17//NONSGML v1.0//EN
CALSCALE:GREGORIAN
METHOD:PUBLISH
X-WR-CALNAME:Virginia Peninsula Community College
X-ORIGINAL-URL:https://www.vpcc.edu
X-WR-CALDESC:Events for Virginia Peninsula Community College
REFRESH-INTERVAL;VALUE=DURATION:PT1H
X-Robots-Tag:noindex
X-PUBLISHED-TTL:PT1H
BEGIN:VTIMEZONE
TZID:America/New_York
BEGIN:DAYLIGHT
TZOFFSETFROM:-0500
TZOFFSETTO:-0400
TZNAME:EDT
DTSTART:20240310T070000
END:DAYLIGHT
BEGIN:STANDARD
TZOFFSETFROM:-0400
TZOFFSETTO:-0500
TZNAME:EST
DTSTART:20241103T060000
END:STANDARD
BEGIN:DAYLIGHT
TZOFFSETFROM:-0500
TZOFFSETTO:-0400
TZNAME:EDT
DTSTART:20250309T070000
END:DAYLIGHT
BEGIN:STANDARD
TZOFFSETFROM:-0400
TZOFFSETTO:-0500
TZNAME:EST
DTSTART:20251102T060000
END:STANDARD
BEGIN:DAYLIGHT
TZOFFSETFROM:-0500
TZOFFSETTO:-0400
TZNAME:EDT
DTSTART:20260308T070000
END:DAYLIGHT
BEGIN:STANDARD
TZOFFSETFROM:-0400
TZOFFSETTO:-0500
TZNAME:EST
DTSTART:20261101T060000
END:STANDARD
END:VTIMEZONE
BEGIN:VTIMEZONE
TZID:UTC
BEGIN:STANDARD
TZOFFSETFROM:+0000
TZOFFSETTO:+0000
TZNAME:UTC
DTSTART:20240101T000000
END:STANDARD
END:VTIMEZONE
BEGIN:VEVENT
DTSTART;TZID=America/New_York:20250321T100000
DTEND;TZID=America/New_York:20250321T140000
DTSTAMP:20260419T154035
CREATED:20250130T183956Z
LAST-MODIFIED:20250302T182152Z
UID:10000114-1742551200-1742565600@www.vpcc.edu
SUMMARY:Spring 2025 – Nursing Program Exam – March 21
DESCRIPTION:The date to take the TEAS test for the nursing program is Friday\, March 21\, 2025. Take the next step in your nursing career! For more information contact psahhs@vpcc.edu or 757-825-2808.
URL:https://www.vpcc.edu/event/spring-2025-nursing-program-exam-march-21/
LOCATION:Virginia Peninsula Communty College\, 99 Thomas Nelson Drive\, Hampton\, VA\, 23666\, United States
CATEGORIES:General,Nursing
ATTACH;FMTTYPE=image/png:https://www.vpcc.edu/wp-content/uploads/2025/01/event-icon-healthcare.png
END:VEVENT
BEGIN:VEVENT
DTSTART;TZID=UTC:20250321T130000
DTEND;TZID=UTC:20250321T140000
DTSTAMP:20260419T154035
CREATED:20241101T192758Z
LAST-MODIFIED:20250302T182508Z
UID:10000022-1742562000-1742565600@www.vpcc.edu
SUMMARY:SGA Meeting
DESCRIPTION:SGA Meetings – Held on the first and third Fridays at 1:00 pm \nJoin the Student Government Association (SGA) meeting with the Student Senate and Executive Officers to discuss upcoming events and issues that impact Virginia Peninsula students on our campuses and within our communities. The SGA is the “Voice of the Students” so please take advantage of the opportunity to let us hear your voice! \nAll students are invited and welcome to attend! \nJoin Zoom Meeting:\nhttps://vccs.zoom.us/j/81697732476?pwd=QUJHYndxZjBvcWxFWm9CT1U0bzJJZz09\nMeeting ID: 816 9773 2476\nPasscode: 840867
URL:https://www.vpcc.edu/event/sga-meeting/2025-03-21/
LOCATION:VA
CATEGORIES:General,Student Life
ATTACH;FMTTYPE=image/jpeg:https://www.vpcc.edu/wp-content/uploads/2024/11/sga-flyer.jpg
END:VEVENT
END:VCALENDAR